BEGIN:VCALENDAR
VERSION:2.0
PRODID:-//Strategic Business Hub - ECPv6.15.20//NONSGML v1.0//EN
CALSCALE:GREGORIAN
METHOD:PUBLISH
X-WR-CALNAME:Strategic Business Hub
X-ORIGINAL-URL:https://strategicbusinesshub.com
X-WR-CALDESC:Events for Strategic Business Hub
REFRESH-INTERVAL;VALUE=DURATION:PT1H
X-Robots-Tag:noindex
X-PUBLISHED-TTL:PT1H
BEGIN:VTIMEZONE
TZID:America/New_York
BEGIN:DAYLIGHT
TZOFFSETFROM:-0500
TZOFFSETTO:-0400
TZNAME:EDT
DTSTART:20250309T070000
END:DAYLIGHT
BEGIN:STANDARD
TZOFFSETFROM:-0400
TZOFFSETTO:-0500
TZNAME:EST
DTSTART:20251102T060000
END:STANDARD
BEGIN:DAYLIGHT
TZOFFSETFROM:-0500
TZOFFSETTO:-0400
TZNAME:EDT
DTSTART:20260308T070000
END:DAYLIGHT
BEGIN:STANDARD
TZOFFSETFROM:-0400
TZOFFSETTO:-0500
TZNAME:EST
DTSTART:20261101T060000
END:STANDARD
BEGIN:DAYLIGHT
TZOFFSETFROM:-0500
TZOFFSETTO:-0400
TZNAME:EDT
DTSTART:20270314T070000
END:DAYLIGHT
BEGIN:STANDARD
TZOFFSETFROM:-0400
TZOFFSETTO:-0500
TZNAME:EST
DTSTART:20271107T060000
END:STANDARD
END:VTIMEZONE
BEGIN:VEVENT
DTSTART;TZID=America/New_York:20260706T100000
DTEND;TZID=America/New_York:20260706T110000
DTSTAMP:20260423T210206
CREATED:20251217T184650Z
LAST-MODIFIED:20251217T184650Z
UID:1619-1783332000-1783335600@strategicbusinesshub.com
SUMMARY:Community Blog Prompt of the Month!  July 2026
DESCRIPTION:BLOG with us! \nSend your blog in at anytime this month!\n250 – 600 words – Emailed to: admin@strategicbusinesshub.com \nPLEASE include:\nYour full name\,\nBusiness name\,\nWebsite\,\nSocial media links/urls. \nAll blogs will be published – with FULL credit to you and live links to where you can be found! \nJuly’s Blog Prompt is:\nIf you were given the opportunity to live somewhere for an entire year\, all expenses paid\, where would you go and why?\n*Diana Cockle / Connect with Diana: CLICK HERE \nWhy Blog…\nSearch engine ranking: A blog can increase your chances of ranking higher in search by 434%\nBuilding trust: Blogs can help build trust with potential and existing customers.\nBe seen and have your personality shine through for connection.\nEnhance Link Building Efforts!\nPromote YOU and your brand for free.\nNurture relationships.\nBlogs can be repurposed for Social Media marketing and Newsletters. \nAny questions – please email: admin@strategicbusinesshub.com
URL:https://strategicbusinesshub.com/event/community-blog-prompt-of-the-month-july-2026/
END:VEVENT
END:VCALENDAR