BEGIN:VCALENDAR
VERSION:2.0
PRODID:-//Strategic Business Hub - ECPv6.15.20//NONSGML v1.0//EN
CALSCALE:GREGORIAN
METHOD:PUBLISH
X-ORIGINAL-URL:https://strategicbusinesshub.com
X-WR-CALDESC:Events for Strategic Business Hub
REFRESH-INTERVAL;VALUE=DURATION:PT1H
X-Robots-Tag:noindex
X-PUBLISHED-TTL:PT1H
BEGIN:VTIMEZONE
TZID:America/New_York
BEGIN:DAYLIGHT
TZOFFSETFROM:-0500
TZOFFSETTO:-0400
TZNAME:EDT
DTSTART:20250309T070000
END:DAYLIGHT
BEGIN:STANDARD
TZOFFSETFROM:-0400
TZOFFSETTO:-0500
TZNAME:EST
DTSTART:20251102T060000
END:STANDARD
BEGIN:DAYLIGHT
TZOFFSETFROM:-0500
TZOFFSETTO:-0400
TZNAME:EDT
DTSTART:20260308T070000
END:DAYLIGHT
BEGIN:STANDARD
TZOFFSETFROM:-0400
TZOFFSETTO:-0500
TZNAME:EST
DTSTART:20261101T060000
END:STANDARD
BEGIN:DAYLIGHT
TZOFFSETFROM:-0500
TZOFFSETTO:-0400
TZNAME:EDT
DTSTART:20270314T070000
END:DAYLIGHT
BEGIN:STANDARD
TZOFFSETFROM:-0400
TZOFFSETTO:-0500
TZNAME:EST
DTSTART:20271107T060000
END:STANDARD
END:VTIMEZONE
BEGIN:VEVENT
DTSTART;TZID=America/New_York:20260304T090000
DTEND;TZID=America/New_York:20260304T100000
DTSTAMP:20260423T172007
CREATED:20260216T183830Z
LAST-MODIFIED:20260216T183830Z
UID:1738-1772614800-1772618400@strategicbusinesshub.com
SUMMARY:ZOOM FREE Networking!
DESCRIPTION:Topic this week:Running and Attending Events!What are some key elements to hosting a great event?When you attend events do you have a plan/system to get the most from it?\n\nMarch Challenge: What do you want to be ‘known’ for?\nWhat legacy would you like to leave behind?\n\nNetworking and Growth!Every week a different topic of Discussion!Round Table Mastermind and sharing!\n\nOur March Sponsor is:Mandeep from Nurse Next Door!Visit their page: https://www.facebook.com/nndyorkdale\n\nZoom Link for all meetings:9 a.m. EasternZoom: https://us02web.zoom.us/j/9055151512\n\nNo Membership EVER!FREE!Not Exclusive – but Inclusive – EVERYONE is invited!Networking with a difference!Building Community!
URL:https://strategicbusinesshub.com/event/zoom-free-networking-69/
LOCATION:ZOOM Online
END:VEVENT
BEGIN:VEVENT
DTSTART;TZID=America/New_York:20260304T103000
DTEND;TZID=America/New_York:20260304T110000
DTSTAMP:20260423T172007
CREATED:20260216T183103Z
LAST-MODIFIED:20260216T183103Z
UID:1730-1772620200-1772622000@strategicbusinesshub.com
SUMMARY:Book Club - March 2026!
DESCRIPTION:Buy Back Your Time: Get Unstuck\,\nReclaim Your Freedom\, and Build Your Empire\nBy: Dan Martell \nCDN Amazon: https://amzn.to/4aWweHq \nJoin us Live in the Strategic Business Hub group EVERY Wednesday at 10:30 eastern for 20 minutes for a Facebook Live discussion on the BOOK!! \nThe Group is found here:  https://www.facebook.com/groups/strategicbusinesshub \n 
URL:https://strategicbusinesshub.com/event/book-club-march-2026/
LOCATION:Facebook LIVE
END:VEVENT
BEGIN:VEVENT
DTSTART;TZID=America/New_York:20260304T120000
DTEND;TZID=America/New_York:20260304T130000
DTSTAMP:20260423T172007
CREATED:20260216T182452Z
LAST-MODIFIED:20260216T182452Z
UID:1726-1772625600-1772629200@strategicbusinesshub.com
SUMMARY:Class!  That Book You've Been Meaning to Write!
DESCRIPTION:That Book You’ve Been Meaning to Write! \nThree Key Takeaways: \n1. Your book might already be 60% written – attendees will discover their existing blog posts\, presentations\, and client stories can become book chapters\, making the project feel less overwhelming. \n2. You don’t need to write every day to finish a book – participants will create a realistic writing schedule that fits their actual life (not an unrealistic “write daily” plan that sets them up for failure). \n3. Your “why” matters more than your outline – when attendees understand their true motivation for writing (beyond “I should”)\, they’ll have the clarity needed to keep going when writing gets hard. \nAnne McAuley Lopez – Ghostwriter and Book Coach has been writing for over 16 years! \nShe is a published author and has assisted MANY in getting their words down and read!\nHer Page: https://www.facebook.com/agencycontentwriter \nThe class is recorded if you can not be there live!\nJoin us for class and or get the recording after! \nSign up today – there is only room for 50 participants!\n$15.00
URL:https://strategicbusinesshub.com/event/class-that-book-youve-been-meaning-to-write/
LOCATION:ZOOM Online
END:VEVENT
BEGIN:VEVENT
DTSTART;TZID=America/New_York:20260310T130000
DTEND;TZID=America/New_York:20260310T150000
DTSTAMP:20260423T172008
CREATED:20260216T182711Z
LAST-MODIFIED:20260216T182711Z
UID:1728-1773147600-1773154800@strategicbusinesshub.com
SUMMARY:Barrie/Innisfil In-Person Networking!  Free to Attend!
DESCRIPTION:Join us on Tuesday March 10th\, 2026!(2nd Tuesday of every month)\n\n1 pm till 3 pm\nThe Cove Cafe on Lockhart for some networking and conversation!\nwww.facebook.com/thecovecafesandycove\n\nFREE!Introduce yourself.Bring some business cards.\nBe open to connections and collaborations.\nJoin in on the topic of discussion!Any questions please reach out!\n\n2nd Tuesday of Every Month!!!\n\nEVERYONE is very WELCOMED and all are absolutely invited!We are inclusive! NOT an exclusive group
URL:https://strategicbusinesshub.com/event/barrie-innisfil-in-person-networking-free-to-attend-11/
LOCATION:The Cove Cafe\, 902 Lockhart Road\, Innisfil\, Ontario\, L9S 4V2\, Canada
END:VEVENT
BEGIN:VEVENT
DTSTART;TZID=America/New_York:20260311T090000
DTEND;TZID=America/New_York:20260311T100000
DTSTAMP:20260423T172008
CREATED:20260216T184001Z
LAST-MODIFIED:20260216T184001Z
UID:1740-1773219600-1773223200@strategicbusinesshub.com
SUMMARY:ZOOM FREE Networking!
DESCRIPTION:Topic this week:Supporting Others!How are you showing up?How are you expressing and or experiencing support?\n\nMarch Challenge: What do you want to be ‘known’ for?\nWhat legacy would you like to leave behind?\n\nNetworking and Growth!Every week a different topic of Discussion!Round Table Mastermind and sharing!\n\nOur March Sponsor is:Mandeep from Nurse Next Door!Visit their page:https://www.facebook.com/nndyorkdale\n\nZoom Link for all meetings:9 a.m. EasternZoom: https://us02web.zoom.us/j/9055151512\n\nNo Membership EVER!FREE!Not Exclusive – but Inclusive – EVERYONE is invited!Networking with a difference!Building Community!
URL:https://strategicbusinesshub.com/event/zoom-free-networking-70/
LOCATION:ZOOM Online
END:VEVENT
BEGIN:VEVENT
DTSTART;TZID=America/New_York:20260311T103000
DTEND;TZID=America/New_York:20260311T110000
DTSTAMP:20260423T172008
CREATED:20260216T183213Z
LAST-MODIFIED:20260216T183213Z
UID:1732-1773225000-1773226800@strategicbusinesshub.com
SUMMARY:Book Club - March 2026!
DESCRIPTION:Buy Back Your Time: Get Unstuck\,\nReclaim Your Freedom\, and Build Your Empire\nBy: Dan Martell \nCDN Amazon: https://amzn.to/4aWweHq \nJoin us Live in the Strategic Business Hub group EVERY Wednesday at 10:30 eastern for 20 minutes for a Facebook Live discussion on the BOOK!! \nThe Group is found here:  https://www.facebook.com/groups/strategicbusinesshub
URL:https://strategicbusinesshub.com/event/book-club-march-2026-2/
LOCATION:Facebook LIVE
END:VEVENT
BEGIN:VEVENT
DTSTART;TZID=America/New_York:20260316T100000
DTEND;TZID=America/New_York:20260316T110000
DTSTAMP:20260423T172008
CREATED:20251217T183659Z
LAST-MODIFIED:20260216T182241Z
UID:1611-1773655200-1773658800@strategicbusinesshub.com
SUMMARY:Community Blog Prompt of the Month!  March 2026
DESCRIPTION:BLOG with us! \nSend your blog in at anytime this month!\n250 – 600 words – Emailed to: admin@strategicbusinesshub.com \nPLEASE include:\nYour full name\,\nBusiness name\,\nWebsite\,\nSocial media links/urls. \nAll blogs will be published – with FULL credit to you and live links to where you can be found! \nMarch’s Blog Prompt is:\nHave you ever outgrown a dream or vision?\n*Clare Bennett Connect with Clare: CLICK HERE \nWhy Blog…\nSearch engine ranking: A blog can increase your chances of ranking higher in search by 434%\nBuilding trust: Blogs can help build trust with potential and existing customers.\nBe seen and have your personality shine through for connection.\nEnhance Link Building Efforts!\nPromote YOU and your brand for free.\nNurture relationships.\nBlogs can be repurposed for Social Media marketing and Newsletters. \nAny questions – please email: admin@strategicbusinesshub.com
URL:https://strategicbusinesshub.com/event/community-blog-prompt-of-the-month-march-2026/
END:VEVENT
BEGIN:VEVENT
DTSTART;TZID=America/New_York:20260318T090000
DTEND;TZID=America/New_York:20260318T100000
DTSTAMP:20260423T172008
CREATED:20260216T184220Z
LAST-MODIFIED:20260216T184220Z
UID:1742-1773824400-1773828000@strategicbusinesshub.com
SUMMARY:ZOOM FREE Networking!
DESCRIPTION:Topic this week:Learning!What do you want to learn more of and or about?How do you learn best?What is next on your must learn list?\n\nMarch Challenge: What do you want to be ‘known’ for?\nWhat legacy would you like to leave behind?\n\nNetworking and Growth!Every week a different topic of Discussion!Round Table Mastermind and sharing!\n\nOur March Sponsor is:Mandeep from Nurse Next Door!Visit their page:https://www.facebook.com/nndyorkdale\n\nZoom Link for all meetings:9 a.m. EasternZoom: https://us02web.zoom.us/j/9055151512\n\nNo Membership EVER!FREE!Not Exclusive – but Inclusive – EVERYONE is invited!Networking with a difference!Building Community!
URL:https://strategicbusinesshub.com/event/zoom-free-networking-71/
LOCATION:ZOOM Online
END:VEVENT
BEGIN:VEVENT
DTSTART;TZID=America/New_York:20260318T103000
DTEND;TZID=America/New_York:20260318T110000
DTSTAMP:20260423T172008
CREATED:20260216T183316Z
LAST-MODIFIED:20260216T183316Z
UID:1734-1773829800-1773831600@strategicbusinesshub.com
SUMMARY:Book Club - March 2026!
DESCRIPTION:Buy Back Your Time: Get Unstuck\,\nReclaim Your Freedom\, and Build Your Empire\nBy: Dan Martell \nCDN Amazon: https://amzn.to/4aWweHq \nJoin us Live in the Strategic Business Hub group EVERY Wednesday at 10:30 eastern for 20 minutes for a Facebook Live discussion on the BOOK!! \nThe Group is found here:  https://www.facebook.com/groups/strategicbusinesshub
URL:https://strategicbusinesshub.com/event/book-club-march-2026-3/
LOCATION:Facebook LIVE
END:VEVENT
BEGIN:VEVENT
DTSTART;TZID=America/New_York:20260325T090000
DTEND;TZID=America/New_York:20260325T100000
DTSTAMP:20260423T172008
CREATED:20260216T184355Z
LAST-MODIFIED:20260216T184355Z
UID:1744-1774429200-1774432800@strategicbusinesshub.com
SUMMARY:ZOOM FREE Networking!  Wear Orange or a Butterfly!  Self Injury Awareness!
DESCRIPTION:Topic this week:Value Propositions!What are they?What are yours?\n\nMarch Challenge: What do you want to be ‘known’ for?\nWhat legacy would you like to leave behind?\n\nNetworking and Growth!Every week a different topic of Discussion!Round Table Mastermind and sharing!\n\nOur March Sponsor is:Mandeep from Nurse Next Door!Visit their page:https://www.facebook.com/nndyorkdale\n\nZoom Link for all meetings:9 a.m. EasternZoom: https://us02web.zoom.us/j/9055151512\n\nNo Membership EVER!FREE!Not Exclusive – but Inclusive – EVERYONE is invited!Networking with a difference!Building Community!
URL:https://strategicbusinesshub.com/event/zoom-free-networking-wear-orange-or-a-butterfly-self-injury-awareness/
LOCATION:ZOOM Online
END:VEVENT
BEGIN:VEVENT
DTSTART;TZID=America/New_York:20260325T103000
DTEND;TZID=America/New_York:20260325T110000
DTSTAMP:20260423T172008
CREATED:20260216T183425Z
LAST-MODIFIED:20260216T183425Z
UID:1736-1774434600-1774436400@strategicbusinesshub.com
SUMMARY:Book Club - March 2026!
DESCRIPTION:Buy Back Your Time: Get Unstuck\,\nReclaim Your Freedom\, and Build Your Empire\nBy: Dan Martell \nCDN Amazon: https://amzn.to/4aWweHq \nJoin us Live in the Strategic Business Hub group EVERY Wednesday at 10:30 eastern for 20 minutes for a Facebook Live discussion on the BOOK!! \nThe Group is found here:  https://www.facebook.com/groups/strategicbusinesshub
URL:https://strategicbusinesshub.com/event/book-club-march-2026-4/
LOCATION:Facebook LIVE
END:VEVENT
END:VCALENDAR