BEGIN:VCALENDAR
VERSION:2.0
PRODID:-//Strategic Business Hub - ECPv6.15.20//NONSGML v1.0//EN
CALSCALE:GREGORIAN
METHOD:PUBLISH
X-WR-CALNAME:Strategic Business Hub
X-ORIGINAL-URL:https://strategicbusinesshub.com
X-WR-CALDESC:Events for Strategic Business Hub
REFRESH-INTERVAL;VALUE=DURATION:PT1H
X-Robots-Tag:noindex
X-PUBLISHED-TTL:PT1H
BEGIN:VTIMEZONE
TZID:America/New_York
BEGIN:DAYLIGHT
TZOFFSETFROM:-0500
TZOFFSETTO:-0400
TZNAME:EDT
DTSTART:20240310T070000
END:DAYLIGHT
BEGIN:STANDARD
TZOFFSETFROM:-0400
TZOFFSETTO:-0500
TZNAME:EST
DTSTART:20241103T060000
END:STANDARD
BEGIN:DAYLIGHT
TZOFFSETFROM:-0500
TZOFFSETTO:-0400
TZNAME:EDT
DTSTART:20250309T070000
END:DAYLIGHT
BEGIN:STANDARD
TZOFFSETFROM:-0400
TZOFFSETTO:-0500
TZNAME:EST
DTSTART:20251102T060000
END:STANDARD
BEGIN:DAYLIGHT
TZOFFSETFROM:-0500
TZOFFSETTO:-0400
TZNAME:EDT
DTSTART:20260308T070000
END:DAYLIGHT
BEGIN:STANDARD
TZOFFSETFROM:-0400
TZOFFSETTO:-0500
TZNAME:EST
DTSTART:20261101T060000
END:STANDARD
END:VTIMEZONE
BEGIN:VEVENT
DTSTART;TZID=America/New_York:20250503T130000
DTEND;TZID=America/New_York:20250503T170000
DTSTAMP:20260424T131456
CREATED:20250412T200740Z
LAST-MODIFIED:20250412T200817Z
UID:1094-1746277200-1746291600@strategicbusinesshub.com
SUMMARY:May BLOGS DUE - FREE Blogging Opportunity!
DESCRIPTION:BLOG with us!\nAll blogs are due by the 1st of the month! \n250 – 600 words – Emailed to: admin@strategicbusinesshub.com \nPLEASE include your full name\, business name\, website and all social media links/urls.\nAll blogs will be published – with FULL credit to you and live links to where you can be found! \nMay’s Blog Prompt is: \nWhen it comes time to outsource some business tasks and hire—how do you\nchoose whom to hire? \nContributor of the Prompt: Luci McMonagle\nConnect with Luci: www.facebook.com/LuciMcMonagle1
URL:https://strategicbusinesshub.com/event/may-blogs-due-free-blogging-opportunity/
END:VEVENT
BEGIN:VEVENT
DTSTART;TZID=America/New_York:20250507T090000
DTEND;TZID=America/New_York:20250507T100000
DTSTAMP:20260424T131456
CREATED:20250412T201450Z
LAST-MODIFIED:20250412T201450Z
UID:1099-1746608400-1746612000@strategicbusinesshub.com
SUMMARY:ZOOM FREE Networking
DESCRIPTION:Topic this week:Local Community Involvement!How are you being a community player?How are you being seen locally?What can we get involved with locally?\n\nMay Challenge:Share a Favorite Movie or Song Title with us and why it’s one of your Favorites!\n\nNetworking and Growth!Every week a different topic of Discussion!\nRound Table Mastermind and sharing!\n\nOur May Sponsor is:Shirley Edwards from Boomer 3.0 / Life quakes\nFollow her page: www.facebook.com/boomer3coaching\n\nZoom Link:9 a.m. EasternZoom: https://us02web.zoom.us/j/9055151512Passcode: 111111\n\nNo Membership EVER!FREE!Not Exclusive – but Inclusive – EVERYONE is invited!Networking with a difference!Building Community!
URL:https://strategicbusinesshub.com/event/zoom-free-networking-34/
LOCATION:ZOOM Online
END:VEVENT
BEGIN:VEVENT
DTSTART;TZID=America/New_York:20250507T103000
DTEND;TZID=America/New_York:20250507T110000
DTSTAMP:20260424T131456
CREATED:20250412T202717Z
LAST-MODIFIED:20250416T172429Z
UID:1109-1746613800-1746615600@strategicbusinesshub.com
SUMMARY:BOOK Club Live on TikTok
DESCRIPTION:May 2025 \nPAiLS\nBy: Chris Brady \nCanadian Amazon: https://amzn.to/48aRXIg \nU.S. Amazon Link: https://amzn.to/48fP9tz \nAll books for the year are listed on:\nwww.strategicbusinesshub.com \nJoin us LIVE ON TIKTOK –\nWe will be live on Roots & Boots Intentional Livings TikTok Channel EVERY Wednesday in May at 10:30 eastern!\nhttps://www.tiktok.com/@rootsandbootssuzyrawlins \nAs Amazon Associates we may earn from qualifying purchases.
URL:https://strategicbusinesshub.com/event/book-club-live-on-tiktok-11/
LOCATION:TIKTOK LIVE
END:VEVENT
BEGIN:VEVENT
DTSTART;TZID=America/New_York:20250507T120000
DTEND;TZID=America/New_York:20250507T130000
DTSTAMP:20260424T131456
CREATED:20250412T201152Z
LAST-MODIFIED:20250412T201152Z
UID:1097-1746619200-1746622800@strategicbusinesshub.com
SUMMARY:May 60 Minute Class - USING your Personal Timeline for your Business on Facebook
DESCRIPTION:May 2025Class #5\nAttend live or get the recording!\nUsing YOUR PERSONAL timeline on Facebook for YOUR BUSINESS!\n\nThis class will be taught by: Tammy HudginThe Facebook Queen!www.facebook.com/groups/creatingyourpresence\n\n3 Takeaways:\n*Turn your personal profile into Facebooks Professional Mode and learn the tricks and tools available to you!\n*Strategy! How to work Facebook to be seen!\n*What posts work? How do we get engagement? Can I still outsource my social media using my personal timeline?\n\nThese classes are MEANT TO BE Affordable\, and accessible to you no matter where you are at in your entrepreneurial journey!\nRegister with Cheryl – team@clarkstrategies.ca $15.00 ONLY
URL:https://strategicbusinesshub.com/event/may-60-minute-class-using-your-personal-timeline-for-your-business-on-facebook/
LOCATION:ZOOM Online
END:VEVENT
BEGIN:VEVENT
DTSTART;TZID=America/New_York:20250513T130000
DTEND;TZID=America/New_York:20250513T150000
DTSTAMP:20260424T131456
CREATED:20250412T200312Z
LAST-MODIFIED:20250412T200312Z
UID:1092-1747141200-1747148400@strategicbusinesshub.com
SUMMARY:Barrie/Innisfil In-Person Networking FREE to Attend
DESCRIPTION:Join us on Tuesday May 13th\, 2025 \n1 p.m. till 3 p.m.\nThe Cove Cafe on Lockhart for some networking and conversation! \nFREE!\nIntroduce yourself.\nBring some business cards. \nBe open to connections and collaborations.\nJoin in on the topic of discussion!\nAny questions please reach out!\n2nd Tuesday of Every Month!!! \nEVERYONE is very WELCOMED and all are absolutely invited!\nWe are inclusive! NOT an exclusive group
URL:https://strategicbusinesshub.com/event/barrie-innisfil-in-person-networking-free-to-attend-8/
LOCATION:The Cove Cafe\, 902 Lockhart Road\, Innisfil\, Ontario\, L9S 4V2\, Canada
END:VEVENT
BEGIN:VEVENT
DTSTART;TZID=America/New_York:20250514T090000
DTEND;TZID=America/New_York:20250514T100000
DTSTAMP:20260424T131456
CREATED:20250412T201653Z
LAST-MODIFIED:20250412T201653Z
UID:1101-1747213200-1747216800@strategicbusinesshub.com
SUMMARY:ZOOM FREE Networking
DESCRIPTION:Topic this week:Newsletters!Should we have one?What can we include?What can we do with the ones we are receiving?\n\nMay Challenge:Share a Favorite Movie or Song Title with us and why it’s one of your Favorites!\n\nNetworking and Growth!Every week a different topic of Discussion!\nRound Table Mastermind and sharing!\n\nOur May Sponsor is:Shirley Edwards from Boomer 3.0 / Life quakesFollow her page: www.facebook.com/boomer3coaching\n\nZoom Link:9 a.m. EasternZoom: https://us02web.zoom.us/j/9055151512\nPasscode: 111111\n\nNo Membership EVER!FREE!Not Exclusive – but Inclusive – EVERYONE is invited!Networking with a difference!\nBuilding Community!
URL:https://strategicbusinesshub.com/event/zoom-free-networking-35/
LOCATION:ZOOM Online
END:VEVENT
BEGIN:VEVENT
DTSTART;TZID=America/New_York:20250514T103000
DTEND;TZID=America/New_York:20250514T110000
DTSTAMP:20260424T131456
CREATED:20250412T202944Z
LAST-MODIFIED:20250412T202944Z
UID:1111-1747218600-1747220400@strategicbusinesshub.com
SUMMARY:BOOK Club Live on TikTok
DESCRIPTION:May 2025 \nPAiLS\nBy: Chris Brady \nCanadian Amazon: https://amzn.to/48aRXIg \nU.S. Amazon Link: https://amzn.to/48fP9tz \nAll books for the year are listed on:\nwww.strategicbusinesshub.com \nJoin us LIVE ON TIKTOK –\nWe will be live on Roots & Boots Intentional Livings TikTok Channel EVERY Wednesday in May at 10:30 eastern!\nhttps://www.tiktok.com/@rootsandbootssuzyrawlins \nAs Amazon Associates we may earn from qualifying purchases.
URL:https://strategicbusinesshub.com/event/book-club-live-on-tiktok-12/
LOCATION:TIKTOK LIVE
END:VEVENT
BEGIN:VEVENT
DTSTART;TZID=America/New_York:20250521T090000
DTEND;TZID=America/New_York:20250521T100000
DTSTAMP:20260424T131456
CREATED:20250412T202041Z
LAST-MODIFIED:20250412T202041Z
UID:1103-1747818000-1747821600@strategicbusinesshub.com
SUMMARY:ZOOM FREE Networking
DESCRIPTION:Topic this week:Follow up and Follow ThruWhat is this exactly?What tasks should we be doing?What about tracking?\n\nMay Challenge:Share a Favorite Movie or Song Title with us and why it’s one of your Favorites!\n\nNetworking and Growth!Every week a different topic of Discussion!\nRound Table Mastermind and sharing!\n\nOur May Sponsor is:Shirley Edwards from Boomer 3.0 / Life quakesFollow her page: www.facebook.com/boomer3coaching\n\nZoom Link:9 a.m. EasternZoom: https://us02web.zoom.us/j/9055151512Passcode: 111111\n\nNo Membership EVER!FREE!Not Exclusive – but Inclusive – EVERYONE is invited!Networking with a difference!\nBuilding Community!
URL:https://strategicbusinesshub.com/event/zoom-free-networking-36/
LOCATION:ZOOM Online
END:VEVENT
BEGIN:VEVENT
DTSTART;TZID=America/New_York:20250521T103000
DTEND;TZID=America/New_York:20250521T110000
DTSTAMP:20260424T131456
CREATED:20250412T203145Z
LAST-MODIFIED:20250412T203145Z
UID:1113-1747823400-1747825200@strategicbusinesshub.com
SUMMARY:BOOK Club Live on TikTok
DESCRIPTION:May 2025 \nPAiLS\nBy: Chris Brady \nCanadian Amazon: https://amzn.to/48aRXIg \nU.S. Amazon Link: https://amzn.to/48fP9tz \nAll books for the year are listed on:\nwww.strategicbusinesshub.com \nJoin us LIVE ON TIKTOK –\nWe will be live on Roots & Boots Intentional Livings TikTok Channel EVERY Wednesday in May at 10:30 eastern!\nhttps://www.tiktok.com/@rootsandbootssuzyrawlins \nAs Amazon Associates we may earn from qualifying purchases.
URL:https://strategicbusinesshub.com/event/book-club-live-on-tiktok-13/
LOCATION:TIKTOK LIVE
END:VEVENT
BEGIN:VEVENT
DTSTART;TZID=America/New_York:20250528T090000
DTEND;TZID=America/New_York:20250528T100000
DTSTAMP:20260424T131456
CREATED:20250412T202243Z
LAST-MODIFIED:20250412T202301Z
UID:1106-1748422800-1748426400@strategicbusinesshub.com
SUMMARY:ZOOM FREE Networking WEAR BLUE FOR Foster Care Awareness
DESCRIPTION:Topic this week:SuccessHow do we define it?What is it we want and why?\n\nMay Challenge:Share a Favorite Movie or Song Title with us and why it’s one of your Favorites!\n\nNetworking and Growth!Every week a different topic of Discussion!\nRound Table Mastermind and sharing!\n\nOur May Sponsor is:Shirley Edwards from Boomer 3.0 / Life quakesFollow her page: www.facebook.com/boomer3coaching\n\nZoom Link:9 a.m. EasternZoom: https://us02web.zoom.us/j/9055151512Passcode: 111111\n\nNo Membership EVER!FREE!\nNot Exclusive – but Inclusive – EVERYONE is invited!Networking with a difference!Building Community!
URL:https://strategicbusinesshub.com/event/zoom-free-networking-37/
LOCATION:ZOOM Online
END:VEVENT
BEGIN:VEVENT
DTSTART;TZID=America/New_York:20250528T103000
DTEND;TZID=America/New_York:20250528T110000
DTSTAMP:20260424T131456
CREATED:20250412T203330Z
LAST-MODIFIED:20250412T203330Z
UID:1115-1748428200-1748430000@strategicbusinesshub.com
SUMMARY:BOOK Club Live on TikTok
DESCRIPTION:May 2025 \nPAiLS\nBy: Chris Brady \nCanadian Amazon: https://amzn.to/48aRXIg \nU.S. Amazon Link: https://amzn.to/48fP9tz \nAll books for the year are listed on:\nwww.strategicbusinesshub.com \nJoin us LIVE ON TIKTOK –\nWe will be live on Roots & Boots Intentional Livings TikTok Channel EVERY Wednesday in May at 10:30 eastern!\nhttps://www.tiktok.com/@rootsandbootssuzyrawlins \nAs Amazon Associates we may earn from qualifying purchases.
URL:https://strategicbusinesshub.com/event/book-club-live-on-tiktok-14/
LOCATION:TIKTOK LIVE
END:VEVENT
END:VCALENDAR