BEGIN:VCALENDAR
VERSION:2.0
PRODID:-//Strategic Business Hub - ECPv6.15.20//NONSGML v1.0//EN
CALSCALE:GREGORIAN
METHOD:PUBLISH
X-WR-CALNAME:Strategic Business Hub
X-ORIGINAL-URL:https://strategicbusinesshub.com
X-WR-CALDESC:Events for Strategic Business Hub
REFRESH-INTERVAL;VALUE=DURATION:PT1H
X-Robots-Tag:noindex
X-PUBLISHED-TTL:PT1H
BEGIN:VTIMEZONE
TZID:America/New_York
BEGIN:DAYLIGHT
TZOFFSETFROM:-0500
TZOFFSETTO:-0400
TZNAME:EDT
DTSTART:20240310T070000
END:DAYLIGHT
BEGIN:STANDARD
TZOFFSETFROM:-0400
TZOFFSETTO:-0500
TZNAME:EST
DTSTART:20241103T060000
END:STANDARD
BEGIN:DAYLIGHT
TZOFFSETFROM:-0500
TZOFFSETTO:-0400
TZNAME:EDT
DTSTART:20250309T070000
END:DAYLIGHT
BEGIN:STANDARD
TZOFFSETFROM:-0400
TZOFFSETTO:-0500
TZNAME:EST
DTSTART:20251102T060000
END:STANDARD
BEGIN:DAYLIGHT
TZOFFSETFROM:-0500
TZOFFSETTO:-0400
TZNAME:EDT
DTSTART:20260308T070000
END:DAYLIGHT
BEGIN:STANDARD
TZOFFSETFROM:-0400
TZOFFSETTO:-0500
TZNAME:EST
DTSTART:20261101T060000
END:STANDARD
END:VTIMEZONE
BEGIN:VEVENT
DTSTART;TZID=America/New_York:20250301T080000
DTEND;TZID=America/New_York:20250301T170000
DTSTAMP:20260424T164739
CREATED:20250207T173320Z
LAST-MODIFIED:20250207T173320Z
UID:973-1740816000-1740848400@strategicbusinesshub.com
SUMMARY:March Blogs DUE – FREE BLOGGING Opportunity
DESCRIPTION:Community Website: www.strategicbusinesshub.com \nBLOG with us!\nAll blogs are due by the 1st of the month!\n250 – 600 words – Emailed to: admin@strategicbusinesshub.com \nPLEASE include your full name\, business name\, website and all social media links/urls.\nAll blogs will be published – with FULL credit to you and live links to where you can be found! \nMarch’s Blog Prompt is:\nRunning your business in a way that FEELS good for you\, vs Doing what you are ‘supposed’ to do? Can we achieve balance?\nContributor of the Prompt: Clare Bennett\nConnect with Clare www.facebook.com/authenticclarebennett \nWhy Blog…\nSearch engine ranking: A blog can increase your chances of ranking higher in search by 434%\nBuilding trust: Blogs can help build trust with potential and existing customers.\nBe seen and have your personality shine through for connection.\nEnhance Link Building Efforts!\nPromote YOU and your brand for free.\nNurture relationships.\nBlogs can be repurposed for Social Media marketing and Newsletters. \nAny questions – please email: admin@strategicbusinesshub.com
URL:https://strategicbusinesshub.com/event/march-blogs-due-free-blogging-opportunity/
END:VEVENT
BEGIN:VEVENT
DTSTART;TZID=America/New_York:20250305T090000
DTEND;TZID=America/New_York:20250305T100000
DTSTAMP:20260424T164739
CREATED:20250207T171835Z
LAST-MODIFIED:20250207T171835Z
UID:963-1741165200-1741168800@strategicbusinesshub.com
SUMMARY:ZOOM FREE Networking
DESCRIPTION:Topic this week:Business Content!What content should we focus on?What content should we carry with us or have ready?What content should be created and frequency?\n\nMarch Challenge:Share a Business or Personal win of the week!\n\nNetworking and Growth!Every week a different topic of Discussion!\n\nRound Table Mastermind and sharing!\n\nOur March Sponsor is:Kimberly Clement from Travel By Destiny!\nFollow her page: https://www.facebook.com/TravelByDestinyToday\n\nZoom Link:9 a.m. EasternZoom: https://us02web.zoom.us/j/9055151512Passcode: 111111\n\nNo Membership EVER!FREE!\n\nNot Exclusive – but Inclusive – EVERYONE is invited!Networking with a difference!\nBuilding Community!
URL:https://strategicbusinesshub.com/event/zoom-free-networking-27/
LOCATION:ZOOM Online
END:VEVENT
BEGIN:VEVENT
DTSTART;TZID=America/New_York:20250305T103000
DTEND;TZID=America/New_York:20250305T110000
DTSTAMP:20260424T164739
CREATED:20250207T174506Z
LAST-MODIFIED:20250207T174506Z
UID:977-1741170600-1741172400@strategicbusinesshub.com
SUMMARY:BOOK Club Live on TikTok
DESCRIPTION:March 2025\nThe book we are reading is:\nThe Tipping Point:\nHow little things can make a big difference\nBy: Malcolm Gladwell \nCanadian Amazon: https://amzn.to/3Ywiflj \nU.S. Amazon Link: https://amzn.to/4e1hvJ8 \nAll books for the year are listed on:\nwww.strategicbusinesshub.com \nJoin us LIVE ON TIKTOK –\nWe will be live on Roots & Boots Intentional Livings TikTok Channel EVERY Wednesday in March at 10:30 eastern! \nhttps://www.tiktok.com/@rootsandbootssuzyrawlins \nAs Amazon Associates we may earn from qualifying purchases
URL:https://strategicbusinesshub.com/event/book-club-live-on-tiktok-2/
LOCATION:TIKTOK LIVE
END:VEVENT
BEGIN:VEVENT
DTSTART;TZID=America/New_York:20250305T120000
DTEND;TZID=America/New_York:20250305T130000
DTSTAMP:20260424T164739
CREATED:20250207T173628Z
LAST-MODIFIED:20250207T173628Z
UID:975-1741176000-1741179600@strategicbusinesshub.com
SUMMARY:March 60 Minute Class - A.I. - ChatGPT - AI Tools and USE!
DESCRIPTION:March 2025\nClass #3\nA.I. ChatGPT \nThis class will be taught by: Andre de Almeida\nHe is part of the Amazingly Virtual team in the U.S. and currently resides in the U.K. \n3 Takeaways:\n• AI Dos and Don’ts\n• How to write better prompts\n• AI Tools overview\, which is best for you \nThe first one is crucial for responsible and effective AI usage.\nThe second is where the audience will get the most out of AI.\nGo beyond the basics\, and the last one is a practical guide to navigating the AI landscape. \nThese classes are MEANT TO BE Affordable\, and accessible to you no matter where you are at in your entrepreneurial journey! \nGet ready for a powerful 2025! \nRegister with Cheryl – team@clarkstrategies.ca $15.00 ONLY
URL:https://strategicbusinesshub.com/event/march-60-minute-class-a-i-chatgpt-ai-tools-and-use/
LOCATION:ZOOM Online
END:VEVENT
BEGIN:VEVENT
DTSTART;TZID=America/New_York:20250311T130000
DTEND;TZID=America/New_York:20250311T150000
DTSTAMP:20260424T164739
CREATED:20250207T172956Z
LAST-MODIFIED:20250207T172956Z
UID:971-1741698000-1741705200@strategicbusinesshub.com
SUMMARY:Barrie/Innisfil In-Person Networking FREE to Attend
DESCRIPTION:Join us on Tuesday March 11th\, 2025\n1 p.m. till 3 p.m.\n\nThe Cove Cafe on Lockhart for some networking and conversation!\n\nFREE!\nIntroduce yourself.Bring some business cards.\nBe open to connections and collaborations.\nJoin in on the topic of discussion!\nAny questions please reach out!\n\n2nd Tuesday of Every Month!!!\n\nEVERYONE is very WELCOMED and all are absolutely invited!\nWe are inclusive! NOT an exclusive group.
URL:https://strategicbusinesshub.com/event/barrie-innisfil-in-person-networking-free-to-attend-6/
LOCATION:The Cove Cafe\, 902 Lockhart Road\, Innisfil\, Ontario\, L9S 4V2\, Canada
END:VEVENT
BEGIN:VEVENT
DTSTART;TZID=America/New_York:20250312T090000
DTEND;TZID=America/New_York:20250312T100000
DTSTAMP:20260424T164739
CREATED:20250207T172242Z
LAST-MODIFIED:20250207T172242Z
UID:965-1741770000-1741773600@strategicbusinesshub.com
SUMMARY:ZOOM FREE Networking
DESCRIPTION:Topic this week:\nWhat should we always have on hand?\nWhat should we have ready to email out or hand out?\nWhat questions do we get asked most often and can be ready for? \nMarch Challenge:\nShare a Business or Personal win of the week! \nNetworking and Growth!\nEvery week a different topic of Discussion!\nRound Table Mastermind and sharing! \nOur March Sponsor is:\nKimberly Clement from Travel By Destiny!\nFollow her page: https://www.facebook.com/TravelByDestinyToday \nZoom Link:\n9 a.m. Eastern\nZoom: https://us02web.zoom.us/j/9055151512\nPasscode: 111111 \nNo Membership EVER!\nFREE!\nNot Exclusive – but Inclusive – EVERYONE is invited!\nNetworking with a difference! \nBuilding Community!
URL:https://strategicbusinesshub.com/event/zoom-free-networking-28/
LOCATION:ZOOM Online
END:VEVENT
BEGIN:VEVENT
DTSTART;TZID=America/New_York:20250312T103000
DTEND;TZID=America/New_York:20250312T110000
DTSTAMP:20260424T164739
CREATED:20250207T174732Z
LAST-MODIFIED:20250207T174732Z
UID:979-1741775400-1741777200@strategicbusinesshub.com
SUMMARY:BOOK Club Live on TikTok
DESCRIPTION:March 2025\nThe book we are reading is:\nThe Tipping Point:\nHow little things can make a big difference\nBy: Malcolm Gladwell \nCanadian Amazon: https://amzn.to/3Ywiflj \nU.S. Amazon Link: https://amzn.to/4e1hvJ8 \nAll books for the year are listed on:\nwww.strategicbusinesshub.com \nJoin us LIVE ON TIKTOK –\nWe will be live on Roots & Boots Intentional Livings TikTok Channel EVERY Wednesday in March at 10:30 eastern!\nhttps://www.tiktok.com/@rootsandbootssuzyrawlins \nAs Amazon Associates we may earn from qualifying purchases
URL:https://strategicbusinesshub.com/event/book-club-live-on-tiktok-3/
LOCATION:TIKTOK LIVE
END:VEVENT
BEGIN:VEVENT
DTSTART;TZID=America/New_York:20250319T090000
DTEND;TZID=America/New_York:20250319T100000
DTSTAMP:20260424T164739
CREATED:20250207T172505Z
LAST-MODIFIED:20250207T172505Z
UID:967-1742374800-1742378400@strategicbusinesshub.com
SUMMARY:ZOOM FREE Networking
DESCRIPTION:Topic this week:\nCommunity Support!\nWhat type of support would you like or need?\nHow can we support others?\nWhat is SUPPORT and or SUPPORTIVE? \nMarch Challenge:\nShare a Business or Personal win of the week! \nNetworking and Growth!\nEvery week a different topic of Discussion!\nRound Table Mastermind and sharing! \nOur March Sponsor is:\nKimberly Clement from Travel By Destiny!\nFollow her page: https://www.facebook.com/TravelByDestinyToday \nZoom Link:\n9 a.m. Eastern\nZoom: https://us02web.zoom.us/j/9055151512\nPasscode: 111111 \nNo Membership EVER!\nFREE! \nNot Exclusive – but Inclusive – EVERYONE is invited!\nNetworking with a difference!\nBuilding Community!
URL:https://strategicbusinesshub.com/event/zoom-free-networking-29/
LOCATION:ZOOM Online
END:VEVENT
BEGIN:VEVENT
DTSTART;TZID=America/New_York:20250319T103000
DTEND;TZID=America/New_York:20250319T110000
DTSTAMP:20260424T164739
CREATED:20250207T175049Z
LAST-MODIFIED:20250207T175049Z
UID:981-1742380200-1742382000@strategicbusinesshub.com
SUMMARY:BOOK Club Live on TikTok
DESCRIPTION:March 2025\nThe book we are reading is:\nThe Tipping Point:\nHow little things can make a big difference\nBy: Malcolm Gladwell \nCanadian Amazon: https://amzn.to/3Ywiflj \nU.S. Amazon Link: https://amzn.to/4e1hvJ8 \nAll books for the year are listed on:\nwww.strategicbusinesshub.com \nJoin us LIVE ON TIKTOK –\nWe will be live on Roots & Boots Intentional Livings TikTok Channel EVERY Wednesday in March at 10:30 eastern!\nhttps://www.tiktok.com/@rootsandbootssuzyrawlins \nAs Amazon Associates we may earn from qualifying purchases
URL:https://strategicbusinesshub.com/event/book-club-live-on-tiktok-4/
LOCATION:TIKTOK LIVE
END:VEVENT
BEGIN:VEVENT
DTSTART;TZID=America/New_York:20250326T090000
DTEND;TZID=America/New_York:20250326T100000
DTSTAMP:20260424T164739
CREATED:20250207T172748Z
LAST-MODIFIED:20250207T172748Z
UID:969-1742979600-1742983200@strategicbusinesshub.com
SUMMARY:ZOOM FREE Networking – WEAR A VIBRANT COLOR – Invisible Disability Month
DESCRIPTION:Topic this week:\nWhat do we spend the most time doing daily\, weekly?\nWhat are some time saving tips you have learned?\nWhat should most of our time be spent on? \nMarch Challenge:\nShare a Business or Personal win of the week! \nNetworking and Growth!\nEvery week a different topic of Discussion!\nRound Table Mastermind and sharing! \nOur March Sponsor is:\nKimberly Clement from Travel By Destiny!\nFollow her page: https://www.facebook.com/TravelByDestinyToday \nZoom Link:\n9 a.m. Eastern\nZoom: https://us02web.zoom.us/j/9055151512\nPasscode: 111111 \nNo Membership EVER!\nFREE! \nNot Exclusive – but Inclusive – EVERYONE is invited!\nNetworking with a difference!\nBuilding Community!
URL:https://strategicbusinesshub.com/event/zoom-free-networking-wear-a-vibrant-color-invisible-disability-month/
LOCATION:ZOOM Online
END:VEVENT
BEGIN:VEVENT
DTSTART;TZID=America/New_York:20250326T103000
DTEND;TZID=America/New_York:20250326T110000
DTSTAMP:20260424T164739
CREATED:20250207T175319Z
LAST-MODIFIED:20250207T175319Z
UID:983-1742985000-1742986800@strategicbusinesshub.com
SUMMARY:BOOK Club Live on TikTok
DESCRIPTION:March 2025\nThe book we are reading is:\nThe Tipping Point:\nHow little things can make a big difference\nBy: Malcolm Gladwell \nCanadian Amazon: https://amzn.to/3Ywiflj \nU.S. Amazon Link: https://amzn.to/4e1hvJ8 \nAll books for the year are listed on:\nwww.strategicbusinesshub.com \nJoin us LIVE ON TIKTOK –\nWe will be live on Roots & Boots Intentional Livings TikTok Channel EVERY Wednesday in March at 10:30 eastern!\nhttps://www.tiktok.com/@rootsandbootssuzyrawlins \nAs Amazon Associates we may earn from qualifying purchases
URL:https://strategicbusinesshub.com/event/book-club-live-on-tiktok-5/
LOCATION:TIKTOK LIVE
END:VEVENT
END:VCALENDAR