BEGIN:VCALENDAR
VERSION:2.0
PRODID:-//Strategic Business Hub - ECPv6.15.20//NONSGML v1.0//EN
CALSCALE:GREGORIAN
METHOD:PUBLISH
X-WR-CALNAME:Strategic Business Hub
X-ORIGINAL-URL:https://strategicbusinesshub.com
X-WR-CALDESC:Events for Strategic Business Hub
REFRESH-INTERVAL;VALUE=DURATION:PT1H
X-Robots-Tag:noindex
X-PUBLISHED-TTL:PT1H
BEGIN:VTIMEZONE
TZID:America/New_York
BEGIN:DAYLIGHT
TZOFFSETFROM:-0500
TZOFFSETTO:-0400
TZNAME:EDT
DTSTART:20240310T070000
END:DAYLIGHT
BEGIN:STANDARD
TZOFFSETFROM:-0400
TZOFFSETTO:-0500
TZNAME:EST
DTSTART:20241103T060000
END:STANDARD
BEGIN:DAYLIGHT
TZOFFSETFROM:-0500
TZOFFSETTO:-0400
TZNAME:EDT
DTSTART:20250309T070000
END:DAYLIGHT
BEGIN:STANDARD
TZOFFSETFROM:-0400
TZOFFSETTO:-0500
TZNAME:EST
DTSTART:20251102T060000
END:STANDARD
BEGIN:DAYLIGHT
TZOFFSETFROM:-0500
TZOFFSETTO:-0400
TZNAME:EDT
DTSTART:20260308T070000
END:DAYLIGHT
BEGIN:STANDARD
TZOFFSETFROM:-0400
TZOFFSETTO:-0500
TZNAME:EST
DTSTART:20261101T060000
END:STANDARD
END:VTIMEZONE
BEGIN:VEVENT
DTSTART;TZID=America/New_York:20250201T133000
DTEND;TZID=America/New_York:20250201T170000
DTSTAMP:20260424T182052
CREATED:20250117T212933Z
LAST-MODIFIED:20250117T212933Z
UID:956-1738416600-1738429200@strategicbusinesshub.com
SUMMARY:FEBRUARY Blogs DUE - FREE BLOGGING Opportunity
DESCRIPTION:BLOG with us!\nBLOG PAGE\nAll blogs are due by the 1st of the month! \n250 – 600 words – Emailed to: admin@strategicbusinesshub.com \nPLEASE include:\nyour full name\,\nbusiness name\,\nwebsite and all social media links/urls. \nAll blogs will be published – with FULL credit to you and live links to where you can be found! \nFebruary’s Blog Prompt is:\nWhat is your favorite quote and why does it inspire you?\nContributor of the Prompt: Wil Becker \nConnect with Wil www.facebook.com/ir0nw1l \nWhy Blog… \nSearch engine ranking: A blog can increase your chances of ranking higher in search by 434%\nBuilding trust: Blogs can help build trust with potential and existing customers.\nBe seen and have your personality shine through for connection.\nEnhance Link Building Efforts!\nPromote YOU and your brand for free.\nNurture relationships.\nBlogs can be repurposed for Social Media marketing and Newsletters. \nAny questions – please email: admin@strategicbusinesshub.com
URL:https://strategicbusinesshub.com/event/february-blogs-due-free-blogging-opportunity/
END:VEVENT
BEGIN:VEVENT
DTSTART;TZID=America/New_York:20250205T090000
DTEND;TZID=America/New_York:20250205T103000
DTSTAMP:20260424T182052
CREATED:20250117T211543Z
LAST-MODIFIED:20250117T211543Z
UID:948-1738746000-1738751400@strategicbusinesshub.com
SUMMARY:ZOOM FREE Networking
DESCRIPTION:Topic this week:\nAsking questions!\nWhat questions should we ask others to engage?\nWhat questions can we ask to qualify leads?\nWhat questions show interest and build connection?\nWhat questions help us grow? \nFebruary Challenge:\nShare one aspect of being a business owner/entrepreneur that you LOVE! \nNetworking and Growth! \nEvery week a different topic of Discussion!\nRound Table Mastermind and sharing! \nOur February Sponsor is:\nSuzy Rawlins of Roots & Boots Intentional Living! \nConnect with Suzy here:\nhttps://www.facebook.com/RBIntentionalLiving \nCompany.\nFollow her page: https://www.facebook.com/RootsAndBootsIntentionalLiving \nZoom Link:\n9 a.m. Eastern\nZoom: https://us02web.zoom.us/j/9055151512\nPasscode: 111111 \nNo Membership EVER!\nFREE! \nNot Exclusive – but Inclusive – EVERYONE is invited!\nNetworking with a difference! \nBuilding Community!
URL:https://strategicbusinesshub.com/event/zoom-free-networking-24/
LOCATION:ZOOM Online
END:VEVENT
BEGIN:VEVENT
DTSTART;TZID=America/New_York:20250205T103000
DTEND;TZID=America/New_York:20250205T110000
DTSTAMP:20260424T182052
CREATED:20250117T205205Z
LAST-MODIFIED:20250117T205205Z
UID:936-1738751400-1738753200@strategicbusinesshub.com
SUMMARY:BOOK Club on TikTok Live
DESCRIPTION:Join Cheryl and Suzy as they go LIVE on TikTok to discuss the book of the month! \nFebruary 2025 \nWe are currently reading: \nThe Monk Who Sold His Ferrari:\nA Spiritual Fable about Fulfilling your dreams and reaching your destiny.\nBy: Robin Sharma \nCanadian Amazon: https://amzn.to/3NwCx7K \nU.S. Amazon Link: https://amzn.to/48lbPc3 \nFebruary we are meeting on Cheryl Clark Strategies Channel \nLIVE stream: https://www.tiktok.com/@clarkstrategies \nJoin us live.. grow your reach and exposure on TikTok with us!
URL:https://strategicbusinesshub.com/event/book-club-on-tiktok-live-22/
LOCATION:TIKTOK LIVE
END:VEVENT
BEGIN:VEVENT
DTSTART;TZID=America/New_York:20250205T120000
DTEND;TZID=America/New_York:20250205T130000
DTSTAMP:20260424T182052
CREATED:20250117T204522Z
LAST-MODIFIED:20250117T205351Z
UID:932-1738756800-1738760400@strategicbusinesshub.com
SUMMARY:February 60 Minute Class - REELS!  Why you need to be incorporating this into your business approach and how!
DESCRIPTION:February 2025\nClass #2 \nREELS! Why you need to be incorporating this into your business approach and how! \nThis class will be taught by: Sandy Latour\nhttps://www.facebook.com/sandylatour \nShe has been in Direct sales for a very long time and her team now does over to 2 million dollars a year in sales. Read that again! \nSandy is also very VERY active in ensuring her own sales are on point! \nHer use of TikTok *video and reels has absolutely BOOSTED HER BUSINESS! \nAn introvert – with:\n60K followers on TikTok channels\n58k on Facebook\n12k on Instagram \n3 Takeaways:\n* An overview of what reels are and WHY you should be incorporating them into your BUSINESS Approach\n* How to get started!\n* What to expect! \nThese classes are MEANT TO BE Affordable\, and accessible to you no matter where you are at in your entrepreneurial journey!\nGet ready for a powerful 2025! \nRegister with Cheryl – team@clarkstrategies.ca $15.00 ONLY
URL:https://strategicbusinesshub.com/event/february-60-minute-class-reels-why-you-need-to-be-incorporating-this-into-your-business-approach-and-how/
LOCATION:ZOOM Online
END:VEVENT
BEGIN:VEVENT
DTSTART;TZID=America/New_York:20250211T130000
DTEND;TZID=America/New_York:20250211T150000
DTSTAMP:20260424T182052
CREATED:20250117T210803Z
LAST-MODIFIED:20250117T210803Z
UID:946-1739278800-1739286000@strategicbusinesshub.com
SUMMARY:Barrie/Innisfil In-Person Networking FREE to Attend
DESCRIPTION:Join us on Tuesday February 11th\, 2025 \n1 p.m. till 3 p.m. \nThe Cove Cafe on Lockhart for some networking and conversation! \nFREE! \nIntroduce yourself.\nBring some business cards. \nBe open to connections and collaborations.\nJoin in on the topic of discussion! \nAny questions please reach out! \n2nd Tuesday of Every Month!!!\nEVERYONE is very WELCOMED and all are absolutely invited!\nWe are inclusive! NOT an exclusive group.
URL:https://strategicbusinesshub.com/event/barrie-innisfil-in-person-networking-free-to-attend-5/
LOCATION:The Cove Cafe\, 902 Lockhart Road\, Innisfil\, Ontario\, L9S 4V2\, Canada
END:VEVENT
BEGIN:VEVENT
DTSTART;TZID=America/New_York:20250212T090000
DTEND;TZID=America/New_York:20250212T103000
DTSTAMP:20260424T182052
CREATED:20250117T211829Z
LAST-MODIFIED:20250117T211829Z
UID:950-1739350800-1739356200@strategicbusinesshub.com
SUMMARY:ZOOM FREE Networking
DESCRIPTION:Topic this week: \nClient Appreciation!\nWhat warrants the showing of client love?\nWhat are some ideas on how? \nFebruary Challenge:\nShare one aspect of being a business owner/entrepreneur that you LOVE! \nNetworking and Growth! \nEvery week a different topic of Discussion!\nRound Table Mastermind and sharing! \nOur February Sponsor is:\nSuzy Rawlins of Roots & Boots Intentional Living! \nConnect with Suzy here:\nhttps://www.facebook.com/RBIntentionalLiving \nCompany.\nFollow her page: https://www.facebook.com/RootsAndBootsIntentionalLiving \nZoom Link:\n9 a.m. Eastern\nZoom: https://us02web.zoom.us/j/9055151512\nPasscode: 111111 \nNo Membership EVER!\nFREE!\nNot Exclusive – but Inclusive – EVERYONE is invited! \nNetworking with a difference!\nBuilding Community!
URL:https://strategicbusinesshub.com/event/zoom-free-networking-25/
LOCATION:ZOOM Online
END:VEVENT
BEGIN:VEVENT
DTSTART;TZID=America/New_York:20250212T103000
DTEND;TZID=America/New_York:20250212T110000
DTSTAMP:20260424T182052
CREATED:20250117T205550Z
LAST-MODIFIED:20250117T205550Z
UID:940-1739356200-1739358000@strategicbusinesshub.com
SUMMARY:BOOK Club Live on TikTok
DESCRIPTION:Join Cheryl and Suzy as they go LIVE on TikTok to discuss the book of the month! \nFebruary 2025 \nWe are currently reading: \nThe Monk Who Sold His Ferrari:\nA Spiritual Fable about Fulfilling your dreams and reaching your destiny.\nBy: Robin Sharma \nCanadian Amazon: https://amzn.to/3NwCx7K \nU.S. Amazon Link: https://amzn.to/48lbPc3 \nFebruary we are meeting on Cheryl Clark Strategies Channel \nLIVE stream: https://www.tiktok.com/@clarkstrategies \nJoin us live.. grow your reach and exposure on TikTok with us!
URL:https://strategicbusinesshub.com/event/book-club-live-on-tiktok/
LOCATION:TIKTOK LIVE
END:VEVENT
BEGIN:VEVENT
DTSTART;TZID=America/New_York:20250219T090000
DTEND;TZID=America/New_York:20250219T103000
DTSTAMP:20260424T182052
CREATED:20250117T212051Z
LAST-MODIFIED:20250117T212051Z
UID:952-1739955600-1739961000@strategicbusinesshub.com
SUMMARY:ZOOM FREE Networking
DESCRIPTION:Topic this week: \nMental Health as business owners!\nHow do we take care of ourselves?\nHow do we handle negative moments?\nHow do we show up our best? \nFebruary Challenge:\nShare one aspect of being a business owner/entrepreneur that you LOVE! \nNetworking and Growth! \nEvery week a different topic of Discussion!\nRound Table Mastermind and sharing! \nOur February Sponsor is:\nSuzy Rawlins of Roots & Boots Intentional Living! \nConnect with Suzy here:\nhttps://www.facebook.com/RBIntentionalLiving \nCompany.\nFollow her page: https://www.facebook.com/RootsAndBootsIntentionalLiving \nZoom Link:\n9 a.m. Eastern\nZoom: https://us02web.zoom.us/j/9055151512\nPasscode: 111111 \nNo Membership EVER!\nFREE! \nNot Exclusive – but Inclusive – EVERYONE is invited!\nNetworking with a difference! \nBuilding Community!
URL:https://strategicbusinesshub.com/event/zoom-free-networking-26/
LOCATION:ZOOM Online
END:VEVENT
BEGIN:VEVENT
DTSTART;TZID=America/New_York:20250219T103000
DTEND;TZID=America/New_York:20250219T110000
DTSTAMP:20260424T182052
CREATED:20250117T210103Z
LAST-MODIFIED:20250117T210103Z
UID:942-1739961000-1739962800@strategicbusinesshub.com
SUMMARY:BOOK Club on TikTok Live
DESCRIPTION:Join Cheryl and Suzy as they go LIVE on TikTok to discuss the book of the month! \nFebruary 2025 \nWe are currently reading: \nThe Monk Who Sold His Ferrari:\nA Spiritual Fable about Fulfilling your dreams and reaching your destiny.\nBy: Robin Sharma \nCanadian Amazon: https://amzn.to/3NwCx7K \nU.S. Amazon Link: https://amzn.to/48lbPc3 \nFebruary we are meeting on Cheryl Clark Strategies Channel \nLIVE stream: https://www.tiktok.com/@clarkstrategies \nJoin us live.. grow your reach and exposure on TikTok with us!
URL:https://strategicbusinesshub.com/event/book-club-on-tiktok-live-23/
LOCATION:TIKTOK LIVE
END:VEVENT
BEGIN:VEVENT
DTSTART;TZID=America/New_York:20250226T090000
DTEND;TZID=America/New_York:20250226T103000
DTSTAMP:20260424T182052
CREATED:20250117T212426Z
LAST-MODIFIED:20250117T212426Z
UID:954-1740560400-1740565800@strategicbusinesshub.com
SUMMARY:ZOOM FREE Networking - Wear GREEN - National Eating Disorders Awareness
DESCRIPTION:Topic this week: \nSetting and having boundaries seen and understood!\nHow do we share our boundaries?\nHow do we ensure they are seen and followed?\nWhat are some important boundaries? \nFebruary Challenge:\nShare one aspect of being a business owner/entrepreneur that you LOVE! \nNetworking and Growth! \nEvery week a different topic of Discussion!\nRound Table Mastermind and sharing! \nOur February Sponsor is:\nSuzy Rawlins of Roots & Boots Intentional Living! \nConnect with Suzy here:\nhttps://www.facebook.com/RBIntentionalLiving \nCompany.\nFollow her page: https://www.facebook.com/RootsAndBootsIntentionalLiving \nZoom Link:\n9 a.m. Eastern\nZoom: https://us02web.zoom.us/j/9055151512\nPasscode: 111111 \nNo Membership EVER!\nFREE! \nNot Exclusive – but Inclusive – EVERYONE is invited!\nNetworking with a difference! \nBuilding Community!
URL:https://strategicbusinesshub.com/event/zoom-free-networking-wear-green-national-eating-disorders-awareness/
LOCATION:ZOOM Online
END:VEVENT
BEGIN:VEVENT
DTSTART;TZID=America/New_York:20250226T103000
DTEND;TZID=America/New_York:20250226T110000
DTSTAMP:20260424T182052
CREATED:20250117T210350Z
LAST-MODIFIED:20250117T210350Z
UID:944-1740565800-1740567600@strategicbusinesshub.com
SUMMARY:BOOK Club on TikTok Live
DESCRIPTION:Join Cheryl and Suzy as they go LIVE on TikTok to discuss the book of the month! \nFebruary 2025 \nWe are currently reading: \nThe Monk Who Sold His Ferrari:\nA Spiritual Fable about Fulfilling your dreams and reaching your destiny.\nBy: Robin Sharma \nCanadian Amazon: https://amzn.to/3NwCx7K \nU.S. Amazon Link: https://amzn.to/48lbPc3 \nFebruary we are meeting on Cheryl Clark Strategies Channel \nLIVE stream: https://www.tiktok.com/@clarkstrategies \nJoin us live.. grow your reach and exposure on TikTok with us!
URL:https://strategicbusinesshub.com/event/book-club-on-tiktok-live-24/
LOCATION:TIKTOK LIVE
END:VEVENT
END:VCALENDAR