BEGIN:VCALENDAR
VERSION:2.0
PRODID:-//Strategic Business Hub - ECPv6.15.20//NONSGML v1.0//EN
CALSCALE:GREGORIAN
METHOD:PUBLISH
X-WR-CALNAME:Strategic Business Hub
X-ORIGINAL-URL:https://strategicbusinesshub.com
X-WR-CALDESC:Events for Strategic Business Hub
REFRESH-INTERVAL;VALUE=DURATION:PT1H
X-Robots-Tag:noindex
X-PUBLISHED-TTL:PT1H
BEGIN:VTIMEZONE
TZID:America/New_York
BEGIN:DAYLIGHT
TZOFFSETFROM:-0500
TZOFFSETTO:-0400
TZNAME:EDT
DTSTART:20240310T070000
END:DAYLIGHT
BEGIN:STANDARD
TZOFFSETFROM:-0400
TZOFFSETTO:-0500
TZNAME:EST
DTSTART:20241103T060000
END:STANDARD
BEGIN:DAYLIGHT
TZOFFSETFROM:-0500
TZOFFSETTO:-0400
TZNAME:EDT
DTSTART:20250309T070000
END:DAYLIGHT
BEGIN:STANDARD
TZOFFSETFROM:-0400
TZOFFSETTO:-0500
TZNAME:EST
DTSTART:20251102T060000
END:STANDARD
BEGIN:DAYLIGHT
TZOFFSETFROM:-0500
TZOFFSETTO:-0400
TZNAME:EDT
DTSTART:20260308T070000
END:DAYLIGHT
BEGIN:STANDARD
TZOFFSETFROM:-0400
TZOFFSETTO:-0500
TZNAME:EST
DTSTART:20261101T060000
END:STANDARD
END:VTIMEZONE
BEGIN:VEVENT
DTSTART;TZID=America/New_York:20250108T090000
DTEND;TZID=America/New_York:20250108T103000
DTSTAMP:20260424T195325
CREATED:20241215T220639Z
LAST-MODIFIED:20241215T220848Z
UID:862-1736326800-1736332200@strategicbusinesshub.com
SUMMARY:ZOOM FREE Networking
DESCRIPTION:Topic this week:Strategic Planning!What is it?What are the steps?Is it important?\n\nJanuary Challenge:Share a quote! Share why you picked that quote or what it means to you!\n\nNetworking and Growth!Every week a different topic of Discussion!\n\nRound Table Mastermind and sharing!\n\nOur January Sponsor is:Angela Woppman owner of Afterburn Workouts!\nConnect with Angela here:https://www.facebook.com/awoppman\n\nCompany.Follow her page: https://www.facebook.com/aftrburnworkouts\n\nZoom Link:\n9 a.m. EasternZoom: https://us02web.zoom.us/j/9055151512Passcode: 111111\n\nNo Membership EVER!FREE!\nNot Exclusive – but Inclusive – EVERYONE is invited!Networking with a difference!\n\nBuilding Community!
URL:https://strategicbusinesshub.com/event/zoom-free-networking-21/
LOCATION:ZOOM Online
END:VEVENT
BEGIN:VEVENT
DTSTART;TZID=America/New_York:20250108T103000
DTEND;TZID=America/New_York:20250108T110000
DTSTAMP:20260424T195325
CREATED:20241215T223958Z
LAST-MODIFIED:20241215T223958Z
UID:871-1736332200-1736334000@strategicbusinesshub.com
SUMMARY:BOOK Club on TikTok Live
DESCRIPTION:Join Cheryl and Suzy as they go LIVE on TikTok to discuss the book of the month! \nJanuary 2025 \nWe are currently reading: \nTraction – Get a grip on your business.\nBy: Gino Wickman \nCanadian Amazon: https://amzn.to/3Ag68zf \nU.S. Amazon Link: https://amzn.to/4he2lmP \nJanuary we are meeting on Suzy’s Roots & Boots Channel \nLIVE stream: https://www.tiktok.com/@rootsandbootssuzyrawlins \nJoin us live.. grow your reach and exposure on TikTok with us!
URL:https://strategicbusinesshub.com/event/book-club-on-tiktok-live-18/
LOCATION:TIKTOK LIVE
END:VEVENT
BEGIN:VEVENT
DTSTART;TZID=America/New_York:20250108T120000
DTEND;TZID=America/New_York:20250108T130000
DTSTAMP:20260424T195325
CREATED:20241215T225348Z
LAST-MODIFIED:20241215T225348Z
UID:881-1736337600-1736341200@strategicbusinesshub.com
SUMMARY:January 60 Minute Class - A.I. How to use AI in your business as a Neurodivergent Entrepreneur
DESCRIPTION:January 2025\nClass #1\nA.I. Using A.I. for more than just word flow! \nHow to Use AI in Your Business as a Neurodivergent Entrepreneur \nThis class will be taught by: Eden Rookstool\nhttps://www.facebook.com/edenrookstool \nEden is an AI Consultant for ADHD/autistic biz owners!\nHer class will be worth the hour time investment! \n3 Takeaways:\n** Simplify and Streamline Your Business Processes: Learn how to use AI as an accessibility tool to automate repetitive tasks\, reduce overwhelm\, and free up mental space\, enabling neurodivergent entrepreneurs to focus on their creativity and strategic growth. \n**Boost Productivity While Honoring Your Unique Needs: Discover AI tools that align with your work style\, helping you stay consistent and productive without the burnout often experienced by neurodivergent entrepreneurs. \n**Leverage AI for Personalized Support: Explore how AI can act as a virtual assistant\, helping neurodivergent entrepreneurs stay organized\, meet deadlines\, and manage their businesses with greater ease. \nThese classes are MEANT TO BE Affordable\, and accessible to you no matter where you are at in your entrepreneurial journey!\nGet ready for a powerful 2025! \nRegister with Cheryl – team@clarkstrategies.ca $15.00 ONLY
URL:https://strategicbusinesshub.com/event/january-60-minute-class-a-i-how-to-use-ai-in-your-business-as-a-neurodivergent-entrepreneur/
LOCATION:ZOOM Online
END:VEVENT
BEGIN:VEVENT
DTSTART;TZID=America/New_York:20250114T130000
DTEND;TZID=America/New_York:20250114T150000
DTSTAMP:20260424T195325
CREATED:20241215T224625Z
LAST-MODIFIED:20241215T224625Z
UID:879-1736859600-1736866800@strategicbusinesshub.com
SUMMARY:Barrie/Innisfil In-Person Networking FREE to Attend
DESCRIPTION:Join us on Tuesday January 14th\, 2025\n1 p.m. till 3 p.m. \nThe Cove Cafe on Lockhart for some networking and conversation! \nFREE!\nIntroduce yourself.\nBring some business cards.\nBe open to connections and collaborations.\nJoin in on the topic of discussion!\nAny questions please reach out! \n2nd Tuesday of Every Month!!!\nEVERYONE is very WELCOMED and all are absolutely invited!\nWe are inclusive! NOT an exclusive group.
URL:https://strategicbusinesshub.com/event/barrie-innisfil-in-person-networking-free-to-attend-4/
LOCATION:The Cove Cafe\, 902 Lockhart Road\, Innisfil\, Ontario\, L9S 4V2\, Canada
END:VEVENT
BEGIN:VEVENT
DTSTART;TZID=America/New_York:20250115T090000
DTEND;TZID=America/New_York:20250115T103000
DTSTAMP:20260424T195325
CREATED:20241215T221123Z
LAST-MODIFIED:20241215T221123Z
UID:865-1736931600-1736937000@strategicbusinesshub.com
SUMMARY:ZOOM FREE Networking
DESCRIPTION:Topic this week:Building a Referral Network!How do we?How do we use this once built?How do we participate and work it?\n\nJanuary Challenge:Share a quote! Share why you picked that quote or what it means to you!\n\nNetworking and Growth!Every week a different topic of Discussion!\n\nRound Table Mastermind and sharing!\n\nOur January Sponsor is:Angela Woppman owner of Afterburn Workouts!\nConnect with Angela here:https://www.facebook.com/awoppman\n\nCompany.Follow her page: https://www.facebook.com/aftrburnworkouts\n\nZoom Link:\n9 a.m. EasternZoom: https://us02web.zoom.us/j/9055151512Passcode: 111111\n\nNo Membership EVER!FREE!\nNot Exclusive – but Inclusive – EVERYONE is invited!Networking with a difference!\n\nBuilding Community!
URL:https://strategicbusinesshub.com/event/zoom-free-networking-22/
LOCATION:ZOOM Online
END:VEVENT
BEGIN:VEVENT
DTSTART;TZID=America/New_York:20250115T103000
DTEND;TZID=America/New_York:20250115T110000
DTSTAMP:20260424T195325
CREATED:20241215T224149Z
LAST-MODIFIED:20250112T153726Z
UID:873-1736937000-1736938800@strategicbusinesshub.com
SUMMARY:BOOK Club on TikTok Live
DESCRIPTION:Join Cheryl and Suzy as they go LIVE on TikTok to discuss the book of the month! \nJanuary 2025 \nWe are currently reading: \nTraction – Get a grip on your business.\nBy: Gino Wickman \nCanadian Amazon: https://amzn.to/3Ag68zf \nU.S. Amazon Link: https://amzn.to/4he2lmP \nJanuary we are meeting on Suzy’s Roots & Boots Channel \nLIVE stream: https://www.tiktok.com/@rootsandbootssuzyrawlins \nJoin us live.. grow your reach and exposure on TikTok with us!
URL:https://strategicbusinesshub.com/event/book-club-on-tiktok-live-19/
LOCATION:TIKTOK LIVE
END:VEVENT
BEGIN:VEVENT
DTSTART;TZID=America/New_York:20250122T090000
DTEND;TZID=America/New_York:20250122T103000
DTSTAMP:20260424T195325
CREATED:20241215T221357Z
LAST-MODIFIED:20241215T221357Z
UID:867-1737536400-1737541800@strategicbusinesshub.com
SUMMARY:ZOOM FREE Networking
DESCRIPTION:Topic this week:Procrastination!What is it we procrastinate on?Do we know why?What are ways to motivate ourselves?\n\nJanuary Challenge:Share a quote! Share why you picked that quote or what it means to you!\n\nNetworking and Growth!Every week a different topic of Discussion!\n\nRound Table Mastermind and sharing!\n\nOur January Sponsor is:Angela Woppman owner of Afterburn Workouts!\nConnect with Angela here:https://www.facebook.com/awoppman\n\nCompany.Follow her page: https://www.facebook.com/aftrburnworkouts\n\nZoom Link:\n9 a.m. EasternZoom: https://us02web.zoom.us/j/9055151512Passcode: 111111\n\nNo Membership EVER!FREE!\nNot Exclusive – but Inclusive – EVERYONE is invited!Networking with a difference!\n\nBuilding Community!
URL:https://strategicbusinesshub.com/event/zoom-free-networking-23/
LOCATION:ZOOM Online
END:VEVENT
BEGIN:VEVENT
DTSTART;TZID=America/New_York:20250122T103000
DTEND;TZID=America/New_York:20250122T110000
DTSTAMP:20260424T195325
CREATED:20241215T224323Z
LAST-MODIFIED:20250112T153749Z
UID:875-1737541800-1737543600@strategicbusinesshub.com
SUMMARY:BOOK Club on TikTok Live
DESCRIPTION:Join Cheryl and Suzy as they go LIVE on TikTok to discuss the book of the month! \nJanuary 2025 \nWe are currently reading: \nTraction – Get a grip on your business.\nBy: Gino Wickman \nCanadian Amazon: https://amzn.to/3Ag68zf \nU.S. Amazon Link: https://amzn.to/4he2lmP \nJanuary we are meeting on Suzy’s Roots & Boots Channel \nLIVE stream: https://www.tiktok.com/@rootsandbootssuzyrawlins \nJoin us live.. grow your reach and exposure on TikTok with us!
URL:https://strategicbusinesshub.com/event/book-club-on-tiktok-live-20/
LOCATION:TIKTOK LIVE
END:VEVENT
BEGIN:VEVENT
DTSTART;TZID=America/New_York:20250129T090000
DTEND;TZID=America/New_York:20250129T103000
DTSTAMP:20260424T195325
CREATED:20241215T221642Z
LAST-MODIFIED:20241215T221642Z
UID:869-1738141200-1738146600@strategicbusinesshub.com
SUMMARY:ZOOM FREE Networking - WEAR PURPLE - Domestic Violence is our cause of the month
DESCRIPTION:Cause of the month – Domestic ViolenceWear Purple.\n\nTopic this week:Budgets & FinancesDo we set budgets?Do we keep track of finances?Do we forecast our growth and expenses?Do we budget for growth?\n\n\nJanuary Challenge:Share a quote! Share why you picked that quote or what it means to you!\n\nNetworking and Growth!Every week a different topic of Discussion!\n\nRound Table Mastermind and sharing!\n\nOur January Sponsor is:Angela Woppman owner of Afterburn Workouts!\nConnect with Angela here:https://www.facebook.com/awoppman\n\nCompany.Follow her page: https://www.facebook.com/aftrburnworkouts\n\nZoom Link:\n9 a.m. EasternZoom: https://us02web.zoom.us/j/9055151512Passcode: 111111\n\nNo Membership EVER!FREE!\nNot Exclusive – but Inclusive – EVERYONE is invited!Networking with a difference!\n\nBuilding Community!
URL:https://strategicbusinesshub.com/event/zoom-free-networking-wear-purple-domestic-violence-is-our-cause-of-the-month/
LOCATION:ZOOM Online
END:VEVENT
BEGIN:VEVENT
DTSTART;TZID=America/New_York:20250129T103000
DTEND;TZID=America/New_York:20250129T110000
DTSTAMP:20260424T195325
CREATED:20241215T224449Z
LAST-MODIFIED:20250112T153810Z
UID:877-1738146600-1738148400@strategicbusinesshub.com
SUMMARY:BOOK Club on TikTok Live
DESCRIPTION:Join Cheryl and Suzy as they go LIVE on TikTok to discuss the book of the month! \nJanuary 2025 \nWe are currently reading: \nTraction – Get a grip on your business.\nBy: Gino Wickman \nCanadian Amazon: https://amzn.to/3Ag68zf \nU.S. Amazon Link: https://amzn.to/4he2lmP \nJanuary we are meeting on Suzy’s Roots & Boots Channel \nLIVE stream: https://www.tiktok.com/@rootsandbootssuzyrawlins \nJoin us live.. grow your reach and exposure on TikTok with us!
URL:https://strategicbusinesshub.com/event/book-club-on-tiktok-live-21/
LOCATION:TIKTOK LIVE
END:VEVENT
END:VCALENDAR