BEGIN:VCALENDAR
VERSION:2.0
PRODID:-//Strategic Business Hub - ECPv6.15.20//NONSGML v1.0//EN
CALSCALE:GREGORIAN
METHOD:PUBLISH
X-ORIGINAL-URL:https://strategicbusinesshub.com
X-WR-CALDESC:Events for Strategic Business Hub
REFRESH-INTERVAL;VALUE=DURATION:PT1H
X-Robots-Tag:noindex
X-PUBLISHED-TTL:PT1H
BEGIN:VTIMEZONE
TZID:America/New_York
BEGIN:DAYLIGHT
TZOFFSETFROM:-0500
TZOFFSETTO:-0400
TZNAME:EDT
DTSTART:20230312T070000
END:DAYLIGHT
BEGIN:STANDARD
TZOFFSETFROM:-0400
TZOFFSETTO:-0500
TZNAME:EST
DTSTART:20231105T060000
END:STANDARD
BEGIN:DAYLIGHT
TZOFFSETFROM:-0500
TZOFFSETTO:-0400
TZNAME:EDT
DTSTART:20240310T070000
END:DAYLIGHT
BEGIN:STANDARD
TZOFFSETFROM:-0400
TZOFFSETTO:-0500
TZNAME:EST
DTSTART:20241103T060000
END:STANDARD
BEGIN:DAYLIGHT
TZOFFSETFROM:-0500
TZOFFSETTO:-0400
TZNAME:EDT
DTSTART:20250309T070000
END:DAYLIGHT
BEGIN:STANDARD
TZOFFSETFROM:-0400
TZOFFSETTO:-0500
TZNAME:EST
DTSTART:20251102T060000
END:STANDARD
END:VTIMEZONE
BEGIN:VEVENT
DTSTART;TZID=America/New_York:20241204T090000
DTEND;TZID=America/New_York:20241204T100000
DTSTAMP:20260424T213428
CREATED:20241201T155957Z
LAST-MODIFIED:20241201T155957Z
UID:775-1733302800-1733306400@strategicbusinesshub.com
SUMMARY:ZOOM FREE Networking
DESCRIPTION:Topic this week:Intentions and Self Belief!Do you set intentions for your day?How do you work your self belief system? \nDecember Challenge:\nIf you could BUY yourself ANYTHING this month—What would you purchase for yourself? \nNetworking and Growth!\nEvery week a different topic of Discussion!\nRound Table Mastermind and sharing! \nOur December Sponsor is:\nJoetta Barber from Joettas Wellness Spot.\nShe is an independent representative of the SuperPatch Company!\nFollow her page: https://www.facebook.com/Joettaswellnessspot \nZoom Link:\n9 a.m. Eastern\nZoom: https://us02web.zoom.us/j/9055151512\nPasscode: 111111 \nNo Membership EVER!\nFREE!\nNot Exclusive – but Inclusive – EVERYONE is invited!\nNetworking with a difference!\nBuilding Community!
URL:https://strategicbusinesshub.com/event/zoom-free-networking-18/
LOCATION:ZOOM Online
END:VEVENT
BEGIN:VEVENT
DTSTART;TZID=America/New_York:20241204T103000
DTEND;TZID=America/New_York:20241204T110000
DTSTAMP:20260424T213428
CREATED:20241201T154743Z
LAST-MODIFIED:20241201T154743Z
UID:769-1733308200-1733310000@strategicbusinesshub.com
SUMMARY:BOOK Club on TikTok Live
DESCRIPTION:Join Cheryl and Suzy as they go LIVE on TikTok to discuss the book of the month! \nDecember 2024 \nWe are currently reading: \nJonathan Livingston Seagull\nBy: Richard Bach \nCDN Amazon: https://amzn.to/3QHczjj \nUS Amazon: https://amzn.to/4fPG9yT \nDecember we are meeting on Cheryl’s LIVE stream: https://www.tiktok.com/@clarkstrategies
URL:https://strategicbusinesshub.com/event/book-club-on-tiktok-live-15/
LOCATION:TIKTOK LIVE
END:VEVENT
BEGIN:VEVENT
DTSTART;TZID=America/New_York:20241204T120000
DTEND;TZID=America/New_York:20241204T130000
DTSTAMP:20260424T213428
CREATED:20241201T161242Z
LAST-MODIFIED:20241201T161345Z
UID:783-1733313600-1733317200@strategicbusinesshub.com
SUMMARY:December CLASS - YOUR Foundation for Success!
DESCRIPTION:12th Class for 2024!\n\nThis class will be taught by: Tara Self!https://www.facebook.com/tara.mcclure.3\n\nHave you met Tara? CONNECT with her!Inspiring\, driven and walks the walk!\n\nJUST IN TIME for getting ready for 2025!!!\n\nHer class will be worth the hour time investment!\n\nYour Take Away points:\n1. The foundation for success when marketing online2. Finding the right people and selling your offer3. Create scroll stopping content & leveraging Facebook groups\nThese classes are MEANT TO BE Affordable\, and accessible to you no matter where you are at in your entrepreneurial journey!\nGet ready for a powerful 2025!\n\nRegister with Cheryl – team@clarkstrategies.ca
URL:https://strategicbusinesshub.com/event/december-class-your-foundation-for-success/
LOCATION:ZOOM Online
END:VEVENT
BEGIN:VEVENT
DTSTART;TZID=America/New_York:20241210T130000
DTEND;TZID=America/New_York:20241210T150000
DTSTAMP:20260424T213428
CREATED:20241201T160631Z
LAST-MODIFIED:20241201T160631Z
UID:781-1733835600-1733842800@strategicbusinesshub.com
SUMMARY:Barrie/Innisfil In-Person Networking FREE to Attend
DESCRIPTION:Join us on Tuesday December 10th\, 2024\n1 p.m. till 3 p.m. \nThe Cove Cafe on Lockhart for some networking and conversation! \nFREE!\nIntroduce yourself.\nBring some business cards.\nBe open to connections and collaborations.\nJoin in on the topic of discussion!\nAny questions please reach out! \n2nd Tuesday of Every Month!!!\nEVERYONE is very WELCOMED and all are absolutely invited!\nWe are inclusive! NOT an exclusive group.
URL:https://strategicbusinesshub.com/event/barrie-innisfil-in-person-networking-free-to-attend-3/
LOCATION:The Cove Cafe\, 902 Lockhart Road\, Innisfil\, Ontario\, L9S 4V2\, Canada
END:VEVENT
BEGIN:VEVENT
DTSTART;TZID=America/New_York:20241211T090000
DTEND;TZID=America/New_York:20241211T100000
DTSTAMP:20260424T213428
CREATED:20241201T160153Z
LAST-MODIFIED:20241201T160153Z
UID:777-1733907600-1733911200@strategicbusinesshub.com
SUMMARY:ZOOM FREE Networking
DESCRIPTION:Topic this week:Trends!Do we follow them?Do we use them?Do we hop on them? \nDecember Challenge:\nIf you could BUY yourself ANYTHING this month—What would you purchase for yourself? \nNetworking and Growth!\nEvery week a different topic of Discussion!\nRound Table Mastermind and sharing! \nOur December Sponsor is:\nJoetta Barber from Joettas Wellness Spot.\nShe is an independent representative of the SuperPatch Company!\nFollow her page: https://www.facebook.com/Joettaswellnessspot \nZoom Link:\n9 a.m. Eastern\nZoom: https://us02web.zoom.us/j/9055151512\nPasscode: 111111 \nNo Membership EVER!\nFREE!\nNot Exclusive – but Inclusive – EVERYONE is invited!\nNetworking with a difference!\nBuilding Community!
URL:https://strategicbusinesshub.com/event/zoom-free-networking-19/
LOCATION:ZOOM Online
END:VEVENT
BEGIN:VEVENT
DTSTART;TZID=America/New_York:20241211T103000
DTEND;TZID=America/New_York:20241211T110000
DTSTAMP:20260424T213428
CREATED:20241201T155058Z
LAST-MODIFIED:20241201T155058Z
UID:771-1733913000-1733914800@strategicbusinesshub.com
SUMMARY:BOOK Club on TikTok Live
DESCRIPTION:Join Cheryl and Suzy as they go LIVE on TikTok to discuss the book of the month! \nDecember 2024 \nWe are currently reading: \nJonathan Livingston Seagull\nBy: Richard Bach \nCDN Amazon: https://amzn.to/3QHczjj \nUS Amazon: https://amzn.to/4fPG9yT \nDecember we are meeting on Cheryl’s LIVE stream: https://www.tiktok.com/@clarkstrategies
URL:https://strategicbusinesshub.com/event/book-club-on-tiktok-live-16/
LOCATION:TIKTOK LIVE
END:VEVENT
BEGIN:VEVENT
DTSTART;TZID=America/New_York:20241218T090000
DTEND;TZID=America/New_York:20241218T100000
DTSTAMP:20260424T213428
CREATED:20241201T160341Z
LAST-MODIFIED:20241201T160341Z
UID:779-1734512400-1734516000@strategicbusinesshub.com
SUMMARY:ZOOM FREE Networking
DESCRIPTION:Topic this week:What worked this past year for you and your business?A year in review….Milestone sharing! \nDecember Challenge:\nIf you could BUY yourself ANYTHING this month—What would you purchase for yourself? \nNetworking and Growth!\nEvery week a different topic of Discussion!\nRound Table Mastermind and sharing! \nOur December Sponsor is:\nJoetta Barber from Joettas Wellness Spot.\nShe is an independent representative of the SuperPatch Company!\nFollow her page: https://www.facebook.com/Joettaswellnessspot \nZoom Link:\n9 a.m. Eastern\nZoom: https://us02web.zoom.us/j/9055151512\nPasscode: 111111 \nNo Membership EVER!\nFREE!\nNot Exclusive – but Inclusive – EVERYONE is invited!\nNetworking with a difference!\nBuilding Community!
URL:https://strategicbusinesshub.com/event/zoom-free-networking-20/
LOCATION:ZOOM Online
END:VEVENT
BEGIN:VEVENT
DTSTART;TZID=America/New_York:20241218T103000
DTEND;TZID=America/New_York:20241218T110000
DTSTAMP:20260424T213428
CREATED:20241201T155240Z
LAST-MODIFIED:20241201T155240Z
UID:773-1734517800-1734519600@strategicbusinesshub.com
SUMMARY:BOOK Club on TikTok Live
DESCRIPTION:Join Cheryl and Suzy as they go LIVE on TikTok to discuss the book of the month! \nDecember 2024 \nWe are currently reading: \nJonathan Livingston Seagull\nBy: Richard Bach \nCDN Amazon: https://amzn.to/3QHczjj \nUS Amazon: https://amzn.to/4fPG9yT \nDecember we are meeting on Cheryl’s LIVE stream: https://www.tiktok.com/@clarkstrategies
URL:https://strategicbusinesshub.com/event/book-club-on-tiktok-live-17/
LOCATION:TIKTOK LIVE
END:VEVENT
BEGIN:VEVENT
DTSTART;TZID=America/New_York:20241220T110000
DTEND;TZID=America/New_York:20241220T120000
DTSTAMP:20260424T213428
CREATED:20241201T161627Z
LAST-MODIFIED:20241201T161627Z
UID:785-1734692400-1734696000@strategicbusinesshub.com
SUMMARY:FREE Speed Networking with Tara Self
DESCRIPTION:FREE SPEED\nNetworking with\nTara Self\n11 am—12 pm eastern time zone \nEmail Tara for the Link and to get registered! \ntara@taraself.com
URL:https://strategicbusinesshub.com/event/free-speed-networking-with-tara-self/
END:VEVENT
END:VCALENDAR