BEGIN:VCALENDAR
VERSION:2.0
PRODID:-//Strategic Business Hub - ECPv6.15.20//NONSGML v1.0//EN
CALSCALE:GREGORIAN
METHOD:PUBLISH
X-WR-CALNAME:Strategic Business Hub
X-ORIGINAL-URL:https://strategicbusinesshub.com
X-WR-CALDESC:Events for Strategic Business Hub
REFRESH-INTERVAL;VALUE=DURATION:PT1H
X-Robots-Tag:noindex
X-PUBLISHED-TTL:PT1H
BEGIN:VTIMEZONE
TZID:America/New_York
BEGIN:DAYLIGHT
TZOFFSETFROM:-0500
TZOFFSETTO:-0400
TZNAME:EDT
DTSTART:20230312T070000
END:DAYLIGHT
BEGIN:STANDARD
TZOFFSETFROM:-0400
TZOFFSETTO:-0500
TZNAME:EST
DTSTART:20231105T060000
END:STANDARD
BEGIN:DAYLIGHT
TZOFFSETFROM:-0500
TZOFFSETTO:-0400
TZNAME:EDT
DTSTART:20240310T070000
END:DAYLIGHT
BEGIN:STANDARD
TZOFFSETFROM:-0400
TZOFFSETTO:-0500
TZNAME:EST
DTSTART:20241103T060000
END:STANDARD
BEGIN:DAYLIGHT
TZOFFSETFROM:-0500
TZOFFSETTO:-0400
TZNAME:EDT
DTSTART:20250309T070000
END:DAYLIGHT
BEGIN:STANDARD
TZOFFSETFROM:-0400
TZOFFSETTO:-0500
TZNAME:EST
DTSTART:20251102T060000
END:STANDARD
END:VTIMEZONE
BEGIN:VEVENT
DTSTART;TZID=America/New_York:20240807T090000
DTEND;TZID=America/New_York:20240807T100000
DTSTAMP:20260425T040611
CREATED:20240710T225227Z
LAST-MODIFIED:20240710T225227Z
UID:139-1723021200-1723024800@strategicbusinesshub.com
SUMMARY:ZOOM Free Networking
DESCRIPTION:Topic this week:\nSUPPORTHow do you feel supported?How are you supporting others?What are some acts of support?\n\nShare who you are and what you do!\n\n\nAugust Challenge:Share a FALL marketing message with us!\n\n\nZoom Link:\n\n9 a.m. Eastern\nZoom: https://us02web.zoom.us/j/9055151512\nPasscode: 111111 \nOur Sponsor for August is:  Angela Woppman from Afterburn Workouts!  www.facebook.com/aftrburnworkouts
URL:https://strategicbusinesshub.com/event/zoom-free-networking-5/
END:VEVENT
BEGIN:VEVENT
DTSTART;TZID=America/New_York:20240807T103000
DTEND;TZID=America/New_York:20240807T110000
DTSTAMP:20260425T040611
CREATED:20240715T212546Z
LAST-MODIFIED:20240715T212546Z
UID:214-1723026600-1723028400@strategicbusinesshub.com
SUMMARY:Book Club on TikTok Live
DESCRIPTION:Join Cheryl and Suzy as they go LIVE on TikTok to discuss the book of the month! \nAugust 2024 \nAugust (1st—29th)\nThe Greatest Mindset – Lewis Howes\nCanadian Amazon:  https://amzn.to/3QZtkYk\nUS Amazon: https://amzn.to/3RYsF9r \nAugust we are meeting on Cheryl’s LIVE stream:  www.tiktok.com/@clarkstrategies \nLet us know you may be joining us so we let you in!   Grow on this platform with us!!
URL:https://strategicbusinesshub.com/event/book-club-on-tiktok-live/
END:VEVENT
BEGIN:VEVENT
DTSTART;TZID=America/New_York:20240807T120000
DTEND;TZID=America/New_York:20240807T130000
DTSTAMP:20260425T040611
CREATED:20240707T220305Z
LAST-MODIFIED:20240707T220305Z
UID:130-1723032000-1723035600@strategicbusinesshub.com
SUMMARY:Class - Facebook\, you and your business
DESCRIPTION:8th Class for 2024!!\n\nSo excited to have TAMMY HUDGIN the Facebook GURU with us for this class. Tammy has taught 1 to 2 classes for us every year and we always leave with actionable items!\n\nhttps://www.facebook.com/tammyhudgincreating\n\nTammy is a great teacher and will for sure open up the floor for Q&A\n\nSince Facebook is an ever-changing Platform plan on attending and hearing UP TO DATE relevant information in regard to your social media presence and business representation.\n\nHave a question? Email us:  admin@strategicbusinesshub.com\n\n(IF you can’t be there live to ask your question – we will ask it for you and if you are registered you will get the YouTube Link of the recording.)\n\nThe bottom line is – you are on Facebook!You want your business to grow!\nJoin us for this class and be ready to implement tips and tricks immediately that are sure to make an impact on what you are doing now!\nWorkshop August 7th\, 2024 – Wednesday 12:00pm ET60 minute class.\n$15.00 to attend live or have full access to the recording!!!Please email:  admin@strategicbusinesshub.com 
URL:https://strategicbusinesshub.com/event/class-facebook-you-and-your-business/
END:VEVENT
BEGIN:VEVENT
DTSTART;TZID=America/New_York:20240813T130000
DTEND;TZID=America/New_York:20240813T150000
DTSTAMP:20260425T040611
CREATED:20240715T211111Z
LAST-MODIFIED:20240715T211111Z
UID:209-1723554000-1723561200@strategicbusinesshub.com
SUMMARY:Barrie/Innisfil In-Person Networking FREE
DESCRIPTION:Join us on Tuesday August 13th\n1 p.m. till 3 p.m.\n\nThe Cove Cafe on Lockhart for some networking and conversation!\n\nFREE!Introduce yourself.\nBring some business cards.Be open to connections and collaborations.\n\nJoin in on the topic of discussion!\n\nThis Months topic (THANK you to Julie Rose)\nWho do you follow?Who do you listen to on Podcasts? Social Media etc…Share something about them… Share what value they bring…Share why you follow them!\n\nAny questions please reach admin@strategicbusinesshub.com
URL:https://strategicbusinesshub.com/event/barrie-innisfil-in-person-networking-free/
LOCATION:The Cove Cafe\, 902 Lockhart Road\, Innisfil\, Ontario\, L9S 4V2\, Canada
END:VEVENT
BEGIN:VEVENT
DTSTART;TZID=America/New_York:20240814T090000
DTEND;TZID=America/New_York:20240814T100000
DTSTAMP:20260425T040611
CREATED:20240715T205959Z
LAST-MODIFIED:20240728T195009Z
UID:202-1723626000-1723629600@strategicbusinesshub.com
SUMMARY:ZOOM Free Networking
DESCRIPTION:Topic this week:\nPLANNINGStrategic Planning – what does that consist of?How do you plan for next year?How do you plan for emergency?How do you plan for holidays?\n\nShare who you are and what you do!\n\n\nAugust Challenge:Share a FALL marketing message with us!\n\n\nZoom Link:\n\n9 a.m. Eastern\nZoom: https://us02web.zoom.us/j/9055151512\nPasscode: 111111 \nOur Sponsor for August is:  Angela Woppman from Afterburn Workouts!  www.facebook.com/aftrburnworkouts
URL:https://strategicbusinesshub.com/event/zoom-free-networking-6/
END:VEVENT
BEGIN:VEVENT
DTSTART;TZID=America/New_York:20240814T103000
DTEND;TZID=America/New_York:20240814T110000
DTSTAMP:20260425T040611
CREATED:20240715T212733Z
LAST-MODIFIED:20240715T212733Z
UID:216-1723631400-1723633200@strategicbusinesshub.com
SUMMARY:Book Club on TikTok Live
DESCRIPTION:Join Cheryl and Suzy as they go LIVE on TikTok to discuss the book of the month! \nAugust 2024 \nAugust (1st—29th)\nThe Greatest Mindset – Lewis Howes\nCanadian Amazon:  https://amzn.to/3QZtkYk\nUS Amazon: https://amzn.to/3RYsF9r \nAugust we are meeting on Cheryl’s LIVE stream:  www.tiktok.com/@clarkstrategies \nLet us know you may be joining us so we let you in!   Grow on this platform with us!!
URL:https://strategicbusinesshub.com/event/book-club-on-tiktok-live-2/
END:VEVENT
BEGIN:VEVENT
DTSTART;TZID=America/New_York:20240821T090000
DTEND;TZID=America/New_York:20240821T100000
DTSTAMP:20260425T040611
CREATED:20240715T210218Z
LAST-MODIFIED:20240715T210218Z
UID:204-1724230800-1724234400@strategicbusinesshub.com
SUMMARY:ZOOM Free Networking
DESCRIPTION:Topic this week:\nCONTACTSHow do you track your contacts?What data do you capture?How are you making contact?What methods are you using to connect?\n\nShare who you are and what you do!\n\n\nAugust Challenge:Share a FALL marketing message with us!\n\n\nZoom Link:\n\n9 a.m. Eastern\nZoom: https://us02web.zoom.us/j/9055151512\nPasscode: 111111 \nOur Sponsor for August is:  Angela Woppman from Afterburn Workouts!  www.facebook.com/aftrburnworkouts
URL:https://strategicbusinesshub.com/event/zoom-free-networking-7/
END:VEVENT
BEGIN:VEVENT
DTSTART;TZID=America/New_York:20240821T103000
DTEND;TZID=America/New_York:20240821T110000
DTSTAMP:20260425T040611
CREATED:20240715T213330Z
LAST-MODIFIED:20240715T213330Z
UID:218-1724236200-1724238000@strategicbusinesshub.com
SUMMARY:Book Club on Tik Tok Live
DESCRIPTION:Join Cheryl and Suzy as they go LIVE on TikTok to discuss the book of the month! \nAugust 2024 \nAugust (1st—29th)\nThe Greatest Mindset – Lewis Howes\nCanadian Amazon:  https://amzn.to/3QZtkYk\nUS Amazon: https://amzn.to/3RYsF9r \nAugust we are meeting on Cheryl’s LIVE stream:  www.tiktok.com/@clarkstrategies \nLet us know you may be joining us so we let you in!   Grow on this platform with us!!
URL:https://strategicbusinesshub.com/event/book-club-on-tik-tok-live/
END:VEVENT
BEGIN:VEVENT
DTSTART;TZID=America/New_York:20240823T150000
DTEND;TZID=America/New_York:20240823T153000
DTSTAMP:20260425T040611
CREATED:20240715T211730Z
LAST-MODIFIED:20240715T211730Z
UID:212-1724425200-1724427000@strategicbusinesshub.com
SUMMARY:Blogs Due
DESCRIPTION:Topic this month: \nHow far do we go it alone before we outsource?\nHow do you feel about outsourcing? \nContributor:  Michael Smith \nSubmit 250 to 600 words via email.\nadmin@strategicbusinesshub.com  \nBlogs will be published on this site with LIVE links back to you and your social media! \nBe seen and heard!\nGREAT for SEO!!!
URL:https://strategicbusinesshub.com/event/blogs-due/
END:VEVENT
BEGIN:VEVENT
DTSTART;TZID=America/New_York:20240828T090000
DTEND;TZID=America/New_York:20240828T100000
DTSTAMP:20260425T040611
CREATED:20240715T210543Z
LAST-MODIFIED:20240715T210631Z
UID:206-1724835600-1724839200@strategicbusinesshub.com
SUMMARY:ZOOM Free Networking - WEAR White - Lung Cancer Awareness
DESCRIPTION:Topic this week:\nTHE EXTRA MILEWhat is the extra mile for you?What can the ‘extra mile’ be?When have you experienced the ‘extra mile’ as a customer?\n\nShare who you are and what you do!\n\n\nAugust Challenge:Share a FALL marketing message with us!\n\n\nZoom Link:\n\n9 a.m. Eastern\nZoom: https://us02web.zoom.us/j/9055151512\nPasscode: 111111 \nOur Sponsor for August is:  Angela Woppman from Afterburn Workouts!  www.facebook.com/aftrburnworkouts
URL:https://strategicbusinesshub.com/event/zoom-free-networking-8/
END:VEVENT
BEGIN:VEVENT
DTSTART;TZID=America/New_York:20240828T103000
DTEND;TZID=America/New_York:20240828T110000
DTSTAMP:20260425T040611
CREATED:20240715T213526Z
LAST-MODIFIED:20240715T213526Z
UID:220-1724841000-1724842800@strategicbusinesshub.com
SUMMARY:Book Club on Tik Tok Live
DESCRIPTION:Join Cheryl and Suzy as they go LIVE on TikTok to discuss the book of the month! \nAugust 2024 \nAugust (1st—29th)\nThe Greatest Mindset – Lewis Howes\nCanadian Amazon:  https://amzn.to/3QZtkYk\nUS Amazon: https://amzn.to/3RYsF9r \nAugust we are meeting on Cheryl’s LIVE stream:  www.tiktok.com/@clarkstrategies \nLet us know you may be joining us so we let you in!   Grow on this platform with us!!
URL:https://strategicbusinesshub.com/event/book-club-on-tik-tok-live-2/
END:VEVENT
END:VCALENDAR