BEGIN:VCALENDAR
VERSION:2.0
PRODID:-//Strategic Business Hub - ECPv6.15.20//NONSGML v1.0//EN
CALSCALE:GREGORIAN
METHOD:PUBLISH
X-WR-CALNAME:Strategic Business Hub
X-ORIGINAL-URL:https://strategicbusinesshub.com
X-WR-CALDESC:Events for Strategic Business Hub
REFRESH-INTERVAL;VALUE=DURATION:PT1H
X-Robots-Tag:noindex
X-PUBLISHED-TTL:PT1H
BEGIN:VTIMEZONE
TZID:America/New_York
BEGIN:DAYLIGHT
TZOFFSETFROM:-0500
TZOFFSETTO:-0400
TZNAME:EDT
DTSTART:20230312T070000
END:DAYLIGHT
BEGIN:STANDARD
TZOFFSETFROM:-0400
TZOFFSETTO:-0500
TZNAME:EST
DTSTART:20231105T060000
END:STANDARD
BEGIN:DAYLIGHT
TZOFFSETFROM:-0500
TZOFFSETTO:-0400
TZNAME:EDT
DTSTART:20240310T070000
END:DAYLIGHT
BEGIN:STANDARD
TZOFFSETFROM:-0400
TZOFFSETTO:-0500
TZNAME:EST
DTSTART:20241103T060000
END:STANDARD
BEGIN:DAYLIGHT
TZOFFSETFROM:-0500
TZOFFSETTO:-0400
TZNAME:EDT
DTSTART:20250309T070000
END:DAYLIGHT
BEGIN:STANDARD
TZOFFSETFROM:-0400
TZOFFSETTO:-0500
TZNAME:EST
DTSTART:20251102T060000
END:STANDARD
END:VTIMEZONE
BEGIN:VEVENT
DTSTART;TZID=America/New_York:20240717T103000
DTEND;TZID=America/New_York:20240717T110000
DTSTAMP:20260425T130458
CREATED:20240715T214549Z
LAST-MODIFIED:20240715T214549Z
UID:222-1721212200-1721214000@strategicbusinesshub.com
SUMMARY:Book Club on TikTok Live
DESCRIPTION:Join Cheryl and Suzy as they go LIVE on TikTok to discuss the book of the month! \nJuly (4th—25th)\nThe Slight Edge – Jeff Olson\nCanadian Amazon: https://amzn.to/3QDXrTB\nUS Amazon: https://amzn.to/3zGoZ5R \nJuly we are meeting on Suzy’s LIVE stream:  www.tiktok.com/@rootsandbootssuzyrawlins \nLet us know you may be joining us so we let you in!   Grow on this platform with us!!
URL:https://strategicbusinesshub.com/event/book-club-on-tiktok-live-3/
END:VEVENT
BEGIN:VEVENT
DTSTART;TZID=America/New_York:20240717T090000
DTEND;TZID=America/New_York:20240717T100000
DTSTAMP:20260425T130458
CREATED:20240707T214401Z
LAST-MODIFIED:20240707T214755Z
UID:120-1721206800-1721210400@strategicbusinesshub.com
SUMMARY:ZOOM Free Networking
DESCRIPTION:Topic this week:\nEngaging Others!How?What is the ripple effect?Where?\n\nShare who you are and what you do!\n\n\nJuly Challenge:\n3rd Quarter—What is a goal you have for the next 90 days?\n\n\nZoom Link:\n\n9 a.m. Eastern\nZoom: https://us02web.zoom.us/j/9055151512\nPasscode: 111111 \nOur Sponsor for July is:  Christine – Founder of:  https://survivingtothrivingholisticwellness.com
URL:https://strategicbusinesshub.com/event/zoom-free-networking-2/
END:VEVENT
BEGIN:VEVENT
DTSTART;TZID=America/New_York:20240710T120000
DTEND;TZID=America/New_York:20240710T130000
DTSTAMP:20260425T130458
CREATED:20240707T215858Z
LAST-MODIFIED:20240707T220003Z
UID:127-1720612800-1720616400@strategicbusinesshub.com
SUMMARY:Class- Tracking for your Business
DESCRIPTION:7th Class for 2024!!\n\nSo excited to have SUZY RAWLINS – from Roots and Boots Intentional Living Leading us in this class!\nwww.facebook.com/RootsAndBootsIntentionalLiving\n\nSuzy has kept a notebook tracking her business movements for years!!!\n\n\nYour 3 take aways:\n1. Progress not perfection2. Track habits w/o judgement3. Celebrate all wins (big & small)\n\nWorkshop July 10th\, 2024 – Wednesday 12:00pm ET60 minute class.\n\n$15.00 to attend live or have full access to the recording!!!Please email:  team@clarkstrategies.ca 
URL:https://strategicbusinesshub.com/event/class-tracking-for-your-business/
END:VEVENT
BEGIN:VEVENT
DTSTART;TZID=America/New_York:20240710T090000
DTEND;TZID=America/New_York:20240710T100000
DTSTAMP:20260425T130458
CREATED:20240705T220207Z
LAST-MODIFIED:20240707T214017Z
UID:80-1720602000-1720605600@strategicbusinesshub.com
SUMMARY:ZOOM Free Networking
DESCRIPTION:Topic this week:\nClient Journey!\nLet’s talk from contact point to sale to referral…\nWhat is the journey?\nHow do we assist people in going through the steps to doing business with us?\n\n\nShare who you are and what you do!\n\n\nJuly Challenge:\n3rd Quarter—What is a goal you have for the next 90 days?\n\n\nZoom Link:\n\n9 a.m. Eastern\nZoom: https://us02web.zoom.us/j/9055151512\nPasscode: 111111 \nOur Sponsor for July is:  Christine – Founder of:  https://survivingtothrivingholisticwellness.com
URL:https://strategicbusinesshub.com/event/zoom-free-networking/
LOCATION:ZOOM Online
END:VEVENT
END:VCALENDAR