BEGIN:VCALENDAR
VERSION:2.0
PRODID:-//Strategic Business Hub - ECPv6.15.20//NONSGML v1.0//EN
CALSCALE:GREGORIAN
METHOD:PUBLISH
X-WR-CALNAME:Strategic Business Hub
X-ORIGINAL-URL:https://strategicbusinesshub.com
X-WR-CALDESC:Events for Strategic Business Hub
REFRESH-INTERVAL;VALUE=DURATION:PT1H
X-Robots-Tag:noindex
X-PUBLISHED-TTL:PT1H
BEGIN:VTIMEZONE
TZID:America/New_York
BEGIN:DAYLIGHT
TZOFFSETFROM:-0500
TZOFFSETTO:-0400
TZNAME:EDT
DTSTART:20230312T070000
END:DAYLIGHT
BEGIN:STANDARD
TZOFFSETFROM:-0400
TZOFFSETTO:-0500
TZNAME:EST
DTSTART:20231105T060000
END:STANDARD
BEGIN:DAYLIGHT
TZOFFSETFROM:-0500
TZOFFSETTO:-0400
TZNAME:EDT
DTSTART:20240310T070000
END:DAYLIGHT
BEGIN:STANDARD
TZOFFSETFROM:-0400
TZOFFSETTO:-0500
TZNAME:EST
DTSTART:20241103T060000
END:STANDARD
BEGIN:DAYLIGHT
TZOFFSETFROM:-0500
TZOFFSETTO:-0400
TZNAME:EDT
DTSTART:20250309T070000
END:DAYLIGHT
BEGIN:STANDARD
TZOFFSETFROM:-0400
TZOFFSETTO:-0500
TZNAME:EST
DTSTART:20251102T060000
END:STANDARD
END:VTIMEZONE
BEGIN:VEVENT
DTSTART;TZID=America/New_York:20241002T090000
DTEND;TZID=America/New_York:20241002T103000
DTSTAMP:20260425T124415
CREATED:20241001T201809Z
LAST-MODIFIED:20241002T120612Z
UID:692-1727859600-1727865000@strategicbusinesshub.com
SUMMARY:ZOOM FREE Networking
DESCRIPTION:Topic this week:\nThe Next 90 days!\nQuarter 4 – 2024!\nGoals\, Plans\, Tasks\, Action Steps \nShare who you are and what you do! \nOctober Challenge:\nShare one ‘thing’ you are grateful for AND why are you grateful for that ‘thing’. \nZoom Link:\n9 a.m. Eastern\nZoom: https://us02web.zoom.us/j/9055151512\nPasscode: 111111 \nOur Sponsor for August is:  Alana Roberts from Amazingly Virtual!  https://www.facebook.com/amazinglyvirtual
URL:https://strategicbusinesshub.com/event/zoom-free-networking-9/
LOCATION:ZOOM Online
END:VEVENT
BEGIN:VEVENT
DTSTART;TZID=America/New_York:20241002T103000
DTEND;TZID=America/New_York:20241002T110000
DTSTAMP:20260425T124415
CREATED:20241001T195836Z
LAST-MODIFIED:20241002T120655Z
UID:681-1727865000-1727866800@strategicbusinesshub.com
SUMMARY:BOOK Club on TikTok Live
DESCRIPTION:Join Cheryl and Suzy as they go LIVE on TikTok to discuss the book of the month! \nOctober 2024 \nNine Figure Mindset – Brandon Dawsom\nCanadian Amazon: https://amzn.to/3FVr129\nUS Amazon: https://amzn.to/4caUW49 \nOctober we are meeting on Cheryl’s LIVE stream:  www.tiktok.com/@clarkstrategies \nLet us know you may be joining us so we let you in!   Grow on this platform with us!!
URL:https://strategicbusinesshub.com/event/book-club-on-tiktok-live-6/
LOCATION:TIKTOK LIVE
END:VEVENT
BEGIN:VEVENT
DTSTART;TZID=America/New_York:20241002T120000
DTEND;TZID=America/New_York:20241002T130000
DTSTAMP:20260425T124415
CREATED:20241001T203240Z
LAST-MODIFIED:20241002T120716Z
UID:702-1727870400-1727874000@strategicbusinesshub.com
SUMMARY:Newsletter - TOOL TRAINING CLASS
DESCRIPTION:10th Class for 2024!!\n\nYOUR 3 Takeaways:Why YOU need to be sending Newsletters!What to put in Newsletters!How to create a Newsletter –We will review MailChimp Program for this class.\n\nEMAIL MARKETING WORKS!It is proven time and again!\nALL the ‘greats’ are using it… YOU SHOULD BE as well.\n\nLeave this class with the know how…Leave this class and be filled with content ideas…Leave this class and be ready for the Fall/Holiday Marketing…Leave this class and be ready for 2025!\n\nWorkshop October 2nd\, 2024 – 12:00pm ET60 minute class.\n\n$15.00 to attend live or have full access to the recording!!!\nPlease Message Cheryl to be put on the list!\n\nteam@clarkstrategies.ca 
URL:https://strategicbusinesshub.com/event/newsletter-tool-training-class/
LOCATION:ZOOM Online
END:VEVENT
BEGIN:VEVENT
DTSTART;TZID=America/New_York:20241008T130000
DTEND;TZID=America/New_York:20241008T150000
DTSTAMP:20260425T124415
CREATED:20241001T203426Z
LAST-MODIFIED:20241002T120738Z
UID:704-1728392400-1728399600@strategicbusinesshub.com
SUMMARY:Barrie/Innisfil In-Person Networking FREE to Attend
DESCRIPTION:Join us on Tuesday October 8th!1 p.m. till 3 p.m.\nThe Cove Cafe on Lockhart for some networking and conversation!\nFREE!\nIntroduce yourself.Bring some business cards.Be open to connections and collaborations.\n\nJoin in on the topic of discussion!Any questions please reach out!\n\n2nd Tuesday of Every Month!!!\nEVERYONE is very WELCOMED and all are absolutely invited!We are inclusive! NOT an exclusive group.
URL:https://strategicbusinesshub.com/event/barrie-innisfil-in-person-networking-free-to-attend/
LOCATION:The Cove Cafe\, 902 Lockhart Road\, Innisfil\, Ontario\, L9S 4V2\, Canada
END:VEVENT
BEGIN:VEVENT
DTSTART;TZID=America/New_York:20241009T090000
DTEND;TZID=America/New_York:20241009T103000
DTSTAMP:20260425T124415
CREATED:20241001T202033Z
LAST-MODIFIED:20241002T120757Z
UID:694-1728464400-1728469800@strategicbusinesshub.com
SUMMARY:ZOOM FREE Networking
DESCRIPTION:Topic this week:\nProcedures and Manuals.\nWhat Procedures should we have in place?\nDo we need manuals and what should be in them?\nShare who you are and what you do! \nOctober Challenge:\nShare one ‘thing’ you are grateful for AND why are you grateful for that ‘thing’. \nZoom Link: \n9 a.m. Eastern\nZoom: https://us02web.zoom.us/j/9055151512\nPasscode: 111111 \nOur Sponsor for August is:  Alana Roberts from Amazingly Virtual!  https://www.facebook.com/amazinglyvirtual
URL:https://strategicbusinesshub.com/event/zoom-free-networking-10/
LOCATION:ZOOM Online
END:VEVENT
BEGIN:VEVENT
DTSTART;TZID=America/New_York:20241009T103000
DTEND;TZID=America/New_York:20241009T110000
DTSTAMP:20260425T124415
CREATED:20241001T200154Z
LAST-MODIFIED:20241002T120813Z
UID:684-1728469800-1728471600@strategicbusinesshub.com
SUMMARY:BOOK Club on TikTok Live
DESCRIPTION:Join Cheryl and Suzy as they go LIVE on TikTok to discuss the book of the month! \nOctober 2024 \nNine Figure Mindset – Brandon Dawsom\nCanadian Amazon: https://amzn.to/3FVr129\nUS Amazon: https://amzn.to/4caUW49 \nOctober we are meeting on Cheryl’s LIVE stream:  www.tiktok.com/@clarkstrategies \nLet us know you may be joining us so we let you in!   Grow on this platform with us!!
URL:https://strategicbusinesshub.com/event/book-club-on-tiktok-live-7/
LOCATION:TIKTOK LIVE
END:VEVENT
BEGIN:VEVENT
DTSTART;TZID=America/New_York:20241016T090000
DTEND;TZID=America/New_York:20241016T103000
DTSTAMP:20260425T124415
CREATED:20241001T202419Z
LAST-MODIFIED:20241002T120830Z
UID:696-1729069200-1729074600@strategicbusinesshub.com
SUMMARY:ZOOM FREE Networking
DESCRIPTION:Topic this week:\nGratitude!\nExpressing Gratitude!\nCreating moments for Gratitude! \nOctober Challenge:\nShare one ‘thing’ you are grateful for AND why are you grateful for that ‘thing’. \nZoom Link: \n9 a.m. Eastern\nZoom: https://us02web.zoom.us/j/9055151512\nPasscode: 111111 \nOur Sponsor for August is:  Alana Roberts from Amazingly Virtual!  https://www.facebook.com/amazinglyvirtual
URL:https://strategicbusinesshub.com/event/zoom-free-networking-11/
LOCATION:ZOOM Online
END:VEVENT
BEGIN:VEVENT
DTSTART;TZID=America/New_York:20241016T103000
DTEND;TZID=America/New_York:20241016T110000
DTSTAMP:20260425T124415
CREATED:20241001T200552Z
LAST-MODIFIED:20241002T120847Z
UID:686-1729074600-1729076400@strategicbusinesshub.com
SUMMARY:BOOK Club on TikTok Live
DESCRIPTION:Join Cheryl and Suzy as they go LIVE on TikTok to discuss the book of the month! \nOctober 2024 \nNine Figure Mindset – Brandon Dawsom\nCanadian Amazon: https://amzn.to/3FVr129\nUS Amazon: https://amzn.to/4caUW49 \nOctober we are meeting on Cheryl’s LIVE stream:  www.tiktok.com/@clarkstrategies \nLet us know you may be joining us so we let you in!   Grow on this platform with us!!
URL:https://strategicbusinesshub.com/event/book-club-on-tiktok-live-8/
LOCATION:TIKTOK LIVE
END:VEVENT
BEGIN:VEVENT
DTSTART;TZID=America/New_York:20241023T090000
DTEND;TZID=America/New_York:20241023T103000
DTSTAMP:20260425T124415
CREATED:20241001T202619Z
LAST-MODIFIED:20241002T120904Z
UID:698-1729674000-1729679400@strategicbusinesshub.com
SUMMARY:ZOOM FREE Networking
DESCRIPTION:2025!\nHow are you RIGHT NOW working on 2025?\nWhat can we do today to make it a great year?\nWhat can we set up? \nOctober Challenge:\nShare one ‘thing’ you are grateful for AND why are you grateful for that ‘thing’. \nZoom Link: \n9 a.m. Eastern\nZoom: https://us02web.zoom.us/j/9055151512\nPasscode: 111111 \nOur Sponsor for August is:  Alana Roberts from Amazingly Virtual!  https://www.facebook.com/amazinglyvirtual
URL:https://strategicbusinesshub.com/event/zoom-free-networking-12/
LOCATION:ZOOM Online
END:VEVENT
BEGIN:VEVENT
DTSTART;TZID=America/New_York:20241023T103000
DTEND;TZID=America/New_York:20241023T110000
DTSTAMP:20260425T124415
CREATED:20241001T200955Z
LAST-MODIFIED:20241002T120919Z
UID:688-1729679400-1729681200@strategicbusinesshub.com
SUMMARY:Book Club on TikTok Live
DESCRIPTION:Join Cheryl and Suzy as they go LIVE on TikTok to discuss the book of the month! \nOctober 2024 \nNine Figure Mindset – Brandon Dawsom\nCanadian Amazon: https://amzn.to/3FVr129\nUS Amazon: https://amzn.to/4caUW49 \nOctober we are meeting on Cheryl’s LIVE stream:  www.tiktok.com/@clarkstrategies \nLet us know you may be joining us so we let you in!   Grow on this platform with us!!
URL:https://strategicbusinesshub.com/event/book-club-on-tiktok-live-9/
LOCATION:TIKTOK LIVE
END:VEVENT
BEGIN:VEVENT
DTSTART;TZID=America/New_York:20241030T090000
DTEND;TZID=America/New_York:20241030T103000
DTSTAMP:20260425T124415
CREATED:20241001T202819Z
LAST-MODIFIED:20241002T120937Z
UID:700-1730278800-1730284200@strategicbusinesshub.com
SUMMARY:ZOOM FREE Networking
DESCRIPTION:Topic this week:\nCold Calls\nCold Connecting\nCold Emailing\nHow? \nCAUSE OF THE MONTH: GREEN!\nDepression Awareness Month \nOctober Challenge:\nShare one ‘thing’ you are grateful for AND why are you grateful for that ‘thing’. \nZoom Link: \n9 a.m. Eastern\nZoom: https://us02web.zoom.us/j/9055151512\nPasscode: 111111 \nOur Sponsor for August is:  Alana Roberts from Amazingly Virtual!  https://www.facebook.com/amazinglyvirtual
URL:https://strategicbusinesshub.com/event/zoom-free-networking-13/
LOCATION:ZOOM Online
END:VEVENT
BEGIN:VEVENT
DTSTART;TZID=America/New_York:20241030T103000
DTEND;TZID=America/New_York:20241030T110000
DTSTAMP:20260425T124415
CREATED:20241001T201206Z
LAST-MODIFIED:20241002T120952Z
UID:690-1730284200-1730286000@strategicbusinesshub.com
SUMMARY:BOOK Club on TikTok Live
DESCRIPTION:Join Cheryl and Suzy as they go LIVE on TikTok to discuss the book of the month! \nOctober 2024 \nNine Figure Mindset – Brandon Dawsom\nCanadian Amazon: https://amzn.to/3FVr129\nUS Amazon: https://amzn.to/4caUW49 \nOctober we are meeting on Cheryl’s LIVE stream:  www.tiktok.com/@clarkstrategies \nLet us know you may be joining us so we let you in!   Grow on this platform with us!!
URL:https://strategicbusinesshub.com/event/book-club-on-tiktok-live-10/
LOCATION:TIKTOK LIVE
END:VEVENT
BEGIN:VEVENT
DTSTART;TZID=America/New_York:20241106T090000
DTEND;TZID=America/New_York:20241106T100000
DTSTAMP:20260425T124415
CREATED:20241015T222927Z
LAST-MODIFIED:20241015T223039Z
UID:707-1730883600-1730887200@strategicbusinesshub.com
SUMMARY:ZOOM FREE Networking
DESCRIPTION:Topic this week:ReflectionHow does your business look different now than 12 months ago?What lessons were learned?What did you implement?What made the biggest change / impact?\n\nNovember Challenge:Share a random fact about yourself!\n\nNetworking and Growth!Every week a different topic of Discussion!\nRound Table Mastermind and sharing!\n\nOur November Sponsor is:Kellie Haehnel – from The Spirit Wellness Center\, LLC\n\nConnect with Kellie: https://www.facebook.com/kellie.haehnel.3Follow her page: https://www.facebook.com/TheSpiritWellnessCenter\n\nZoom Link:\n\n9 a.m. EasternZoom: https://us02web.zoom.us/j/9055151512Passcode: 111111\n\nNo Membership EVER!FREE!\nNot Exclusive – but Inclusive – EVERYONE is invited!Networking with a difference!Building Community!
URL:https://strategicbusinesshub.com/event/zoom-free-networking-14/
LOCATION:ZOOM Online
END:VEVENT
BEGIN:VEVENT
DTSTART;TZID=America/New_York:20241106T103000
DTEND;TZID=America/New_York:20241106T110000
DTSTAMP:20260425T124415
CREATED:20241015T225100Z
LAST-MODIFIED:20241015T225100Z
UID:720-1730889000-1730890800@strategicbusinesshub.com
SUMMARY:BOOK Club on TikTok Live
DESCRIPTION:Join Cheryl and Suzy as they go LIVE on TikTok to discuss the book of the month! \nNovember 2024 \nProfit First: Transform your Business\nBy: Michalowicz \nCanadian Amazon: https://amzn.to/3FXMhnF\nUS Amazon: https://amzn.to/4dfCecv \nNovember we are meeting on Suzy’s LIVE stream: https://www.tiktok.com/@rootsandbootssuzyrawlins \nLet us know you may be joining us so we let you in! Grow on this platform with us!!
URL:https://strategicbusinesshub.com/event/book-club-on-tiktok-live-11/
LOCATION:TIKTOK LIVE
END:VEVENT
BEGIN:VEVENT
DTSTART;TZID=America/New_York:20241106T120000
DTEND;TZID=America/New_York:20241106T130000
DTSTAMP:20260425T124415
CREATED:20241015T224144Z
LAST-MODIFIED:20241015T224144Z
UID:718-1730894400-1730898000@strategicbusinesshub.com
SUMMARY:Discover YOUR Power Word - Tool Training Class
DESCRIPTION:11th Class for 2024!This class will be taught by: Margaret Dennishttps://www.facebook.com/evolvcoaching/\n\nJUST IN TIME for getting ready for 2025!!!\n\nFrom Margaret:\nDiscover Your Power Word\nWords hold incredible energy\, and when we align them with the Law of Attraction\, they become magnets for the change we want in our lives. Power words are not just words; they’re a reflection of your deepest desires and intentions\, a guiding force that helps you stay focused on what truly matters.\n\nImagine choosing a word that instantly inspires\, motivates\, and reminds you of your inner strength and potential – whether it’s reigniting a forgotten quality or sparking a new dream. Your power word becomes your personal lighthouse\, illuminating your path forward\, no matter how rough the waters.\n\nJoin me for an exciting 1-hour workshop where you’ll be guided through a transformative process to discover YOUR power word – your personal touchstone of clarity\, motivation\, and focus.\nReady to ignite your intentions and start living with more purpose\, direction & focus?\nThis is your moment! Grab it while you can!\n\n3 KEY Take-Aways:1. Personal Clarity & Focus: You’ll leave with a personalized power word that reflects your deepest intentions\, helping you stay clear and focused on what truly matters to you – whether it’s personal growth\, motivation\, or embodying a specific quality.\n2. Mindset Shift: Discover how intentional language can transform your mindset\, harness the Law of Attraction\, and invite more positivity\, opportunity\, and purpose into your life.\n3. A Practical Daily Empowerment Tool: Your power word will become your go-to reminder\, providing daily inspiration and empowerment\, keeping you anchored in your goals\, and serving as a beacon of light when challenges arise.\n\nRegister with Cheryl – team@clarkstrategies.ca
URL:https://strategicbusinesshub.com/event/discover-your-power-word-tool-training-class/
LOCATION:ZOOM Online
END:VEVENT
BEGIN:VEVENT
DTSTART;TZID=America/New_York:20241112T130000
DTEND;TZID=America/New_York:20241112T150000
DTSTAMP:20260425T124415
CREATED:20241015T223904Z
LAST-MODIFIED:20241015T223904Z
UID:716-1731416400-1731423600@strategicbusinesshub.com
SUMMARY:Barrie/Innisfil In-Person Networking FREE to Attend
DESCRIPTION:Join us on Tuesday November 12th\, 20241 p.m. till 3 p.m.\n\nThe Cove Cafe on Lockhart for some networking and conversation!\n\nFREE!Introduce yourself.Bring some business cards.\nBe open to connections and collaborations.Join in on the topic of discussion!\nAny questions please reach out!\n2nd Tuesday of Every Month!!!\nEVERYONE is very WELCOMED and all are absolutely invited!We are inclusive! NOT an exclusive group.
URL:https://strategicbusinesshub.com/event/barrie-innisfil-in-person-networking-free-to-attend-2/
LOCATION:The Cove Cafe\, 902 Lockhart Road\, Innisfil\, Ontario\, L9S 4V2\, Canada
END:VEVENT
BEGIN:VEVENT
DTSTART;TZID=America/New_York:20241113T090000
DTEND;TZID=America/New_York:20241113T100000
DTSTAMP:20260425T124415
CREATED:20241015T223255Z
LAST-MODIFIED:20241015T223255Z
UID:710-1731488400-1731492000@strategicbusinesshub.com
SUMMARY:ZOOM FREE Networking
DESCRIPTION:Topic this week:Your Purpose.How did you discover it?How does knowing it change your actions or business adventure?Has it changed over time?\n\n\nNovember Challenge:Share a random fact about yourself!\n\n\nNetworking and Growth!Every week a different topic of Discussion!\nRound Table Mastermind and sharing!\n\n\nOur November Sponsor is:Kellie Haehnel – from The Spirit Wellness Center\, LLC\nConnect with Kellie: https://www.facebook.com/kellie.haehnel.3Follow her page: https://www.facebook.com/TheSpiritWellnessCenter\n\nZoom Link:\n9 a.m. EasternZoom: https://us02web.zoom.us/j/9055151512Passcode: 111111\n\n\nNo Membership EVER!FREE!Not Exclusive – but Inclusive – EVERYONE is invited!Networking with a difference!\nBuilding Community!
URL:https://strategicbusinesshub.com/event/zoom-free-networking-15/
LOCATION:ZOOM Online
END:VEVENT
BEGIN:VEVENT
DTSTART;TZID=America/New_York:20241113T103000
DTEND;TZID=America/New_York:20241113T110000
DTSTAMP:20260425T124415
CREATED:20241015T225359Z
LAST-MODIFIED:20241015T225359Z
UID:722-1731493800-1731495600@strategicbusinesshub.com
SUMMARY:BOOK Club on TikTok Live
DESCRIPTION:Join Cheryl and Suzy as they go LIVE on TikTok to discuss the book of the month! \nNovember 2024 \nProfit First: Transform your Business\nBy: Michalowicz \nCanadian Amazon: https://amzn.to/3FXMhnF\nUS Amazon: https://amzn.to/4dfCecv \nNovember we are meeting on Suzy’s LIVE stream: https://www.tiktok.com/@rootsandbootssuzyrawlins \nLet us know you may be joining us so we let you in! Grow on this platform with us!!
URL:https://strategicbusinesshub.com/event/book-club-on-tiktok-live-12/
LOCATION:TIKTOK LIVE
END:VEVENT
BEGIN:VEVENT
DTSTART;TZID=America/New_York:20241120T090000
DTEND;TZID=America/New_York:20241120T100000
DTSTAMP:20260425T124415
CREATED:20241015T223503Z
LAST-MODIFIED:20241015T223503Z
UID:712-1732093200-1732096800@strategicbusinesshub.com
SUMMARY:ZOOM FREE Networking
DESCRIPTION:Topic this week:What problem(s) does your business solve?How do you use this knowledge in Marketing?Why do people need YOUR solution?\n\n\nNovember Challenge:Share a random fact about yourself!\n\n\nNetworking and Growth!Every week a different topic of Discussion!\nRound Table Mastermind and sharing!\n\n\nOur November Sponsor is:Kellie Haehnel – from The Spirit Wellness Center\, LLC\nConnect with Kellie: https://www.facebook.com/kellie.haehnel.3\nFollow her page: https://www.facebook.com/TheSpiritWellnessCenter\n\n\nZoom Link:\n9 a.m. EasternZoom: https://us02web.zoom.us/j/9055151512Passcode: 111111\nNo Membership EVER!FREE!Not Exclusive – but Inclusive – EVERYONE is invited!Networking with a difference!\nBuilding Community!
URL:https://strategicbusinesshub.com/event/zoom-free-networking-16/
LOCATION:ZOOM Online
END:VEVENT
BEGIN:VEVENT
DTSTART;TZID=America/New_York:20241120T103000
DTEND;TZID=America/New_York:20241120T110000
DTSTAMP:20260425T124415
CREATED:20241015T225553Z
LAST-MODIFIED:20241015T225553Z
UID:724-1732098600-1732100400@strategicbusinesshub.com
SUMMARY:BOOK Club on TikTok Live
DESCRIPTION:Join Cheryl and Suzy as they go LIVE on TikTok to discuss the book of the month! \nNovember 2024 \nProfit First: Transform your Business\nBy: Michalowicz \nCanadian Amazon: https://amzn.to/3FXMhnF\nUS Amazon: https://amzn.to/4dfCecv \nNovember we are meeting on Suzy’s LIVE stream: https://www.tiktok.com/@rootsandbootssuzyrawlins \nLet us know you may be joining us so we let you in! Grow on this platform with us!!
URL:https://strategicbusinesshub.com/event/book-club-on-tiktok-live-13/
LOCATION:TIKTOK LIVE
END:VEVENT
BEGIN:VEVENT
DTSTART;TZID=America/New_York:20241127T090000
DTEND;TZID=America/New_York:20241127T100000
DTSTAMP:20260425T124415
CREATED:20241015T223704Z
LAST-MODIFIED:20241015T223704Z
UID:714-1732698000-1732701600@strategicbusinesshub.com
SUMMARY:ZOOM FREE Networking
DESCRIPTION:Topic this week:Networking Perks and Benefits!What do you get out of Networking?How do you make networking work to your business advantage?\n\n\nWEAR WHITE – CAUSE OF THE MONTH – ADOPTION AWARENESS\n\n\nNovember Challenge:Share a random fact about yourself!\n\n\nNetworking and Growth!Every week a different topic of Discussion!\nRound Table Mastermind and sharing!\n\nOur November Sponsor is:Kellie Haehnel – from The Spirit Wellness Center\, LLC\nConnect with Kellie: https://www.facebook.com/kellie.haehnel.3\nFollow her page: https://www.facebook.com/TheSpiritWellnessCenter\n\nZoom Link:\n9 a.m. EasternZoom: https://us02web.zoom.us/j/9055151512Passcode: 111111\n\nNo Membership EVER!FREE!Not Exclusive – but Inclusive – EVERYONE is invited!Networking with a difference!\nBuilding Community!
URL:https://strategicbusinesshub.com/event/zoom-free-networking-17/
LOCATION:ZOOM Online
END:VEVENT
BEGIN:VEVENT
DTSTART;TZID=America/New_York:20241127T103000
DTEND;TZID=America/New_York:20241127T110000
DTSTAMP:20260425T124415
CREATED:20241015T225714Z
LAST-MODIFIED:20241015T225714Z
UID:726-1732703400-1732705200@strategicbusinesshub.com
SUMMARY:BOOK Club on TikTok Live
DESCRIPTION:Join Cheryl and Suzy as they go LIVE on TikTok to discuss the book of the month! \nNovember 2024 \nProfit First: Transform your Business\nBy: Michalowicz \nCanadian Amazon: https://amzn.to/3FXMhnF\nUS Amazon: https://amzn.to/4dfCecv \nNovember we are meeting on Suzy’s LIVE stream: https://www.tiktok.com/@rootsandbootssuzyrawlins \nLet us know you may be joining us so we let you in! Grow on this platform with us!!
URL:https://strategicbusinesshub.com/event/book-club-on-tiktok-live-14/
LOCATION:TIKTOK LIVE
END:VEVENT
BEGIN:VEVENT
DTSTART;TZID=America/New_York:20241204T090000
DTEND;TZID=America/New_York:20241204T100000
DTSTAMP:20260425T124415
CREATED:20241201T155957Z
LAST-MODIFIED:20241201T155957Z
UID:775-1733302800-1733306400@strategicbusinesshub.com
SUMMARY:ZOOM FREE Networking
DESCRIPTION:Topic this week:Intentions and Self Belief!Do you set intentions for your day?How do you work your self belief system? \nDecember Challenge:\nIf you could BUY yourself ANYTHING this month—What would you purchase for yourself? \nNetworking and Growth!\nEvery week a different topic of Discussion!\nRound Table Mastermind and sharing! \nOur December Sponsor is:\nJoetta Barber from Joettas Wellness Spot.\nShe is an independent representative of the SuperPatch Company!\nFollow her page: https://www.facebook.com/Joettaswellnessspot \nZoom Link:\n9 a.m. Eastern\nZoom: https://us02web.zoom.us/j/9055151512\nPasscode: 111111 \nNo Membership EVER!\nFREE!\nNot Exclusive – but Inclusive – EVERYONE is invited!\nNetworking with a difference!\nBuilding Community!
URL:https://strategicbusinesshub.com/event/zoom-free-networking-18/
LOCATION:ZOOM Online
END:VEVENT
BEGIN:VEVENT
DTSTART;TZID=America/New_York:20241204T103000
DTEND;TZID=America/New_York:20241204T110000
DTSTAMP:20260425T124415
CREATED:20241201T154743Z
LAST-MODIFIED:20241201T154743Z
UID:769-1733308200-1733310000@strategicbusinesshub.com
SUMMARY:BOOK Club on TikTok Live
DESCRIPTION:Join Cheryl and Suzy as they go LIVE on TikTok to discuss the book of the month! \nDecember 2024 \nWe are currently reading: \nJonathan Livingston Seagull\nBy: Richard Bach \nCDN Amazon: https://amzn.to/3QHczjj \nUS Amazon: https://amzn.to/4fPG9yT \nDecember we are meeting on Cheryl’s LIVE stream: https://www.tiktok.com/@clarkstrategies
URL:https://strategicbusinesshub.com/event/book-club-on-tiktok-live-15/
LOCATION:TIKTOK LIVE
END:VEVENT
BEGIN:VEVENT
DTSTART;TZID=America/New_York:20241204T120000
DTEND;TZID=America/New_York:20241204T130000
DTSTAMP:20260425T124415
CREATED:20241201T161242Z
LAST-MODIFIED:20241201T161345Z
UID:783-1733313600-1733317200@strategicbusinesshub.com
SUMMARY:December CLASS - YOUR Foundation for Success!
DESCRIPTION:12th Class for 2024!\n\nThis class will be taught by: Tara Self!https://www.facebook.com/tara.mcclure.3\n\nHave you met Tara? CONNECT with her!Inspiring\, driven and walks the walk!\n\nJUST IN TIME for getting ready for 2025!!!\n\nHer class will be worth the hour time investment!\n\nYour Take Away points:\n1. The foundation for success when marketing online2. Finding the right people and selling your offer3. Create scroll stopping content & leveraging Facebook groups\nThese classes are MEANT TO BE Affordable\, and accessible to you no matter where you are at in your entrepreneurial journey!\nGet ready for a powerful 2025!\n\nRegister with Cheryl – team@clarkstrategies.ca
URL:https://strategicbusinesshub.com/event/december-class-your-foundation-for-success/
LOCATION:ZOOM Online
END:VEVENT
BEGIN:VEVENT
DTSTART;TZID=America/New_York:20241210T130000
DTEND;TZID=America/New_York:20241210T150000
DTSTAMP:20260425T124415
CREATED:20241201T160631Z
LAST-MODIFIED:20241201T160631Z
UID:781-1733835600-1733842800@strategicbusinesshub.com
SUMMARY:Barrie/Innisfil In-Person Networking FREE to Attend
DESCRIPTION:Join us on Tuesday December 10th\, 2024\n1 p.m. till 3 p.m. \nThe Cove Cafe on Lockhart for some networking and conversation! \nFREE!\nIntroduce yourself.\nBring some business cards.\nBe open to connections and collaborations.\nJoin in on the topic of discussion!\nAny questions please reach out! \n2nd Tuesday of Every Month!!!\nEVERYONE is very WELCOMED and all are absolutely invited!\nWe are inclusive! NOT an exclusive group.
URL:https://strategicbusinesshub.com/event/barrie-innisfil-in-person-networking-free-to-attend-3/
LOCATION:The Cove Cafe\, 902 Lockhart Road\, Innisfil\, Ontario\, L9S 4V2\, Canada
END:VEVENT
BEGIN:VEVENT
DTSTART;TZID=America/New_York:20241211T090000
DTEND;TZID=America/New_York:20241211T100000
DTSTAMP:20260425T124415
CREATED:20241201T160153Z
LAST-MODIFIED:20241201T160153Z
UID:777-1733907600-1733911200@strategicbusinesshub.com
SUMMARY:ZOOM FREE Networking
DESCRIPTION:Topic this week:Trends!Do we follow them?Do we use them?Do we hop on them? \nDecember Challenge:\nIf you could BUY yourself ANYTHING this month—What would you purchase for yourself? \nNetworking and Growth!\nEvery week a different topic of Discussion!\nRound Table Mastermind and sharing! \nOur December Sponsor is:\nJoetta Barber from Joettas Wellness Spot.\nShe is an independent representative of the SuperPatch Company!\nFollow her page: https://www.facebook.com/Joettaswellnessspot \nZoom Link:\n9 a.m. Eastern\nZoom: https://us02web.zoom.us/j/9055151512\nPasscode: 111111 \nNo Membership EVER!\nFREE!\nNot Exclusive – but Inclusive – EVERYONE is invited!\nNetworking with a difference!\nBuilding Community!
URL:https://strategicbusinesshub.com/event/zoom-free-networking-19/
LOCATION:ZOOM Online
END:VEVENT
BEGIN:VEVENT
DTSTART;TZID=America/New_York:20241211T103000
DTEND;TZID=America/New_York:20241211T110000
DTSTAMP:20260425T124415
CREATED:20241201T155058Z
LAST-MODIFIED:20241201T155058Z
UID:771-1733913000-1733914800@strategicbusinesshub.com
SUMMARY:BOOK Club on TikTok Live
DESCRIPTION:Join Cheryl and Suzy as they go LIVE on TikTok to discuss the book of the month! \nDecember 2024 \nWe are currently reading: \nJonathan Livingston Seagull\nBy: Richard Bach \nCDN Amazon: https://amzn.to/3QHczjj \nUS Amazon: https://amzn.to/4fPG9yT \nDecember we are meeting on Cheryl’s LIVE stream: https://www.tiktok.com/@clarkstrategies
URL:https://strategicbusinesshub.com/event/book-club-on-tiktok-live-16/
LOCATION:TIKTOK LIVE
END:VEVENT
BEGIN:VEVENT
DTSTART;TZID=America/New_York:20241218T090000
DTEND;TZID=America/New_York:20241218T100000
DTSTAMP:20260425T124415
CREATED:20241201T160341Z
LAST-MODIFIED:20241201T160341Z
UID:779-1734512400-1734516000@strategicbusinesshub.com
SUMMARY:ZOOM FREE Networking
DESCRIPTION:Topic this week:What worked this past year for you and your business?A year in review….Milestone sharing! \nDecember Challenge:\nIf you could BUY yourself ANYTHING this month—What would you purchase for yourself? \nNetworking and Growth!\nEvery week a different topic of Discussion!\nRound Table Mastermind and sharing! \nOur December Sponsor is:\nJoetta Barber from Joettas Wellness Spot.\nShe is an independent representative of the SuperPatch Company!\nFollow her page: https://www.facebook.com/Joettaswellnessspot \nZoom Link:\n9 a.m. Eastern\nZoom: https://us02web.zoom.us/j/9055151512\nPasscode: 111111 \nNo Membership EVER!\nFREE!\nNot Exclusive – but Inclusive – EVERYONE is invited!\nNetworking with a difference!\nBuilding Community!
URL:https://strategicbusinesshub.com/event/zoom-free-networking-20/
LOCATION:ZOOM Online
END:VEVENT
BEGIN:VEVENT
DTSTART;TZID=America/New_York:20241218T103000
DTEND;TZID=America/New_York:20241218T110000
DTSTAMP:20260425T124415
CREATED:20241201T155240Z
LAST-MODIFIED:20241201T155240Z
UID:773-1734517800-1734519600@strategicbusinesshub.com
SUMMARY:BOOK Club on TikTok Live
DESCRIPTION:Join Cheryl and Suzy as they go LIVE on TikTok to discuss the book of the month! \nDecember 2024 \nWe are currently reading: \nJonathan Livingston Seagull\nBy: Richard Bach \nCDN Amazon: https://amzn.to/3QHczjj \nUS Amazon: https://amzn.to/4fPG9yT \nDecember we are meeting on Cheryl’s LIVE stream: https://www.tiktok.com/@clarkstrategies
URL:https://strategicbusinesshub.com/event/book-club-on-tiktok-live-17/
LOCATION:TIKTOK LIVE
END:VEVENT
END:VCALENDAR