BEGIN:VCALENDAR
VERSION:2.0
PRODID:-//Strategic Business Hub - ECPv6.15.20//NONSGML v1.0//EN
CALSCALE:GREGORIAN
METHOD:PUBLISH
X-ORIGINAL-URL:https://strategicbusinesshub.com
X-WR-CALDESC:Events for Strategic Business Hub
REFRESH-INTERVAL;VALUE=DURATION:PT1H
X-Robots-Tag:noindex
X-PUBLISHED-TTL:PT1H
BEGIN:VTIMEZONE
TZID:America/New_York
BEGIN:DAYLIGHT
TZOFFSETFROM:-0500
TZOFFSETTO:-0400
TZNAME:EDT
DTSTART:20250309T070000
END:DAYLIGHT
BEGIN:STANDARD
TZOFFSETFROM:-0400
TZOFFSETTO:-0500
TZNAME:EST
DTSTART:20251102T060000
END:STANDARD
BEGIN:DAYLIGHT
TZOFFSETFROM:-0500
TZOFFSETTO:-0400
TZNAME:EDT
DTSTART:20260308T070000
END:DAYLIGHT
BEGIN:STANDARD
TZOFFSETFROM:-0400
TZOFFSETTO:-0500
TZNAME:EST
DTSTART:20261101T060000
END:STANDARD
BEGIN:DAYLIGHT
TZOFFSETFROM:-0500
TZOFFSETTO:-0400
TZNAME:EDT
DTSTART:20270314T070000
END:DAYLIGHT
BEGIN:STANDARD
TZOFFSETFROM:-0400
TZOFFSETTO:-0500
TZNAME:EST
DTSTART:20271107T060000
END:STANDARD
END:VTIMEZONE
BEGIN:VEVENT
DTSTART;TZID=America/New_York:20260506T090000
DTEND;TZID=America/New_York:20260506T100000
DTSTAMP:20260423T204324
CREATED:20260420T181842Z
LAST-MODIFIED:20260420T181842Z
UID:1886-1778058000-1778061600@strategicbusinesshub.com
SUMMARY:ZOOM FREE Networking!
DESCRIPTION:Topic this week:\nThe Challenges of Growth!\nWhat are some challenges you have faced?\nWhat are some challenges you are facing? \nMay Challenge: Share what cause of charity means a lot to you and why! \nNetworking and Growth!\nEvery week a different topic of Discussion!\nRound Table Mastermind and sharing! \nOur May Sponsor is:\nShirley Edwards from Boomer3.0\nVisit her page: https://www.facebook.com/boomer3coaching \nZoom Link for all meetings:\n9 a.m. Eastern\nZoom: https://us02web.zoom.us/j/9055151512 \nNo Membership EVER!\nFREE!\nNot Exclusive – but Inclusive – EVERYONE is invited!\nNetworking with a difference!\nBuilding Community!
URL:https://strategicbusinesshub.com/event/zoom-free-networking-76/
LOCATION:ZOOM Online
END:VEVENT
BEGIN:VEVENT
DTSTART;TZID=America/New_York:20260506T103000
DTEND;TZID=America/New_York:20260506T110000
DTSTAMP:20260423T204324
CREATED:20260420T191310Z
LAST-MODIFIED:20260420T191310Z
UID:1898-1778063400-1778065200@strategicbusinesshub.com
SUMMARY:May Book Club!
DESCRIPTION:The Power of Consistency\nBy: Weldon Long \nCDN Amazon: https://amzn.to/4qmOxdj \nJoin us Live EVERY Wednesday at 10:30 Eastern for 30 minutes in the Community Facebook Group! \nhttps://www.facebook.com/groups/strategicbusinesshub
URL:https://strategicbusinesshub.com/event/may-book-club/
LOCATION:Facebook LIVE
END:VEVENT
BEGIN:VEVENT
DTSTART;TZID=America/New_York:20260506T120000
DTEND;TZID=America/New_York:20260506T130000
DTSTAMP:20260423T204324
CREATED:20260420T190442Z
LAST-MODIFIED:20260420T190442Z
UID:1894-1778068800-1778072400@strategicbusinesshub.com
SUMMARY:CLASS!  THE FEAR OF BEING SEEN: How to Show Up Real in Your Business.
DESCRIPTION:You’ll walk away with:\n1. You’ll understand what’s really behind your fear\n2. How it’s quietly costing you clients and you personally.\n3. What ‘being real’ actually looks like\n4. How to adopt a new way to think when fear kicks in\n5. Practical tips to start showing up in a way that actually feels like you… \nShowing up real—not perfect—is what attracts the clients who truly get you. \nMeet Fran!\nFran has spent over 20 years as a ghostwriter\, helping small businesses find their voice and connect with the clients they were meant to serve. \nShe has stepped away from client work to focus on her passion project\, Unstuck Achievers\, where she helps others share their stories to help women get unstuck\, find their confidence\, and move forward with purpose. \nInstagram: @unstuckachievers or contact Fran at info@unstuckachievers.ca \nRegister for this class! $15.00 investment includes recording.\nteam@clarkstrategies.ca
URL:https://strategicbusinesshub.com/event/class-the-fear-of-being-seen-how-to-show-up-real-in-your-business/
LOCATION:ZOOM Online
END:VEVENT
END:VCALENDAR