BEGIN:VCALENDAR
VERSION:2.0
PRODID:-//Strategic Business Hub - ECPv6.15.20//NONSGML v1.0//EN
CALSCALE:GREGORIAN
METHOD:PUBLISH
X-ORIGINAL-URL:https://strategicbusinesshub.com
X-WR-CALDESC:Events for Strategic Business Hub
REFRESH-INTERVAL;VALUE=DURATION:PT1H
X-Robots-Tag:noindex
X-PUBLISHED-TTL:PT1H
BEGIN:VTIMEZONE
TZID:America/New_York
BEGIN:DAYLIGHT
TZOFFSETFROM:-0500
TZOFFSETTO:-0400
TZNAME:EDT
DTSTART:20250309T070000
END:DAYLIGHT
BEGIN:STANDARD
TZOFFSETFROM:-0400
TZOFFSETTO:-0500
TZNAME:EST
DTSTART:20251102T060000
END:STANDARD
BEGIN:DAYLIGHT
TZOFFSETFROM:-0500
TZOFFSETTO:-0400
TZNAME:EDT
DTSTART:20260308T070000
END:DAYLIGHT
BEGIN:STANDARD
TZOFFSETFROM:-0400
TZOFFSETTO:-0500
TZNAME:EST
DTSTART:20261101T060000
END:STANDARD
BEGIN:DAYLIGHT
TZOFFSETFROM:-0500
TZOFFSETTO:-0400
TZNAME:EDT
DTSTART:20270314T070000
END:DAYLIGHT
BEGIN:STANDARD
TZOFFSETFROM:-0400
TZOFFSETTO:-0500
TZNAME:EST
DTSTART:20271107T060000
END:STANDARD
END:VTIMEZONE
BEGIN:VEVENT
DTSTART;TZID=America/New_York:20260429T090000
DTEND;TZID=America/New_York:20260429T100000
DTSTAMP:20260423T170800
CREATED:20260312T183249Z
LAST-MODIFIED:20260312T183249Z
UID:1827-1777453200-1777456800@strategicbusinesshub.com
SUMMARY:ZOOM FREE Networking!  WEAR GREEN!  Earth Day Awareness!
DESCRIPTION:Topic this week:\nScrolling!\nWhat catches your eye?\nWhat content do you engage with? \nApril Challenge: What seeds did you plant this week and how are you caring for what you planted? \nNetworking and Growth!\nEvery week a different topic of Discussion!\nRound Table Mastermind and sharing! \nOur April Sponsor is:\nJoetta from Joetta’s Wellness Spot (Super Patch Rep)\nVisit her page: https://www.facebook.com/Joettaswellnessspot \nZoom Link for all meetings:\n9 a.m. Eastern\nZoom: https://us02web.zoom.us/j/9055151512 \nNo Membership EVER!\nFREE!\nNot Exclusive – but Inclusive – EVERYONE is invited!\nNetworking with a difference!\nBuilding Community!
URL:https://strategicbusinesshub.com/event/zoom-free-networking-wear-green-earth-day-awareness/
LOCATION:ZOOM Online
END:VEVENT
BEGIN:VEVENT
DTSTART;TZID=America/New_York:20260429T103000
DTEND;TZID=America/New_York:20260429T110000
DTSTAMP:20260423T170800
CREATED:20260312T182134Z
LAST-MODIFIED:20260312T182134Z
UID:1817-1777458600-1777460400@strategicbusinesshub.com
SUMMARY:Book Club - April 2026!
DESCRIPTION:We are reading: \nEat That FROG!\nBy: Brian Tracy \nCDN Amazon: https://amzn.to/4jce7PW \nJoin us Live in the Strategic Business Hub group EVERY Wednesday at 10:30 eastern for 20 minutes for a Facebook Live discussion on the BOOK!! \nThe Group is found here:  https://www.facebook.com/groups/strategicbusinesshub \n 
URL:https://strategicbusinesshub.com/event/book-club-april-2026-5/
LOCATION:Facebook LIVE
END:VEVENT
END:VCALENDAR