BEGIN:VCALENDAR
VERSION:2.0
PRODID:-//Strategic Business Hub - ECPv6.15.20//NONSGML v1.0//EN
CALSCALE:GREGORIAN
METHOD:PUBLISH
X-WR-CALNAME:Strategic Business Hub
X-ORIGINAL-URL:https://strategicbusinesshub.com
X-WR-CALDESC:Events for Strategic Business Hub
REFRESH-INTERVAL;VALUE=DURATION:PT1H
X-Robots-Tag:noindex
X-PUBLISHED-TTL:PT1H
BEGIN:VTIMEZONE
TZID:America/New_York
BEGIN:DAYLIGHT
TZOFFSETFROM:-0500
TZOFFSETTO:-0400
TZNAME:EDT
DTSTART:20250309T070000
END:DAYLIGHT
BEGIN:STANDARD
TZOFFSETFROM:-0400
TZOFFSETTO:-0500
TZNAME:EST
DTSTART:20251102T060000
END:STANDARD
BEGIN:DAYLIGHT
TZOFFSETFROM:-0500
TZOFFSETTO:-0400
TZNAME:EDT
DTSTART:20260308T070000
END:DAYLIGHT
BEGIN:STANDARD
TZOFFSETFROM:-0400
TZOFFSETTO:-0500
TZNAME:EST
DTSTART:20261101T060000
END:STANDARD
BEGIN:DAYLIGHT
TZOFFSETFROM:-0500
TZOFFSETTO:-0400
TZNAME:EDT
DTSTART:20270314T070000
END:DAYLIGHT
BEGIN:STANDARD
TZOFFSETFROM:-0400
TZOFFSETTO:-0500
TZNAME:EST
DTSTART:20271107T060000
END:STANDARD
END:VTIMEZONE
BEGIN:VEVENT
DTSTART;TZID=America/New_York:20260325T090000
DTEND;TZID=America/New_York:20260325T100000
DTSTAMP:20260423T204215
CREATED:20260216T184355Z
LAST-MODIFIED:20260216T184355Z
UID:1744-1774429200-1774432800@strategicbusinesshub.com
SUMMARY:ZOOM FREE Networking!  Wear Orange or a Butterfly!  Self Injury Awareness!
DESCRIPTION:Topic this week:Value Propositions!What are they?What are yours?\n\nMarch Challenge: What do you want to be ‘known’ for?\nWhat legacy would you like to leave behind?\n\nNetworking and Growth!Every week a different topic of Discussion!Round Table Mastermind and sharing!\n\nOur March Sponsor is:Mandeep from Nurse Next Door!Visit their page:https://www.facebook.com/nndyorkdale\n\nZoom Link for all meetings:9 a.m. EasternZoom: https://us02web.zoom.us/j/9055151512\n\nNo Membership EVER!FREE!Not Exclusive – but Inclusive – EVERYONE is invited!Networking with a difference!Building Community!
URL:https://strategicbusinesshub.com/event/zoom-free-networking-wear-orange-or-a-butterfly-self-injury-awareness/
LOCATION:ZOOM Online
END:VEVENT
BEGIN:VEVENT
DTSTART;TZID=America/New_York:20260325T103000
DTEND;TZID=America/New_York:20260325T110000
DTSTAMP:20260423T204215
CREATED:20260216T183425Z
LAST-MODIFIED:20260216T183425Z
UID:1736-1774434600-1774436400@strategicbusinesshub.com
SUMMARY:Book Club - March 2026!
DESCRIPTION:Buy Back Your Time: Get Unstuck\,\nReclaim Your Freedom\, and Build Your Empire\nBy: Dan Martell \nCDN Amazon: https://amzn.to/4aWweHq \nJoin us Live in the Strategic Business Hub group EVERY Wednesday at 10:30 eastern for 20 minutes for a Facebook Live discussion on the BOOK!! \nThe Group is found here:  https://www.facebook.com/groups/strategicbusinesshub
URL:https://strategicbusinesshub.com/event/book-club-march-2026-4/
LOCATION:Facebook LIVE
END:VEVENT
END:VCALENDAR