BEGIN:VCALENDAR
VERSION:2.0
PRODID:-//Strategic Business Hub - ECPv6.15.20//NONSGML v1.0//EN
CALSCALE:GREGORIAN
METHOD:PUBLISH
X-ORIGINAL-URL:https://strategicbusinesshub.com
X-WR-CALDESC:Events for Strategic Business Hub
REFRESH-INTERVAL;VALUE=DURATION:PT1H
X-Robots-Tag:noindex
X-PUBLISHED-TTL:PT1H
BEGIN:VTIMEZONE
TZID:America/New_York
BEGIN:DAYLIGHT
TZOFFSETFROM:-0500
TZOFFSETTO:-0400
TZNAME:EDT
DTSTART:20250309T070000
END:DAYLIGHT
BEGIN:STANDARD
TZOFFSETFROM:-0400
TZOFFSETTO:-0500
TZNAME:EST
DTSTART:20251102T060000
END:STANDARD
BEGIN:DAYLIGHT
TZOFFSETFROM:-0500
TZOFFSETTO:-0400
TZNAME:EDT
DTSTART:20260308T070000
END:DAYLIGHT
BEGIN:STANDARD
TZOFFSETFROM:-0400
TZOFFSETTO:-0500
TZNAME:EST
DTSTART:20261101T060000
END:STANDARD
BEGIN:DAYLIGHT
TZOFFSETFROM:-0500
TZOFFSETTO:-0400
TZNAME:EDT
DTSTART:20270314T070000
END:DAYLIGHT
BEGIN:STANDARD
TZOFFSETFROM:-0400
TZOFFSETTO:-0500
TZNAME:EST
DTSTART:20271107T060000
END:STANDARD
END:VTIMEZONE
BEGIN:VEVENT
DTSTART;TZID=America/New_York:20260218T090000
DTEND;TZID=America/New_York:20260218T100000
DTSTAMP:20260423T222315
CREATED:20260201T211823Z
LAST-MODIFIED:20260201T211823Z
UID:1699-1771405200-1771408800@strategicbusinesshub.com
SUMMARY:ZOOM FREE Networking!
DESCRIPTION:Topic this week:\nAdvertising!\nHave we done any advertising?\nWhat is it?\nThoughts on advertising? \nFebruary Challenge: If you could have dinner with any historical figure\, who would it be? \nNetworking and Growth!\nEvery week a different topic of Discussion!\nRound Table Mastermind and sharing! \nOur February Sponsor is:\nEric Bruce from Visibility Specialists!\nHis page: https://www.facebook.com/VisibilitySpecialists \nZoom Link for all meetings:\n9 a.m. Eastern\nZoom: https://us02web.zoom.us/j/9055151512 \nNo Membership EVER!\nFREE!\nNot Exclusive – but Inclusive – EVERYONE is invited!\nNetworking with a difference!\nBuilding Community!
URL:https://strategicbusinesshub.com/event/zoom-free-networking-67/
LOCATION:ZOOM Online
END:VEVENT
BEGIN:VEVENT
DTSTART;TZID=America/New_York:20260218T103000
DTEND;TZID=America/New_York:20260218T110000
DTSTAMP:20260423T222316
CREATED:20260201T214249Z
LAST-MODIFIED:20260201T214249Z
UID:1713-1771410600-1771412400@strategicbusinesshub.com
SUMMARY:Book Club – February 2026!
DESCRIPTION:February 2026!\nThe book we are reading is: \nThe Let Them Theory: A Life-Changing Tool\nBy: Mel Robbins \nCDN Amazon Link: https://amzn.to/4pQwX1C \nWe will be live in the Business Community Facebook Group!\nJoin us on the live on Facebook! \nhttps://www.facebook.com/groups/strategicbusinesshub \nAll our books are listed here:  BOOK CLUB!
URL:https://strategicbusinesshub.com/event/book-club-february-2026-3/
LOCATION:Facebook LIVE
END:VEVENT
END:VCALENDAR