BEGIN:VCALENDAR
VERSION:2.0
PRODID:-//Strategic Business Hub - ECPv6.15.20//NONSGML v1.0//EN
CALSCALE:GREGORIAN
METHOD:PUBLISH
X-ORIGINAL-URL:https://strategicbusinesshub.com
X-WR-CALDESC:Events for Strategic Business Hub
REFRESH-INTERVAL;VALUE=DURATION:PT1H
X-Robots-Tag:noindex
X-PUBLISHED-TTL:PT1H
BEGIN:VTIMEZONE
TZID:America/New_York
BEGIN:DAYLIGHT
TZOFFSETFROM:-0500
TZOFFSETTO:-0400
TZNAME:EDT
DTSTART:20250309T070000
END:DAYLIGHT
BEGIN:STANDARD
TZOFFSETFROM:-0400
TZOFFSETTO:-0500
TZNAME:EST
DTSTART:20251102T060000
END:STANDARD
BEGIN:DAYLIGHT
TZOFFSETFROM:-0500
TZOFFSETTO:-0400
TZNAME:EDT
DTSTART:20260308T070000
END:DAYLIGHT
BEGIN:STANDARD
TZOFFSETFROM:-0400
TZOFFSETTO:-0500
TZNAME:EST
DTSTART:20261101T060000
END:STANDARD
BEGIN:DAYLIGHT
TZOFFSETFROM:-0500
TZOFFSETTO:-0400
TZNAME:EDT
DTSTART:20270314T070000
END:DAYLIGHT
BEGIN:STANDARD
TZOFFSETFROM:-0400
TZOFFSETTO:-0500
TZNAME:EST
DTSTART:20271107T060000
END:STANDARD
END:VTIMEZONE
BEGIN:VTIMEZONE
TZID:America/Phoenix
BEGIN:STANDARD
TZOFFSETFROM:-0700
TZOFFSETTO:-0700
TZNAME:MST
DTSTART:20250101T000000
END:STANDARD
END:VTIMEZONE
BEGIN:VEVENT
DTSTART;TZID=America/New_York:20260114T090000
DTEND;TZID=America/New_York:20260114T100000
DTSTAMP:20260423T224355
CREATED:20251217T180045Z
LAST-MODIFIED:20251217T180045Z
UID:1595-1768381200-1768384800@strategicbusinesshub.com
SUMMARY:ZOOM FREE Networking!
DESCRIPTION:Topic this week:\nBusiness/Life Balance\nHow do you find and maintain a balance?\nWhat boundaries do you have in place? \nJanuary Challenge:\nFinish this Sentence: This year I will……. \nNetworking and Growth!\nEvery week a different topic of Discussion!\nRound Table Mastermind and sharing! \nOur January Sponsor is:\nCatherine Napoli Bruce from Inner Resilience\nHer page: https://www.facebook.com/myinnerresilience \nZoom Link for all meetings:\n9 a.m. Eastern\nZoom: https://us02web.zoom.us/j/9055151512 \nNo Membership EVER!\nFREE!\nNot Exclusive – but Inclusive – EVERYONE is invited!\nNetworking with a difference!\nBuilding Community!
URL:https://strategicbusinesshub.com/event/zoom-free-networking-63/
LOCATION:ZOOM Online
END:VEVENT
BEGIN:VEVENT
DTSTART;TZID=America/New_York:20260114T103000
DTEND;TZID=America/New_York:20260114T110000
DTSTAMP:20260423T224355
CREATED:20251226T200559Z
LAST-MODIFIED:20251226T200559Z
UID:1647-1768386600-1768388400@strategicbusinesshub.com
SUMMARY:Book Club - January 2026
DESCRIPTION:January 2026\nThe 7 Habits of Highly Effective People:\nPowerful Lessons in Personal Change\nBy: Stephen R. Covey \nCanadian Amazon Link: https://amzn.to/4p4QvhI \nU.S. Amazon Link: https://amzn.to/4q2p4GF \nJoin us Live on TikTok! \nOr join the conversation in the Community Facebook Group:  www.facebook.com/groups/strategicbusinesshub \nAs Amazon Associates we may earn from qualifying purchases
URL:https://strategicbusinesshub.com/event/book-club-january-2026-2/
LOCATION:TIKTOK LIVE
END:VEVENT
BEGIN:VEVENT
DTSTART;TZID=America/Phoenix:20260114T133000
DTEND;TZID=America/Phoenix:20260114T150000
DTSTAMP:20260423T224355
CREATED:20251217T181947Z
LAST-MODIFIED:20251217T181947Z
UID:1605-1768397400-1768402800@strategicbusinesshub.com
SUMMARY:Payson and Surrounding Area In-Person Networking
DESCRIPTION:NEW DAY AND NEW TIME!\n2nd Wednesday of every month! \nJoin Suzy Rawlins on Wednesday January 14th\, 2026\n1:30 pm Arizona time! \nNEW LOCATION!\nLa Sierra Mexican Restaurant\n800 N Beeline Hwy A\, Payson\, AZ 85541 \nwww.facebook.com/lasierrapaysonaz \nMeet us there for some networking and conversation!\nFREE!\nIntroduce yourself.\nBring some business cards.\nBe open to connections and collaborations.\nJoin in on the topic of discussion! \nAny questions please reach out!\nEVERYONE is very WELCOMED and all are absolutely invited!\nWe are inclusive! NOT an exclusive group
URL:https://strategicbusinesshub.com/event/payson-and-surrounding-area-in-person-networking-7/
LOCATION:La Sierra Mexican\, 800 N. Beeline Hwy A\, Payson\, AZ\, 85541\, United States
END:VEVENT
END:VCALENDAR