BEGIN:VCALENDAR
VERSION:2.0
PRODID:-//Strategic Business Hub - ECPv6.15.20//NONSGML v1.0//EN
CALSCALE:GREGORIAN
METHOD:PUBLISH
X-ORIGINAL-URL:https://strategicbusinesshub.com
X-WR-CALDESC:Events for Strategic Business Hub
REFRESH-INTERVAL;VALUE=DURATION:PT1H
X-Robots-Tag:noindex
X-PUBLISHED-TTL:PT1H
BEGIN:VTIMEZONE
TZID:America/New_York
BEGIN:DAYLIGHT
TZOFFSETFROM:-0500
TZOFFSETTO:-0400
TZNAME:EDT
DTSTART:20250309T070000
END:DAYLIGHT
BEGIN:STANDARD
TZOFFSETFROM:-0400
TZOFFSETTO:-0500
TZNAME:EST
DTSTART:20251102T060000
END:STANDARD
BEGIN:DAYLIGHT
TZOFFSETFROM:-0500
TZOFFSETTO:-0400
TZNAME:EDT
DTSTART:20260308T070000
END:DAYLIGHT
BEGIN:STANDARD
TZOFFSETFROM:-0400
TZOFFSETTO:-0500
TZNAME:EST
DTSTART:20261101T060000
END:STANDARD
BEGIN:DAYLIGHT
TZOFFSETFROM:-0500
TZOFFSETTO:-0400
TZNAME:EDT
DTSTART:20270314T070000
END:DAYLIGHT
BEGIN:STANDARD
TZOFFSETFROM:-0400
TZOFFSETTO:-0500
TZNAME:EST
DTSTART:20271107T060000
END:STANDARD
END:VTIMEZONE
BEGIN:VEVENT
DTSTART;TZID=America/New_York:20260107T090000
DTEND;TZID=America/New_York:20260107T100000
DTSTAMP:20260423T224355
CREATED:20251217T175839Z
LAST-MODIFIED:20251217T175839Z
UID:1593-1767776400-1767780000@strategicbusinesshub.com
SUMMARY:ZOOM FREE Networking!
DESCRIPTION:Topic this week:\nStrategy!\nDo you have a business strategic plan in place?\nWhat does business strategy look like for you?\nWhat do we need to be strategic about? \nJanuary Challenge:\nFinish this Sentence: This year I will……. \nNetworking and Growth!\nEvery week a different topic of Discussion!\nRound Table Mastermind and sharing! \nOur January Sponsor is:\nCatherine Napoli Bruce from Inner Resilience\nHer page: https://www.facebook.com/myinnerresilience \nZoom Link for all meetings:\n9 a.m. Eastern\nZoom: https://us02web.zoom.us/j/9055151512 \nNo Membership EVER!\nFREE!\nNot Exclusive – but Inclusive – EVERYONE is invited!\nNetworking with a difference!\nBuilding Community!
URL:https://strategicbusinesshub.com/event/zoom-free-networking-62/
LOCATION:ZOOM Online
END:VEVENT
BEGIN:VEVENT
DTSTART;TZID=America/New_York:20260107T103000
DTEND;TZID=America/New_York:20260107T110000
DTSTAMP:20260423T224355
CREATED:20251226T200427Z
LAST-MODIFIED:20251226T200427Z
UID:1645-1767781800-1767783600@strategicbusinesshub.com
SUMMARY:Book Club - January 2026
DESCRIPTION:January 2026\nThe 7 Habits of Highly Effective People:\nPowerful Lessons in Personal Change\nBy: Stephen R. Covey \nCanadian Amazon Link: https://amzn.to/4p4QvhI \nU.S. Amazon Link: https://amzn.to/4q2p4GF \nJoin us Live on TikTok! \nOr join the conversation in the Community Facebook Group:  www.facebook.com/groups/strategicbusinesshub \nAs Amazon Associates we may earn from qualifying purchases
URL:https://strategicbusinesshub.com/event/book-club-january-2026/
LOCATION:TIKTOK LIVE
END:VEVENT
BEGIN:VEVENT
DTSTART;TZID=America/New_York:20260107T120000
DTEND;TZID=America/New_York:20260107T130000
DTSTAMP:20260423T224355
CREATED:20251217T180918Z
LAST-MODIFIED:20251217T180918Z
UID:1601-1767787200-1767790800@strategicbusinesshub.com
SUMMARY:60 Minute Class!  The POWER of Social Media for OUR BUSINESSES!
DESCRIPTION:Let’s start the year off USING Social Media!\n(rather than feeling used by it) \nLet’s talk and learn about all the things Social Media CAN do for us and our businesses!\nLet’s talk about the power in being here\, showing up and working the social media platforms!\nYes\, let’s talk strategy!\nLet’s talk about all the things we can take away from social media!\nLet’s talk about all it has to offer!\nAND Let’s set up a tracking system to ensure we are getting what we want and hope for out of it. \nJoin Cheryl for this 60 minute class! It will be worth every second and yes\, it will be recorded.\nSign up today – there is only room for 50 participants!\n$15.00
URL:https://strategicbusinesshub.com/event/60-minute-class-the-power-of-social-media-for-our-businesses/
LOCATION:ZOOM Online
END:VEVENT
END:VCALENDAR