BEGIN:VCALENDAR
VERSION:2.0
PRODID:-//Strategic Business Hub - ECPv6.15.20//NONSGML v1.0//EN
CALSCALE:GREGORIAN
METHOD:PUBLISH
X-ORIGINAL-URL:https://strategicbusinesshub.com
X-WR-CALDESC:Events for Strategic Business Hub
REFRESH-INTERVAL;VALUE=DURATION:PT1H
X-Robots-Tag:noindex
X-PUBLISHED-TTL:PT1H
BEGIN:VTIMEZONE
TZID:America/New_York
BEGIN:DAYLIGHT
TZOFFSETFROM:-0500
TZOFFSETTO:-0400
TZNAME:EDT
DTSTART:20240310T070000
END:DAYLIGHT
BEGIN:STANDARD
TZOFFSETFROM:-0400
TZOFFSETTO:-0500
TZNAME:EST
DTSTART:20241103T060000
END:STANDARD
BEGIN:DAYLIGHT
TZOFFSETFROM:-0500
TZOFFSETTO:-0400
TZNAME:EDT
DTSTART:20250309T070000
END:DAYLIGHT
BEGIN:STANDARD
TZOFFSETFROM:-0400
TZOFFSETTO:-0500
TZNAME:EST
DTSTART:20251102T060000
END:STANDARD
BEGIN:DAYLIGHT
TZOFFSETFROM:-0500
TZOFFSETTO:-0400
TZNAME:EDT
DTSTART:20260308T070000
END:DAYLIGHT
BEGIN:STANDARD
TZOFFSETFROM:-0400
TZOFFSETTO:-0500
TZNAME:EST
DTSTART:20261101T060000
END:STANDARD
END:VTIMEZONE
BEGIN:VTIMEZONE
TZID:America/Toronto
BEGIN:DAYLIGHT
TZOFFSETFROM:-0500
TZOFFSETTO:-0400
TZNAME:EDT
DTSTART:20240310T070000
END:DAYLIGHT
BEGIN:STANDARD
TZOFFSETFROM:-0400
TZOFFSETTO:-0500
TZNAME:EST
DTSTART:20241103T060000
END:STANDARD
BEGIN:DAYLIGHT
TZOFFSETFROM:-0500
TZOFFSETTO:-0400
TZNAME:EDT
DTSTART:20250309T070000
END:DAYLIGHT
BEGIN:STANDARD
TZOFFSETFROM:-0400
TZOFFSETTO:-0500
TZNAME:EST
DTSTART:20251102T060000
END:STANDARD
BEGIN:DAYLIGHT
TZOFFSETFROM:-0500
TZOFFSETTO:-0400
TZNAME:EDT
DTSTART:20260308T070000
END:DAYLIGHT
BEGIN:STANDARD
TZOFFSETFROM:-0400
TZOFFSETTO:-0500
TZNAME:EST
DTSTART:20261101T060000
END:STANDARD
END:VTIMEZONE
BEGIN:VEVENT
DTSTART;TZID=America/New_York:20251231T090000
DTEND;TZID=America/New_York:20251231T100000
DTSTAMP:20260423T224458
CREATED:20251117T182800Z
LAST-MODIFIED:20251117T182800Z
UID:1560-1767171600-1767175200@strategicbusinesshub.com
SUMMARY:ZOOM FREE Networking!
DESCRIPTION:Topic this week:\nCelebration!\nCelebrating the year end!\nCelebrating things to come! \nDecember Challenge:\nWhat gift would you love to give the world? \nNetworking and Growth!\nEvery week a different topic of Discussion!\nRound Table Mastermind and sharing! \nOur December Sponsor is:\nCarole Parsons\nHer page: https://www.facebook.com/CaroleParsonsVideoCoach\nFind Carole under VIDEO MARKETING \nZoom Link:\n9 a.m. Eastern\nZoom: https://us02web.zoom.us/j/9055151512 \nNo Membership EVER!\nFREE!\nNot Exclusive – but Inclusive – EVERYONE is invited! \nNetworking with a difference!\nBuilding Community!
URL:https://strategicbusinesshub.com/event/zoom-free-networking-61/
LOCATION:ZOOM Online
END:VEVENT
BEGIN:VEVENT
DTSTART;TZID=America/Toronto:20251231T103000
DTEND;TZID=America/Toronto:20251231T110000
DTSTAMP:20260423T224458
CREATED:20251117T184905Z
LAST-MODIFIED:20251117T184905Z
UID:1576-1767177000-1767178800@strategicbusinesshub.com
SUMMARY:Book Club – December 2025
DESCRIPTION:December 2025 \nDrive: The Surprising Truth About What Motivates Us\nBY: Daniel Pink \nCanadian Link: https://amzn.to/3JK2yCn \nU.S. Amazon Link: https://amzn.to/3Luriz0 \nJoin us LIVE ON TIKTOK – \nWe will be live on Clark Strategies TikTok Channel EVERY Wednesday in December at 10:30 eastern!\nhttps://www.tiktok.com/@clarkstrategies \nAs Amazon Associates we may earn from qualifying purchases.
URL:https://strategicbusinesshub.com/event/book-club-december-2025-5/
LOCATION:TIKTOK LIVE
END:VEVENT
END:VCALENDAR