BEGIN:VCALENDAR
VERSION:2.0
PRODID:-//Strategic Business Hub - ECPv6.15.20//NONSGML v1.0//EN
CALSCALE:GREGORIAN
METHOD:PUBLISH
X-WR-CALNAME:Strategic Business Hub
X-ORIGINAL-URL:https://strategicbusinesshub.com
X-WR-CALDESC:Events for Strategic Business Hub
REFRESH-INTERVAL;VALUE=DURATION:PT1H
X-Robots-Tag:noindex
X-PUBLISHED-TTL:PT1H
BEGIN:VTIMEZONE
TZID:America/Phoenix
BEGIN:STANDARD
TZOFFSETFROM:-0700
TZOFFSETTO:-0700
TZNAME:MST
DTSTART:20240101T000000
END:STANDARD
END:VTIMEZONE
BEGIN:VEVENT
DTSTART;TZID=America/Phoenix:20251211T110000
DTEND;TZID=America/Phoenix:20251211T120000
DTSTAMP:20260424T003208
CREATED:20251117T183814Z
LAST-MODIFIED:20251117T183814Z
UID:1566-1765450800-1765454400@strategicbusinesshub.com
SUMMARY:Payson and Surrounding Area In-Person Networking
DESCRIPTION:Join us on Thursday December 11th\, 2025! \n11 am till NOON Local time! \nNEW LOCATION!\nLa Sierra Mexican Restaurant\n800 N Beeline Hwy A\, Payson\, AZ 85541 \nwww.facebook.com/lasierrapaysonaz \nMeet us there for some networking and conversation! \nFREE!\nIntroduce yourself.\nBring some business cards. \nBe open to connections and collaborations.\nJoin in on the topic of discussion!\nAny questions please reach out! \nEVERYONE is very WELCOMED and all are absolutely invited! \nWe are inclusive! NOT an exclusive group.
URL:https://strategicbusinesshub.com/event/payson-and-surrounding-area-in-person-networking-6/
LOCATION:La Sierra Mexican\, 800 N. Beeline Hwy A\, Payson\, AZ\, 85541\, United States
END:VEVENT
END:VCALENDAR