BEGIN:VCALENDAR
VERSION:2.0
PRODID:-//Strategic Business Hub - ECPv6.15.20//NONSGML v1.0//EN
CALSCALE:GREGORIAN
METHOD:PUBLISH
X-ORIGINAL-URL:https://strategicbusinesshub.com
X-WR-CALDESC:Events for Strategic Business Hub
REFRESH-INTERVAL;VALUE=DURATION:PT1H
X-Robots-Tag:noindex
X-PUBLISHED-TTL:PT1H
BEGIN:VTIMEZONE
TZID:America/New_York
BEGIN:DAYLIGHT
TZOFFSETFROM:-0500
TZOFFSETTO:-0400
TZNAME:EDT
DTSTART:20240310T070000
END:DAYLIGHT
BEGIN:STANDARD
TZOFFSETFROM:-0400
TZOFFSETTO:-0500
TZNAME:EST
DTSTART:20241103T060000
END:STANDARD
BEGIN:DAYLIGHT
TZOFFSETFROM:-0500
TZOFFSETTO:-0400
TZNAME:EDT
DTSTART:20250309T070000
END:DAYLIGHT
BEGIN:STANDARD
TZOFFSETFROM:-0400
TZOFFSETTO:-0500
TZNAME:EST
DTSTART:20251102T060000
END:STANDARD
BEGIN:DAYLIGHT
TZOFFSETFROM:-0500
TZOFFSETTO:-0400
TZNAME:EDT
DTSTART:20260308T070000
END:DAYLIGHT
BEGIN:STANDARD
TZOFFSETFROM:-0400
TZOFFSETTO:-0500
TZNAME:EST
DTSTART:20261101T060000
END:STANDARD
END:VTIMEZONE
BEGIN:VEVENT
DTSTART;TZID=America/New_York:20251105T090000
DTEND;TZID=America/New_York:20251105T100000
DTSTAMP:20260424T023206
CREATED:20251010T205856Z
LAST-MODIFIED:20251010T205856Z
UID:1478-1762333200-1762336800@strategicbusinesshub.com
SUMMARY:ZOOM FREE Networking
DESCRIPTION:Topic this week:\nBusiness Organization!\nHow do you handle emails\, files\, paperwork?\nHow do you organize tasks\, appointments? \nNovember Challenge:\nShare something you are grateful for! \nNetworking and Growth!\nEvery week a different topic of Discussion!\nRound Table Mastermind and sharing! \nOur November Sponsor is:\nAmanda Gibson!\nHer page: www.facebook.com/yourfuture.amandagibson \nZoom Link:\n9 a.m. Eastern\nZoom: https://us02web.zoom.us/j/9055151512 \nNo Membership EVER!\nFREE!\nNot Exclusive – but Inclusive – EVERYONE is invited! \nNetworking with a difference!\nBuilding Community!
URL:https://strategicbusinesshub.com/event/zoom-free-networking-55/
LOCATION:ZOOM Online
END:VEVENT
BEGIN:VEVENT
DTSTART;TZID=America/New_York:20251105T103000
DTEND;TZID=America/New_York:20251105T110000
DTSTAMP:20260424T023206
CREATED:20251010T211123Z
LAST-MODIFIED:20251010T212152Z
UID:1486-1762338600-1762340400@strategicbusinesshub.com
SUMMARY:Book Club – November 2025
DESCRIPTION:November 2025 \nThe Great Connection\nBy Arnie Warren \nCanadian Link: https://amzn.to/3YsDVyt \nU.S. Amazon Link: https://amzn.to/4hhorEY \nAll books for the year are listed on:\nwww.strategicbusinesshub.com \nJoin us LIVE ON TIKTOK –\nWe will be live on Roots & Boots Intentional Livings TikTok Channel EVERY Wednesday in November at 10:30 eastern! \n\n @coachsuzyrawlins \n\n  \nAs Amazon Associates we may earn from qualifying purchases.
URL:https://strategicbusinesshub.com/event/book-club-november-2025/
LOCATION:TIKTOK LIVE
END:VEVENT
BEGIN:VEVENT
DTSTART;TZID=America/New_York:20251105T120000
DTEND;TZID=America/New_York:20251105T130000
DTSTAMP:20260424T023206
CREATED:20251010T204432Z
LAST-MODIFIED:20251010T204432Z
UID:1470-1762344000-1762347600@strategicbusinesshub.com
SUMMARY:November 60 Minute Class - From Chaos to Clarity
DESCRIPTION:Attend live or get the recording! \n“From Chaos to Clarity: Transform Your Workspace & Life in Just 15 Minutes a Day” \n3 Key Takeaways! \n1. Productivity Foundation: The 3 Core Organizing Principles – Attendees will learn the fundamental systems that eliminate wasted time searching for items\, reduce decision fatigue\, and create sustainable organization in both professional and personal environments. \n2. The 15-Minute Reset System – A practical\, immediately implementable daily routine that helps busy professionals maintain organized spaces without overwhelming time commitments\, leading to reduced stress and increased efficiency. \n3. Personalized Action Planning – Each attendee will leave with a customized starting point based on their specific pain points\, plus quick-win strategies for their biggest organizational challenges. \nConnect with Erin!\nhttps://www.facebook.com/GOwithErin \nhttps://www.gowitherin.com/ \nThis class will be so beneficial for us all. \nThese classes are MEANT TO BE Affordable\, and accessible to you no matter where you are at in your entrepreneurial journey! \nRegister with Cheryl – team@clarkstrategies.ca $15.00 ONLY
URL:https://strategicbusinesshub.com/event/november-60-minute-class-from-chaos-to-clarity/
LOCATION:ZOOM Online
END:VEVENT
END:VCALENDAR