BEGIN:VCALENDAR
VERSION:2.0
PRODID:-//Strategic Business Hub - ECPv6.15.20//NONSGML v1.0//EN
CALSCALE:GREGORIAN
METHOD:PUBLISH
X-ORIGINAL-URL:https://strategicbusinesshub.com
X-WR-CALDESC:Events for Strategic Business Hub
REFRESH-INTERVAL;VALUE=DURATION:PT1H
X-Robots-Tag:noindex
X-PUBLISHED-TTL:PT1H
BEGIN:VTIMEZONE
TZID:America/New_York
BEGIN:DAYLIGHT
TZOFFSETFROM:-0500
TZOFFSETTO:-0400
TZNAME:EDT
DTSTART:20240310T070000
END:DAYLIGHT
BEGIN:STANDARD
TZOFFSETFROM:-0400
TZOFFSETTO:-0500
TZNAME:EST
DTSTART:20241103T060000
END:STANDARD
BEGIN:DAYLIGHT
TZOFFSETFROM:-0500
TZOFFSETTO:-0400
TZNAME:EDT
DTSTART:20250309T070000
END:DAYLIGHT
BEGIN:STANDARD
TZOFFSETFROM:-0400
TZOFFSETTO:-0500
TZNAME:EST
DTSTART:20251102T060000
END:STANDARD
BEGIN:DAYLIGHT
TZOFFSETFROM:-0500
TZOFFSETTO:-0400
TZNAME:EDT
DTSTART:20260308T070000
END:DAYLIGHT
BEGIN:STANDARD
TZOFFSETFROM:-0400
TZOFFSETTO:-0500
TZNAME:EST
DTSTART:20261101T060000
END:STANDARD
END:VTIMEZONE
BEGIN:VEVENT
DTSTART;TZID=America/New_York:20251101T133000
DTEND;TZID=America/New_York:20251101T170000
DTSTAMP:20260424T023207
CREATED:20251010T205544Z
LAST-MODIFIED:20251010T205544Z
UID:1476-1762003800-1762016400@strategicbusinesshub.com
SUMMARY:November BLOGS DUE – FREE Blogging Opportunity!
DESCRIPTION:BLOG with us!\nAll blogs are due by the 1st of the month! \n250 – 600 words – Emailed to: admin@strategicbusinesshub.com \nPLEASE include your full name\, business name\, website and all social media links/urls.\nAll blogs will be published – with FULL credit to you and live links to where you can be found! \nNovember’s Blog Prompt is:\nWhat is your purpose?\nContributor of the Prompt: Ceone Leistner\nConnect with Ceone www.facebook.com/ceone.leistner \nWhy Blog…\nSearch engine ranking: A blog can increase your chances of ranking higher in search by 434%\nBuilding trust: Blogs can help build trust with potential and existing customers.\nBe seen and have your personality shine through for connection.\nEnhance Link Building Efforts!\nPromote YOU and your brand for free.\nNurture relationships.\nBlogs can be repurposed for Social Media marketing and Newsletters. \nAny questions – please email: admin@strategicbusinesshub.com
URL:https://strategicbusinesshub.com/event/november-blogs-due-free-blogging-opportunity/
LOCATION:ZOOM Online
END:VEVENT
END:VCALENDAR