BEGIN:VCALENDAR
VERSION:2.0
PRODID:-//Strategic Business Hub - ECPv6.15.20//NONSGML v1.0//EN
CALSCALE:GREGORIAN
METHOD:PUBLISH
X-ORIGINAL-URL:https://strategicbusinesshub.com
X-WR-CALDESC:Events for Strategic Business Hub
REFRESH-INTERVAL;VALUE=DURATION:PT1H
X-Robots-Tag:noindex
X-PUBLISHED-TTL:PT1H
BEGIN:VTIMEZONE
TZID:America/New_York
BEGIN:DAYLIGHT
TZOFFSETFROM:-0500
TZOFFSETTO:-0400
TZNAME:EDT
DTSTART:20240310T070000
END:DAYLIGHT
BEGIN:STANDARD
TZOFFSETFROM:-0400
TZOFFSETTO:-0500
TZNAME:EST
DTSTART:20241103T060000
END:STANDARD
BEGIN:DAYLIGHT
TZOFFSETFROM:-0500
TZOFFSETTO:-0400
TZNAME:EDT
DTSTART:20250309T070000
END:DAYLIGHT
BEGIN:STANDARD
TZOFFSETFROM:-0400
TZOFFSETTO:-0500
TZNAME:EST
DTSTART:20251102T060000
END:STANDARD
BEGIN:DAYLIGHT
TZOFFSETFROM:-0500
TZOFFSETTO:-0400
TZNAME:EDT
DTSTART:20260308T070000
END:DAYLIGHT
BEGIN:STANDARD
TZOFFSETFROM:-0400
TZOFFSETTO:-0500
TZNAME:EST
DTSTART:20261101T060000
END:STANDARD
END:VTIMEZONE
BEGIN:VEVENT
DTSTART;TZID=America/New_York:20251001T090000
DTEND;TZID=America/New_York:20251001T100000
DTSTAMP:20260424T044728
CREATED:20250915T211917Z
LAST-MODIFIED:20250915T211917Z
UID:1354-1759309200-1759312800@strategicbusinesshub.com
SUMMARY:ZOOM FREE Networking
DESCRIPTION:Topic this week:\n4th Quarter and NEW Month Thoughts!\nPlans?\nGoals?\nObjectives? \nOctober Challenge:\nAnswer the “This or That” question of the week and explain your choice. \nNetworking and Growth!\nEvery week a different topic of Discussion!\nRound Table Mastermind and sharing! \nOur October Sponsor is:\nAlana Roberts owner of Amazingly Virtual!\nHer page: www.facebook.com/amazinglyvirtual \nZoom Link:\n9 a.m. Eastern\nZoom: https://us02web.zoom.us/j/9055151512\nPasscode: 111111 \nNo Membership EVER! \nFREE! \nNot Exclusive – but Inclusive – EVERYONE is invited!\nNetworking with a difference!\nBuilding Community!
URL:https://strategicbusinesshub.com/event/zoom-free-networking-51/
LOCATION:ZOOM Online
END:VEVENT
BEGIN:VEVENT
DTSTART;TZID=America/New_York:20251001T103000
DTEND;TZID=America/New_York:20251001T110000
DTSTAMP:20260424T044728
CREATED:20250915T214213Z
LAST-MODIFIED:20250915T214352Z
UID:1368-1759314600-1759316400@strategicbusinesshub.com
SUMMARY:Book Club – October 2025
DESCRIPTION:October 2025\nGetting Things Done\nBy David Allen \nCanadian Amazon: https://amzn.to/3YuPfdJ \nU.S. Amazon Link: https://amzn.to/4ffHM7B \nAll books for the year are listed on:\nwww.strategicbusinesshub.com \nJoin us LIVE ON TIKTOK –  www.tiktok.com/@clarkstrategies \nWe will be live on Cheryl Clark / Clark Strategies Channel EVERY Wednesday in October at 10:30 eastern!\nJoin us for 15 to 30 minutes of conversation!
URL:https://strategicbusinesshub.com/event/book-club-october-2025/
LOCATION:TIKTOK LIVE
END:VEVENT
BEGIN:VEVENT
DTSTART;TZID=America/New_York:20251001T120000
DTEND;TZID=America/New_York:20251001T130000
DTSTAMP:20260424T044728
CREATED:20250924T172350Z
LAST-MODIFIED:20250924T172350Z
UID:1401-1759320000-1759323600@strategicbusinesshub.com
SUMMARY:October 60 Minute Class – Newsletters!
DESCRIPTION:October 2025\nClass #10 \nAttend live or get the recording! \nThere will be a handout emailed to all registered with tips\, tools and how to notes!\nNewsletters! \nIf this is part of your Fall Marketing plan or part of your 2026 Goals this is the class for you!\nCheryl is fluent in MailChimp and Constant Contact! \n2 of the most popular programs used for sending newsletters! \nThe Takeaways:\n1. How to get started! Database building\, Content Ideas.\n2. Creating a MailChimp Account and using this platform.\n3. Sending your newsletter and then viewing the reports. \nConnect with Cheryl:\nCheryl’s Personal Professional Profile:\nwww.facebook.com/CherylClarkStrategiesLedMeToThis \nCheryl’s Business Page:\nwww.facebook.com/clarkbusinessstrategies \nThis class will be so beneficial for us all. \nThese classes are MEANT TO BE Affordable\, and accessible to you no matter where you are at in your entrepreneurial journey!\nRegister with Cheryl – team@clarkstrategies.ca $15.00 ONLY
URL:https://strategicbusinesshub.com/event/october-60-minute-class-newsletters/
LOCATION:ZOOM Online
END:VEVENT
END:VCALENDAR