BEGIN:VCALENDAR
VERSION:2.0
PRODID:-//Strategic Business Hub - ECPv6.15.20//NONSGML v1.0//EN
CALSCALE:GREGORIAN
METHOD:PUBLISH
X-ORIGINAL-URL:https://strategicbusinesshub.com
X-WR-CALDESC:Events for Strategic Business Hub
REFRESH-INTERVAL;VALUE=DURATION:PT1H
X-Robots-Tag:noindex
X-PUBLISHED-TTL:PT1H
BEGIN:VTIMEZONE
TZID:America/Phoenix
BEGIN:STANDARD
TZOFFSETFROM:-0700
TZOFFSETTO:-0700
TZNAME:MST
DTSTART:20240101T000000
END:STANDARD
END:VTIMEZONE
BEGIN:VEVENT
DTSTART;TZID=America/Phoenix:20250911T110000
DTEND;TZID=America/Phoenix:20250911T120000
DTSTAMP:20260424T065938
CREATED:20250819T192512Z
LAST-MODIFIED:20250819T192512Z
UID:1315-1757588400-1757592000@strategicbusinesshub.com
SUMMARY:Payson and Surrounding Area In-Person Networking
DESCRIPTION:Join us on Thursday September 11th\, 2025!(2nd Thursday of every month) \n11 am till NOON Local time! \nNEW LOCATION! \nLa Sierra Mexican Restaurant800 N Beeline Hwy A\, Payson\, AZ 85541www.facebook.com/lasierrapaysonaz \nMeet us there for some networking and conversation! \nFREE! \nIntroduce yourself.Bring some business cards.Be open to connections and collaborations.Join in on the topic of discussion!Any questions please reach out! \n2nd Thursday of Every Month!!!EVERYONE is very WELCOMED and all are absolutely invited! \nWe are inclusive! NOT an exclusive group.
URL:https://strategicbusinesshub.com/event/payson-and-surrounding-area-in-person-networking-3/
LOCATION:La Sierra Mexican\, 800 N. Beeline Hwy A\, Payson\, AZ\, 85541\, United States
END:VEVENT
END:VCALENDAR