BEGIN:VCALENDAR
VERSION:2.0
PRODID:-//Strategic Business Hub - ECPv6.15.20//NONSGML v1.0//EN
CALSCALE:GREGORIAN
METHOD:PUBLISH
X-ORIGINAL-URL:https://strategicbusinesshub.com
X-WR-CALDESC:Events for Strategic Business Hub
REFRESH-INTERVAL;VALUE=DURATION:PT1H
X-Robots-Tag:noindex
X-PUBLISHED-TTL:PT1H
BEGIN:VTIMEZONE
TZID:America/New_York
BEGIN:DAYLIGHT
TZOFFSETFROM:-0500
TZOFFSETTO:-0400
TZNAME:EDT
DTSTART:20240310T070000
END:DAYLIGHT
BEGIN:STANDARD
TZOFFSETFROM:-0400
TZOFFSETTO:-0500
TZNAME:EST
DTSTART:20241103T060000
END:STANDARD
BEGIN:DAYLIGHT
TZOFFSETFROM:-0500
TZOFFSETTO:-0400
TZNAME:EDT
DTSTART:20250309T070000
END:DAYLIGHT
BEGIN:STANDARD
TZOFFSETFROM:-0400
TZOFFSETTO:-0500
TZNAME:EST
DTSTART:20251102T060000
END:STANDARD
BEGIN:DAYLIGHT
TZOFFSETFROM:-0500
TZOFFSETTO:-0400
TZNAME:EDT
DTSTART:20260308T070000
END:DAYLIGHT
BEGIN:STANDARD
TZOFFSETFROM:-0400
TZOFFSETTO:-0500
TZNAME:EST
DTSTART:20261101T060000
END:STANDARD
END:VTIMEZONE
BEGIN:VEVENT
DTSTART;TZID=America/New_York:20250910T090000
DTEND;TZID=America/New_York:20250910T100000
DTSTAMP:20260424T065938
CREATED:20250819T191134Z
LAST-MODIFIED:20250819T191134Z
UID:1304-1757494800-1757498400@strategicbusinesshub.com
SUMMARY:ZOOM FREE Networking
DESCRIPTION:Topic this week:Habits!What habits do you have in and for your business?What are some ways you have built good habits? \nSeptember Challenge:Share what you are excited about in the coming week! \nNetworking and Growth!Every week a different topic of Discussion!Round Table Mastermind and sharing! \nOur September Sponsor is:Margaret Dennis from Evolv Coaching! \nMargaret: www.facebook.com/margaret.dennis.33 \nHer page: www.facebook.com/evolvcoaching \nZoom Link:9 a.m. EasternZoom: https://us02web.zoom.us/j/9055151512Passcode: 111111 \nNo Membership EVER!FREE!Not Exclusive – but Inclusive – EVERYONE is invited!Networking with a difference!Building Community!
URL:https://strategicbusinesshub.com/event/zoom-free-networking-49/
LOCATION:ZOOM Online
END:VEVENT
BEGIN:VEVENT
DTSTART;TZID=America/New_York:20250910T103000
DTEND;TZID=America/New_York:20250910T110000
DTSTAMP:20260424T065938
CREATED:20250819T194011Z
LAST-MODIFIED:20250819T194011Z
UID:1323-1757500200-1757502000@strategicbusinesshub.com
SUMMARY:Book Club – September 2025
DESCRIPTION:September 2025\nMake Your Bed: Little Things that can Change You or Life…\nAnd Maybe the world.\nBY: Admiral William H. McRaven \nCanadian Amazon: https://amzn.to/3UfITwh \nU.S. Amazon Link: https://amzn.to/4ePxSd8 \nAll books for the year are listed on:\nwww.strategicbusinesshub.com \nJoin us LIVE ON TIKTOK – \nWe will be live on Suzy Rawlins / Roots and Boots Health Coach Channel EVERY Wednesday in September at 10:30 eastern!\nJoin us for 15 to 30 minutes of conversation! \n\n @coachsuzyrawlins \n\n  \nAs Amazon Associates we may earn from qualifying purchases.
URL:https://strategicbusinesshub.com/event/book-club-september-2025-2/
LOCATION:TIKTOK LIVE
END:VEVENT
BEGIN:VEVENT
DTSTART;TZID=America/New_York:20250910T120000
DTEND;TZID=America/New_York:20250910T130000
DTSTAMP:20260424T065938
CREATED:20250819T192821Z
LAST-MODIFIED:20250819T192821Z
UID:1318-1757505600-1757509200@strategicbusinesshub.com
SUMMARY:September 60 Minute Class - Journaling!
DESCRIPTION:September 2025Class #9 \nAttend live or get the recording!** Registration / Attendance includes 2 great handouts Karen is providing! \nThe habit and powers of Journaling with Karen Dorland! \nKaren has been an avid journal writer for over 50 years! \nThe Takeaways: \n1. How to start journaling when you don’t where or how to begin.2. Learn the benefits of journaling.3. Receive tips and ideas for journaling prompts. \nConnect with Karen: \nKaren’s Personal Professional Profile:https://www.facebook.com/karen.dorland.9 \nKaren’s Business Page:https://www.facebook.com/karendorlandreiki \nThis class will be so beneficial for us all. \nThese classes are MEANT TO BE Affordable\, and accessible to you no matter where you are at in your entrepreneurial journey! \nRegister with Cheryl – team@clarkstrategies.ca $15.00 ONLY
URL:https://strategicbusinesshub.com/event/september-60-minute-class-journaling/
LOCATION:ZOOM Online
END:VEVENT
END:VCALENDAR