BEGIN:VCALENDAR
VERSION:2.0
PRODID:-//Strategic Business Hub - ECPv6.15.20//NONSGML v1.0//EN
CALSCALE:GREGORIAN
METHOD:PUBLISH
X-ORIGINAL-URL:https://strategicbusinesshub.com
X-WR-CALDESC:Events for Strategic Business Hub
REFRESH-INTERVAL;VALUE=DURATION:PT1H
X-Robots-Tag:noindex
X-PUBLISHED-TTL:PT1H
BEGIN:VTIMEZONE
TZID:America/New_York
BEGIN:DAYLIGHT
TZOFFSETFROM:-0500
TZOFFSETTO:-0400
TZNAME:EDT
DTSTART:20240310T070000
END:DAYLIGHT
BEGIN:STANDARD
TZOFFSETFROM:-0400
TZOFFSETTO:-0500
TZNAME:EST
DTSTART:20241103T060000
END:STANDARD
BEGIN:DAYLIGHT
TZOFFSETFROM:-0500
TZOFFSETTO:-0400
TZNAME:EDT
DTSTART:20250309T070000
END:DAYLIGHT
BEGIN:STANDARD
TZOFFSETFROM:-0400
TZOFFSETTO:-0500
TZNAME:EST
DTSTART:20251102T060000
END:STANDARD
BEGIN:DAYLIGHT
TZOFFSETFROM:-0500
TZOFFSETTO:-0400
TZNAME:EDT
DTSTART:20260308T070000
END:DAYLIGHT
BEGIN:STANDARD
TZOFFSETFROM:-0400
TZOFFSETTO:-0500
TZNAME:EST
DTSTART:20261101T060000
END:STANDARD
END:VTIMEZONE
BEGIN:VEVENT
DTSTART;TZID=America/New_York:20250909T130000
DTEND;TZID=America/New_York:20250909T150000
DTSTAMP:20260424T065938
CREATED:20250819T192202Z
LAST-MODIFIED:20250819T192954Z
UID:1313-1757422800-1757430000@strategicbusinesshub.com
SUMMARY:Barrie/Innisfil IN-Person Networking
DESCRIPTION:Join us on Tuesday September 9th\, 2025!(2nd Tuesday of every month) \n1 pm till 3 pm \nThe Cove Cafe on Lockhart for some networking and conversation! \nwww.facebook.com/thecovecafesandycove \nFREE! \nIntroduce yourself.Bring some business cards.Be open to connections and collaborations. \nJoin in on the topic of discussion!Any questions please reach out!2nd Tuesday of Every Month!!! \nEVERYONE is very WELCOMED and all are absolutely invited!We are inclusive! NOT an exclusive group
URL:https://strategicbusinesshub.com/event/barrie-innisfil-in-person-networking-3/
LOCATION:The Cove Cafe\, 902 Lockhart Road\, Innisfil\, Ontario\, L9S 4V2\, Canada
END:VEVENT
END:VCALENDAR