BEGIN:VCALENDAR
VERSION:2.0
PRODID:-//Strategic Business Hub - ECPv6.15.20//NONSGML v1.0//EN
CALSCALE:GREGORIAN
METHOD:PUBLISH
X-ORIGINAL-URL:https://strategicbusinesshub.com
X-WR-CALDESC:Events for Strategic Business Hub
REFRESH-INTERVAL;VALUE=DURATION:PT1H
X-Robots-Tag:noindex
X-PUBLISHED-TTL:PT1H
BEGIN:VTIMEZONE
TZID:America/New_York
BEGIN:DAYLIGHT
TZOFFSETFROM:-0500
TZOFFSETTO:-0400
TZNAME:EDT
DTSTART:20240310T070000
END:DAYLIGHT
BEGIN:STANDARD
TZOFFSETFROM:-0400
TZOFFSETTO:-0500
TZNAME:EST
DTSTART:20241103T060000
END:STANDARD
BEGIN:DAYLIGHT
TZOFFSETFROM:-0500
TZOFFSETTO:-0400
TZNAME:EDT
DTSTART:20250309T070000
END:DAYLIGHT
BEGIN:STANDARD
TZOFFSETFROM:-0400
TZOFFSETTO:-0500
TZNAME:EST
DTSTART:20251102T060000
END:STANDARD
BEGIN:DAYLIGHT
TZOFFSETFROM:-0500
TZOFFSETTO:-0400
TZNAME:EDT
DTSTART:20260308T070000
END:DAYLIGHT
BEGIN:STANDARD
TZOFFSETFROM:-0400
TZOFFSETTO:-0500
TZNAME:EST
DTSTART:20261101T060000
END:STANDARD
END:VTIMEZONE
BEGIN:VEVENT
DTSTART;TZID=America/New_York:20250903T090000
DTEND;TZID=America/New_York:20250903T100000
DTSTAMP:20260424T065938
CREATED:20250819T191611Z
LAST-MODIFIED:20250819T191709Z
UID:1308-1756890000-1756893600@strategicbusinesshub.com
SUMMARY:ZOOM FREE Networking
DESCRIPTION:Topic this week:Success!How do you define success?What metrics do you use to measure success?What do you consider in others that make them ‘successful’? \nSeptember Challenge:Share what you are excited about in the coming week! \nNetworking and Growth!Every week a different topic of Discussion!Round Table Mastermind and sharing! \nOur September Sponsor is:Margaret Dennis from Evolv Coaching! \nMargaret: www.facebook.com/margaret.dennis.33 \nHer page: www.facebook.com/evolvcoaching \nZoom Link:9 a.m. EasternZoom: https://us02web.zoom.us/j/9055151512Passcode: 111111 \nNo Membership EVER!FREE!Not Exclusive – but Inclusive – EVERYONE is invited!Networking with a difference!Building Community!
URL:https://strategicbusinesshub.com/event/zoom-free-networking-50/
LOCATION:ZOOM Online
END:VEVENT
BEGIN:VEVENT
DTSTART;TZID=America/New_York:20250903T103000
DTEND;TZID=America/New_York:20250903T110000
DTSTAMP:20260424T065938
CREATED:20250819T193755Z
LAST-MODIFIED:20250819T194336Z
UID:1321-1756895400-1756897200@strategicbusinesshub.com
SUMMARY:Book Club – September 2025
DESCRIPTION:Book Club – September 2025 \nSeptember 2025\nMake Your Bed: Little Things that can Change You or Life…\nAnd Maybe the world.\nBY: Admiral William H. McRaven \nCanadian Amazon: https://amzn.to/3UfITwh \nU.S. Amazon Link: https://amzn.to/4ePxSd8 \nAll books for the year are listed on:\nwww.strategicbusinesshub.com \nJoin us LIVE ON TIKTOK – \nWe will be live on Suzy Rawlins / Roots and Boots Health Coach Channel EVERY Wednesday in September at 10:30 eastern!\nJoin us for 15 to 30 minutes of conversation! \n\n @coachsuzyrawlins \n\n  \nAs Amazon Associates we may earn from qualifying purchases.
URL:https://strategicbusinesshub.com/event/book-club-september-2025/
LOCATION:TIKTOK LIVE
END:VEVENT
END:VCALENDAR