BEGIN:VCALENDAR
VERSION:2.0
PRODID:-//Strategic Business Hub - ECPv6.15.20//NONSGML v1.0//EN
CALSCALE:GREGORIAN
METHOD:PUBLISH
X-WR-CALNAME:Strategic Business Hub
X-ORIGINAL-URL:https://strategicbusinesshub.com
X-WR-CALDESC:Events for Strategic Business Hub
REFRESH-INTERVAL;VALUE=DURATION:PT1H
X-Robots-Tag:noindex
X-PUBLISHED-TTL:PT1H
BEGIN:VTIMEZONE
TZID:America/New_York
BEGIN:DAYLIGHT
TZOFFSETFROM:-0500
TZOFFSETTO:-0400
TZNAME:EDT
DTSTART:20240310T070000
END:DAYLIGHT
BEGIN:STANDARD
TZOFFSETFROM:-0400
TZOFFSETTO:-0500
TZNAME:EST
DTSTART:20241103T060000
END:STANDARD
BEGIN:DAYLIGHT
TZOFFSETFROM:-0500
TZOFFSETTO:-0400
TZNAME:EDT
DTSTART:20250309T070000
END:DAYLIGHT
BEGIN:STANDARD
TZOFFSETFROM:-0400
TZOFFSETTO:-0500
TZNAME:EST
DTSTART:20251102T060000
END:STANDARD
BEGIN:DAYLIGHT
TZOFFSETFROM:-0500
TZOFFSETTO:-0400
TZNAME:EDT
DTSTART:20260308T070000
END:DAYLIGHT
BEGIN:STANDARD
TZOFFSETFROM:-0400
TZOFFSETTO:-0500
TZNAME:EST
DTSTART:20261101T060000
END:STANDARD
END:VTIMEZONE
BEGIN:VEVENT
DTSTART;TZID=America/New_York:20250820T090000
DTEND;TZID=America/New_York:20250820T100000
DTSTAMP:20260424T085404
CREATED:20250722T202235Z
LAST-MODIFIED:20250722T202235Z
UID:1276-1755680400-1755684000@strategicbusinesshub.com
SUMMARY:ZOOM FREE Networking
DESCRIPTION:Topic this week:\nRetirement!\nDo you plan on retiring?\nWhat does that look like for you?\nHow will you close or shift your business? \nAugust Challenge:\nUse the word given to you\, in the meeting\, in your commercial! \nNetworking and Growth!\nEvery week a different topic of Discussion!\nRound Table Mastermind and sharing! \nOur AUGUST Sponsor is:\nClare Bennett – TEMPLE DIVINE!\nGo and Follow Her Page and connect!\nhttps://www.facebook.com/templedivineglasgow \nZoom Link:\n9 a.m. Eastern\nZoom: https://us02web.zoom.us/j/9055151512\nPasscode: 111111 \nNo Membership EVER!\nFREE!\nNot Exclusive – but Inclusive – EVERYONE is invited!\nNetworking with a difference!\nBuilding Community!
URL:https://strategicbusinesshub.com/event/zoom-free-networking-47/
LOCATION:ZOOM Online
END:VEVENT
BEGIN:VEVENT
DTSTART;TZID=America/New_York:20250820T103000
DTEND;TZID=America/New_York:20250820T110000
DTSTAMP:20260424T085404
CREATED:20250722T195717Z
LAST-MODIFIED:20250722T195717Z
UID:1264-1755685800-1755687600@strategicbusinesshub.com
SUMMARY:Book Club - August 2025
DESCRIPTION:August 2025\nThe Gifts of Imperfection. \nBy: Brene Brown \nCanadian Amazon: https://amzn.to/3YuP3v1 \nU.S. Amazon Link: https://amzn.to/40axFwK \nAll books for the year are listed on:\nwww.strategicbusinesshub.com \nJoin us LIVE ON TIKTOK – \nWe will be live on Clark Strategies TikTok Channel EVERY Wednesday in August at 10:30 eastern!\nJoin us for 15 to 30 minutes of conversation! \nwww.tiktok.com/@clarkstrategies \nAs Amazon Associates we may earn from qualifying purchases.
URL:https://strategicbusinesshub.com/event/book-club-august-2025-3/
LOCATION:TIKTOK LIVE
END:VEVENT
END:VCALENDAR