BEGIN:VCALENDAR
VERSION:2.0
PRODID:-//Strategic Business Hub - ECPv6.15.20//NONSGML v1.0//EN
CALSCALE:GREGORIAN
METHOD:PUBLISH
X-ORIGINAL-URL:https://strategicbusinesshub.com
X-WR-CALDESC:Events for Strategic Business Hub
REFRESH-INTERVAL;VALUE=DURATION:PT1H
X-Robots-Tag:noindex
X-PUBLISHED-TTL:PT1H
BEGIN:VTIMEZONE
TZID:America/New_York
BEGIN:DAYLIGHT
TZOFFSETFROM:-0500
TZOFFSETTO:-0400
TZNAME:EDT
DTSTART:20240310T070000
END:DAYLIGHT
BEGIN:STANDARD
TZOFFSETFROM:-0400
TZOFFSETTO:-0500
TZNAME:EST
DTSTART:20241103T060000
END:STANDARD
BEGIN:DAYLIGHT
TZOFFSETFROM:-0500
TZOFFSETTO:-0400
TZNAME:EDT
DTSTART:20250309T070000
END:DAYLIGHT
BEGIN:STANDARD
TZOFFSETFROM:-0400
TZOFFSETTO:-0500
TZNAME:EST
DTSTART:20251102T060000
END:STANDARD
BEGIN:DAYLIGHT
TZOFFSETFROM:-0500
TZOFFSETTO:-0400
TZNAME:EDT
DTSTART:20260308T070000
END:DAYLIGHT
BEGIN:STANDARD
TZOFFSETFROM:-0400
TZOFFSETTO:-0500
TZNAME:EST
DTSTART:20261101T060000
END:STANDARD
END:VTIMEZONE
BEGIN:VEVENT
DTSTART;TZID=America/New_York:20250710T130000
DTEND;TZID=America/New_York:20250710T150000
DTSTAMP:20260424T111137
CREATED:20250623T214614Z
LAST-MODIFIED:20250623T214614Z
UID:1226-1752152400-1752159600@strategicbusinesshub.com
SUMMARY:Payson and Surrounding Area In-Person Networking
DESCRIPTION:Join us on Thursday July 10th\, 2025!(2nd Thursday of every month)\n\n10 am till Noon Local time!\nNoley’s! 103 AZ-260\, Payson\, AZ 85541\n\nMeet us there for some networking and conversation!\nFREE!Introduce yourself.\nBring some business cards.Be open to connections and collaborations.\nJoin in on the topic of discussion!\nAny questions please reach out!\n\n2nd Thursday of Every Month!!!\nEVERYONE is very WELCOMED and all are absolutely invited!\nWe are inclusive! NOT an exclusive group.
URL:https://strategicbusinesshub.com/event/payson-and-surrounding-area-in-person-networking/
LOCATION:Noley’s Bookstore\, 103 AZ-260\, Payson\, AZ\, 85541\, United States
END:VEVENT
END:VCALENDAR