BEGIN:VCALENDAR
VERSION:2.0
PRODID:-//Strategic Business Hub - ECPv6.15.20//NONSGML v1.0//EN
CALSCALE:GREGORIAN
METHOD:PUBLISH
X-ORIGINAL-URL:https://strategicbusinesshub.com
X-WR-CALDESC:Events for Strategic Business Hub
REFRESH-INTERVAL;VALUE=DURATION:PT1H
X-Robots-Tag:noindex
X-PUBLISHED-TTL:PT1H
BEGIN:VTIMEZONE
TZID:America/New_York
BEGIN:DAYLIGHT
TZOFFSETFROM:-0500
TZOFFSETTO:-0400
TZNAME:EDT
DTSTART:20240310T070000
END:DAYLIGHT
BEGIN:STANDARD
TZOFFSETFROM:-0400
TZOFFSETTO:-0500
TZNAME:EST
DTSTART:20241103T060000
END:STANDARD
BEGIN:DAYLIGHT
TZOFFSETFROM:-0500
TZOFFSETTO:-0400
TZNAME:EDT
DTSTART:20250309T070000
END:DAYLIGHT
BEGIN:STANDARD
TZOFFSETFROM:-0400
TZOFFSETTO:-0500
TZNAME:EST
DTSTART:20251102T060000
END:STANDARD
BEGIN:DAYLIGHT
TZOFFSETFROM:-0500
TZOFFSETTO:-0400
TZNAME:EDT
DTSTART:20260308T070000
END:DAYLIGHT
BEGIN:STANDARD
TZOFFSETFROM:-0400
TZOFFSETTO:-0500
TZNAME:EST
DTSTART:20261101T060000
END:STANDARD
END:VTIMEZONE
BEGIN:VEVENT
DTSTART;TZID=America/New_York:20250708T130000
DTEND;TZID=America/New_York:20250708T150000
DTSTAMP:20260424T111138
CREATED:20250623T214445Z
LAST-MODIFIED:20250623T214445Z
UID:1224-1751979600-1751986800@strategicbusinesshub.com
SUMMARY:Barrie/Innisfil IN-Person Networking
DESCRIPTION:Join us on Tuesday July 8th\, 2025!(2nd Tuesday of every month)\n\nThe Cove Cafe on Lockhart for some networking and conversation!\n\nFREE!Introduce yourself.Bring some business cards.\nBe open to connections and collaborations.\nJoin in on the topic of discussion!\nAny questions please reach out!\n\n2nd Tuesday of Every Month!!!\n\nEVERYONE is very WELCOMED and all are absolutely invited!We are inclusive! NOT an exclusive group
URL:https://strategicbusinesshub.com/event/barrie-innisfil-in-person-networking/
LOCATION:The Cove Cafe\, 902 Lockhart Road\, Innisfil\, Ontario\, L9S 4V2\, Canada
END:VEVENT
END:VCALENDAR