BEGIN:VCALENDAR
VERSION:2.0
PRODID:-//Strategic Business Hub - ECPv6.15.20//NONSGML v1.0//EN
CALSCALE:GREGORIAN
METHOD:PUBLISH
X-WR-CALNAME:Strategic Business Hub
X-ORIGINAL-URL:https://strategicbusinesshub.com
X-WR-CALDESC:Events for Strategic Business Hub
REFRESH-INTERVAL;VALUE=DURATION:PT1H
X-Robots-Tag:noindex
X-PUBLISHED-TTL:PT1H
BEGIN:VTIMEZONE
TZID:America/New_York
BEGIN:DAYLIGHT
TZOFFSETFROM:-0500
TZOFFSETTO:-0400
TZNAME:EDT
DTSTART:20240310T070000
END:DAYLIGHT
BEGIN:STANDARD
TZOFFSETFROM:-0400
TZOFFSETTO:-0500
TZNAME:EST
DTSTART:20241103T060000
END:STANDARD
BEGIN:DAYLIGHT
TZOFFSETFROM:-0500
TZOFFSETTO:-0400
TZNAME:EDT
DTSTART:20250309T070000
END:DAYLIGHT
BEGIN:STANDARD
TZOFFSETFROM:-0400
TZOFFSETTO:-0500
TZNAME:EST
DTSTART:20251102T060000
END:STANDARD
BEGIN:DAYLIGHT
TZOFFSETFROM:-0500
TZOFFSETTO:-0400
TZNAME:EDT
DTSTART:20260308T070000
END:DAYLIGHT
BEGIN:STANDARD
TZOFFSETFROM:-0400
TZOFFSETTO:-0500
TZNAME:EST
DTSTART:20261101T060000
END:STANDARD
END:VTIMEZONE
BEGIN:VEVENT
DTSTART;TZID=America/New_York:20250705T100000
DTEND;TZID=America/New_York:20250705T103000
DTSTAMP:20260424T111118
CREATED:20250623T212959Z
LAST-MODIFIED:20250623T212959Z
UID:1212-1751709600-1751711400@strategicbusinesshub.com
SUMMARY:July BLOGS DUE – FREE Blogging Opportunity!
DESCRIPTION:BLOG with us!\nAll blogs are due by the 1st of the month! \n250 – 600 words – Emailed to: admin@strategicbusinesshub.com \nPLEASE include your full name\, business name\, website and all social media links/urls. \nAll blogs will be published – with FULL credit to you and live links to where you can be found! \nJuly’s Blog Prompt is:\nWhat areas of your life have you seen the greatest alchemy and what “gold” came out of it? \nContributor of the Prompt: Erin Christine\nConnect with Erin www.facebook.com/erin.ockenfels
URL:https://strategicbusinesshub.com/event/july-blogs-due-free-blogging-opportunity/
END:VEVENT
END:VCALENDAR