BEGIN:VCALENDAR
VERSION:2.0
PRODID:-//Strategic Business Hub - ECPv6.15.20//NONSGML v1.0//EN
CALSCALE:GREGORIAN
METHOD:PUBLISH
X-ORIGINAL-URL:https://strategicbusinesshub.com
X-WR-CALDESC:Events for Strategic Business Hub
REFRESH-INTERVAL;VALUE=DURATION:PT1H
X-Robots-Tag:noindex
X-PUBLISHED-TTL:PT1H
BEGIN:VTIMEZONE
TZID:America/Los_Angeles
BEGIN:DAYLIGHT
TZOFFSETFROM:-0800
TZOFFSETTO:-0700
TZNAME:PDT
DTSTART:20240310T100000
END:DAYLIGHT
BEGIN:STANDARD
TZOFFSETFROM:-0700
TZOFFSETTO:-0800
TZNAME:PST
DTSTART:20241103T090000
END:STANDARD
BEGIN:DAYLIGHT
TZOFFSETFROM:-0800
TZOFFSETTO:-0700
TZNAME:PDT
DTSTART:20250309T100000
END:DAYLIGHT
BEGIN:STANDARD
TZOFFSETFROM:-0700
TZOFFSETTO:-0800
TZNAME:PST
DTSTART:20251102T090000
END:STANDARD
BEGIN:DAYLIGHT
TZOFFSETFROM:-0800
TZOFFSETTO:-0700
TZNAME:PDT
DTSTART:20260308T100000
END:DAYLIGHT
BEGIN:STANDARD
TZOFFSETFROM:-0700
TZOFFSETTO:-0800
TZNAME:PST
DTSTART:20261101T090000
END:STANDARD
END:VTIMEZONE
BEGIN:VEVENT
DTSTART;TZID=America/Los_Angeles:20250612T100000
DTEND;TZID=America/Los_Angeles:20250612T120000
DTSTAMP:20260424T131533
CREATED:20250511T200147Z
LAST-MODIFIED:20250511T200147Z
UID:1136-1749722400-1749729600@strategicbusinesshub.com
SUMMARY:Payson and Surrounding Area IN-Person Networking FREE to Attend
DESCRIPTION:Join us on Thursday June 12th\, 2025 \n10 am till Noon Arizona Time \nNoley’s Art Gallery & Bookstore!\n103 AZ-260\, Payson\, AZ 85541 \nMeet us there for some networking and conversation! \nFREE!\nIntroduce yourself.\nBring some business cards. \nBe open to connections and collaborations.\nJoin in on the topic of discussion!\nAny questions please reach out! \n2nd Thursday of Every Month!!! \nEVERYONE is very WELCOMED and all are absolutely invited!\nWe are inclusive! NOT an exclusive group.
URL:https://strategicbusinesshub.com/event/payson-and-surrounding-area-in-person-networking-free-to-attend/
LOCATION:Noley’s Bookstore\, 103 AZ-260\, Payson\, AZ\, 85541\, United States
END:VEVENT
END:VCALENDAR