BEGIN:VCALENDAR
VERSION:2.0
PRODID:-//Strategic Business Hub - ECPv6.15.20//NONSGML v1.0//EN
CALSCALE:GREGORIAN
METHOD:PUBLISH
X-ORIGINAL-URL:https://strategicbusinesshub.com
X-WR-CALDESC:Events for Strategic Business Hub
REFRESH-INTERVAL;VALUE=DURATION:PT1H
X-Robots-Tag:noindex
X-PUBLISHED-TTL:PT1H
BEGIN:VTIMEZONE
TZID:America/New_York
BEGIN:DAYLIGHT
TZOFFSETFROM:-0500
TZOFFSETTO:-0400
TZNAME:EDT
DTSTART:20240310T070000
END:DAYLIGHT
BEGIN:STANDARD
TZOFFSETFROM:-0400
TZOFFSETTO:-0500
TZNAME:EST
DTSTART:20241103T060000
END:STANDARD
BEGIN:DAYLIGHT
TZOFFSETFROM:-0500
TZOFFSETTO:-0400
TZNAME:EDT
DTSTART:20250309T070000
END:DAYLIGHT
BEGIN:STANDARD
TZOFFSETFROM:-0400
TZOFFSETTO:-0500
TZNAME:EST
DTSTART:20251102T060000
END:STANDARD
BEGIN:DAYLIGHT
TZOFFSETFROM:-0500
TZOFFSETTO:-0400
TZNAME:EDT
DTSTART:20260308T070000
END:DAYLIGHT
BEGIN:STANDARD
TZOFFSETFROM:-0400
TZOFFSETTO:-0500
TZNAME:EST
DTSTART:20261101T060000
END:STANDARD
END:VTIMEZONE
BEGIN:VEVENT
DTSTART;TZID=America/New_York:20250611T090000
DTEND;TZID=America/New_York:20250611T100000
DTSTAMP:20260424T131533
CREATED:20250511T201016Z
LAST-MODIFIED:20250511T201016Z
UID:1141-1749632400-1749636000@strategicbusinesshub.com
SUMMARY:ZOOM FREE Networking
DESCRIPTION:Topic this week:\nHow referable are you?\nWhat does it take to be referred?\nWhat are somethings we can do to encourage referrals?\nHow do we handle referrals? \nJune Challenge:\nWhat’s something you’ve always wanted to do but haven’t done yet? Bucket List! \nNetworking and Growth!\nEvery week a different topic of Discussion!\nRound Table Mastermind and sharing! \nOur June Sponsor is:\nJoetta Barber from Joettas Wellness Spot!\nFollow her page: www.facebook.com/Joettaswellnessspot \nZoom Link:\n9 a.m. Eastern\nZoom: https://us02web.zoom.us/j/9055151512\nPasscode: 111111 \nNo Membership EVER!\nFREE! \nNot Exclusive – but Inclusive – EVERYONE is invited!\nNetworking with a difference!\nBuilding Community!
URL:https://strategicbusinesshub.com/event/zoom-free-networking-39/
LOCATION:ZOOM Online
END:VEVENT
BEGIN:VEVENT
DTSTART;TZID=America/New_York:20250611T103000
DTEND;TZID=America/New_York:20250611T110000
DTSTAMP:20260424T131533
CREATED:20250511T194431Z
LAST-MODIFIED:20250511T194431Z
UID:1126-1749637800-1749639600@strategicbusinesshub.com
SUMMARY:BOOK Club Live on TikTok
DESCRIPTION:June 2025 \nThis is Marketing: You Can’t Be Seen Until You Learn to See\nBy: Seth Godin \nCanadian Amazon Link: https://amzn.to/3BQSHGF \nU.S. Amazon Link: https://amzn.to/4dTDdyZ \nAll books for the year are listed on:\nwww.strategicbusinesshub.com/book-club \nJoin us LIVE ON TIKTOK – \nWe will be live on Clark Strategies TikTok Channel EVERY Wednesday in June at 10:30 eastern!\nJoin us for 15 to 30 minutes of conversation! \nwww.tiktok.com/@clarkstrategies \nAs Amazon Associates we may earn from qualifying purchases.
URL:https://strategicbusinesshub.com/event/book-club-live-on-tiktok-16/
LOCATION:TIKTOK LIVE
END:VEVENT
END:VCALENDAR