BEGIN:VCALENDAR
VERSION:2.0
PRODID:-//Strategic Business Hub - ECPv6.15.20//NONSGML v1.0//EN
CALSCALE:GREGORIAN
METHOD:PUBLISH
X-ORIGINAL-URL:https://strategicbusinesshub.com
X-WR-CALDESC:Events for Strategic Business Hub
REFRESH-INTERVAL;VALUE=DURATION:PT1H
X-Robots-Tag:noindex
X-PUBLISHED-TTL:PT1H
BEGIN:VTIMEZONE
TZID:America/New_York
BEGIN:DAYLIGHT
TZOFFSETFROM:-0500
TZOFFSETTO:-0400
TZNAME:EDT
DTSTART:20240310T070000
END:DAYLIGHT
BEGIN:STANDARD
TZOFFSETFROM:-0400
TZOFFSETTO:-0500
TZNAME:EST
DTSTART:20241103T060000
END:STANDARD
BEGIN:DAYLIGHT
TZOFFSETFROM:-0500
TZOFFSETTO:-0400
TZNAME:EDT
DTSTART:20250309T070000
END:DAYLIGHT
BEGIN:STANDARD
TZOFFSETFROM:-0400
TZOFFSETTO:-0500
TZNAME:EST
DTSTART:20251102T060000
END:STANDARD
BEGIN:DAYLIGHT
TZOFFSETFROM:-0500
TZOFFSETTO:-0400
TZNAME:EDT
DTSTART:20260308T070000
END:DAYLIGHT
BEGIN:STANDARD
TZOFFSETFROM:-0400
TZOFFSETTO:-0500
TZNAME:EST
DTSTART:20261101T060000
END:STANDARD
END:VTIMEZONE
BEGIN:VEVENT
DTSTART;TZID=America/New_York:20250604T090000
DTEND;TZID=America/New_York:20250604T100000
DTSTAMP:20260424T131535
CREATED:20250511T200718Z
LAST-MODIFIED:20250511T200800Z
UID:1139-1749027600-1749031200@strategicbusinesshub.com
SUMMARY:ZOOM FREE Networking
DESCRIPTION:Topic this week:\nNetworking Goals and Processes!\nWhat do we hope to get or get out of networking?\nDo you have a system in place for networking and connecting!? \nJune Challenge:\nWhat’s something you’ve always wanted to do but haven’t done yet? Bucket List! \nNetworking and Growth!\nEvery week a different topic of Discussion!\nRound Table Mastermind and sharing! \nOur June Sponsor is:\nJoetta Barber from Joettas Wellness Spot!\nFollow her page: www.facebook.com/Joettaswellnessspot \nZoom Link:\n9 a.m. Eastern\nZoom: https://us02web.zoom.us/j/9055151512\nPasscode: 111111 \nNo Membership EVER!\nFREE! \nNot Exclusive – but Inclusive – EVERYONE is invited!\nNetworking with a difference!\nBuilding Community!
URL:https://strategicbusinesshub.com/event/zoom-free-networking-38/
LOCATION:ZOOM Online
END:VEVENT
BEGIN:VEVENT
DTSTART;TZID=America/New_York:20250604T103000
DTEND;TZID=America/New_York:20250604T110000
DTSTAMP:20260424T131535
CREATED:20250511T194213Z
LAST-MODIFIED:20250511T194213Z
UID:1124-1749033000-1749034800@strategicbusinesshub.com
SUMMARY:BOOK Club Live on TikTok
DESCRIPTION:June 2025 \nThis is Marketing: You Can’t Be Seen Until You Learn to See\nBy: Seth Godin \nCanadian Amazon Link: https://amzn.to/3BQSHGF \nU.S. Amazon Link: https://amzn.to/4dTDdyZ \nAll books for the year are listed on:\nwww.strategicbusinesshub.com/book-club \nJoin us LIVE ON TIKTOK – \nWe will be live on Clark Strategies TikTok Channel EVERY Wednesday in June at 10:30 eastern!\nJoin us for 15 to 30 minutes of conversation! \nwww.tiktok.com/@clarkstrategies \nAs Amazon Associates we may earn from qualifying purchases.
URL:https://strategicbusinesshub.com/event/book-club-live-on-tiktok-15/
LOCATION:TIKTOK LIVE
END:VEVENT
BEGIN:VEVENT
DTSTART;TZID=America/New_York:20250604T120000
DTEND;TZID=America/New_York:20250604T130000
DTSTAMP:20260424T131535
CREATED:20250512T191431Z
LAST-MODIFIED:20250512T191431Z
UID:1147-1749038400-1749042000@strategicbusinesshub.com
SUMMARY:June 60 Minute Class - CREATING CONNECTIONS!  You need to be doing this!
DESCRIPTION:June 2025\nClass #6 \nAttend live or get the recording! \nCreating CONNECTION!\nWe all need to be doing this DAILY!\nBut HOW?\nWhat works?\nWhat can I say?\nWhat tools do I have to make this happen?\nWhat can I gain? \nThis class will be taught by: Cheryl Clark\nWith a social reach of over 20k \nwww.facebook.com/CherylClarkStrategiesLedMeToThis \n3 Takeaways:\n*Leave this class having seen HOW to make connections with WHOM you need to be connected with!\n*Have scripts ready for use\, you’ll have have to add your personal touch!\n*Have a spreadsheet to track your activities and growth! \nThese classes are MEANT TO BE Affordable\, and accessible to you no matter where you are at in your entrepreneurial journey! \nRegister with Cheryl – team@clarkstrategies.ca $15.00 ONLY
URL:https://strategicbusinesshub.com/event/june-60-minute-class-creating-connections-you-need-to-be-doing-this/
LOCATION:ZOOM Online
END:VEVENT
END:VCALENDAR