BEGIN:VCALENDAR
VERSION:2.0
PRODID:-//Strategic Business Hub - ECPv6.15.20//NONSGML v1.0//EN
CALSCALE:GREGORIAN
METHOD:PUBLISH
X-ORIGINAL-URL:https://strategicbusinesshub.com
X-WR-CALDESC:Events for Strategic Business Hub
REFRESH-INTERVAL;VALUE=DURATION:PT1H
X-Robots-Tag:noindex
X-PUBLISHED-TTL:PT1H
BEGIN:VTIMEZONE
TZID:America/New_York
BEGIN:DAYLIGHT
TZOFFSETFROM:-0500
TZOFFSETTO:-0400
TZNAME:EDT
DTSTART:20240310T070000
END:DAYLIGHT
BEGIN:STANDARD
TZOFFSETFROM:-0400
TZOFFSETTO:-0500
TZNAME:EST
DTSTART:20241103T060000
END:STANDARD
BEGIN:DAYLIGHT
TZOFFSETFROM:-0500
TZOFFSETTO:-0400
TZNAME:EDT
DTSTART:20250309T070000
END:DAYLIGHT
BEGIN:STANDARD
TZOFFSETFROM:-0400
TZOFFSETTO:-0500
TZNAME:EST
DTSTART:20251102T060000
END:STANDARD
BEGIN:DAYLIGHT
TZOFFSETFROM:-0500
TZOFFSETTO:-0400
TZNAME:EDT
DTSTART:20260308T070000
END:DAYLIGHT
BEGIN:STANDARD
TZOFFSETFROM:-0400
TZOFFSETTO:-0500
TZNAME:EST
DTSTART:20261101T060000
END:STANDARD
END:VTIMEZONE
BEGIN:VEVENT
DTSTART;TZID=America/New_York:20250514T090000
DTEND;TZID=America/New_York:20250514T100000
DTSTAMP:20260424T150108
CREATED:20250412T201653Z
LAST-MODIFIED:20250412T201653Z
UID:1101-1747213200-1747216800@strategicbusinesshub.com
SUMMARY:ZOOM FREE Networking
DESCRIPTION:Topic this week:Newsletters!Should we have one?What can we include?What can we do with the ones we are receiving?\n\nMay Challenge:Share a Favorite Movie or Song Title with us and why it’s one of your Favorites!\n\nNetworking and Growth!Every week a different topic of Discussion!\nRound Table Mastermind and sharing!\n\nOur May Sponsor is:Shirley Edwards from Boomer 3.0 / Life quakesFollow her page: www.facebook.com/boomer3coaching\n\nZoom Link:9 a.m. EasternZoom: https://us02web.zoom.us/j/9055151512\nPasscode: 111111\n\nNo Membership EVER!FREE!Not Exclusive – but Inclusive – EVERYONE is invited!Networking with a difference!\nBuilding Community!
URL:https://strategicbusinesshub.com/event/zoom-free-networking-35/
LOCATION:ZOOM Online
END:VEVENT
BEGIN:VEVENT
DTSTART;TZID=America/New_York:20250514T103000
DTEND;TZID=America/New_York:20250514T110000
DTSTAMP:20260424T150108
CREATED:20250412T202944Z
LAST-MODIFIED:20250412T202944Z
UID:1111-1747218600-1747220400@strategicbusinesshub.com
SUMMARY:BOOK Club Live on TikTok
DESCRIPTION:May 2025 \nPAiLS\nBy: Chris Brady \nCanadian Amazon: https://amzn.to/48aRXIg \nU.S. Amazon Link: https://amzn.to/48fP9tz \nAll books for the year are listed on:\nwww.strategicbusinesshub.com \nJoin us LIVE ON TIKTOK –\nWe will be live on Roots & Boots Intentional Livings TikTok Channel EVERY Wednesday in May at 10:30 eastern!\nhttps://www.tiktok.com/@rootsandbootssuzyrawlins \nAs Amazon Associates we may earn from qualifying purchases.
URL:https://strategicbusinesshub.com/event/book-club-live-on-tiktok-12/
LOCATION:TIKTOK LIVE
END:VEVENT
END:VCALENDAR