BEGIN:VCALENDAR
VERSION:2.0
PRODID:-//Strategic Business Hub - ECPv6.15.20//NONSGML v1.0//EN
CALSCALE:GREGORIAN
METHOD:PUBLISH
X-WR-CALNAME:Strategic Business Hub
X-ORIGINAL-URL:https://strategicbusinesshub.com
X-WR-CALDESC:Events for Strategic Business Hub
REFRESH-INTERVAL;VALUE=DURATION:PT1H
X-Robots-Tag:noindex
X-PUBLISHED-TTL:PT1H
BEGIN:VTIMEZONE
TZID:America/New_York
BEGIN:DAYLIGHT
TZOFFSETFROM:-0500
TZOFFSETTO:-0400
TZNAME:EDT
DTSTART:20240310T070000
END:DAYLIGHT
BEGIN:STANDARD
TZOFFSETFROM:-0400
TZOFFSETTO:-0500
TZNAME:EST
DTSTART:20241103T060000
END:STANDARD
BEGIN:DAYLIGHT
TZOFFSETFROM:-0500
TZOFFSETTO:-0400
TZNAME:EDT
DTSTART:20250309T070000
END:DAYLIGHT
BEGIN:STANDARD
TZOFFSETFROM:-0400
TZOFFSETTO:-0500
TZNAME:EST
DTSTART:20251102T060000
END:STANDARD
BEGIN:DAYLIGHT
TZOFFSETFROM:-0500
TZOFFSETTO:-0400
TZNAME:EDT
DTSTART:20260308T070000
END:DAYLIGHT
BEGIN:STANDARD
TZOFFSETFROM:-0400
TZOFFSETTO:-0500
TZNAME:EST
DTSTART:20261101T060000
END:STANDARD
END:VTIMEZONE
BEGIN:VEVENT
DTSTART;TZID=America/New_York:20250219T090000
DTEND;TZID=America/New_York:20250219T103000
DTSTAMP:20260424T195249
CREATED:20250117T212051Z
LAST-MODIFIED:20250117T212051Z
UID:952-1739955600-1739961000@strategicbusinesshub.com
SUMMARY:ZOOM FREE Networking
DESCRIPTION:Topic this week: \nMental Health as business owners!\nHow do we take care of ourselves?\nHow do we handle negative moments?\nHow do we show up our best? \nFebruary Challenge:\nShare one aspect of being a business owner/entrepreneur that you LOVE! \nNetworking and Growth! \nEvery week a different topic of Discussion!\nRound Table Mastermind and sharing! \nOur February Sponsor is:\nSuzy Rawlins of Roots & Boots Intentional Living! \nConnect with Suzy here:\nhttps://www.facebook.com/RBIntentionalLiving \nCompany.\nFollow her page: https://www.facebook.com/RootsAndBootsIntentionalLiving \nZoom Link:\n9 a.m. Eastern\nZoom: https://us02web.zoom.us/j/9055151512\nPasscode: 111111 \nNo Membership EVER!\nFREE! \nNot Exclusive – but Inclusive – EVERYONE is invited!\nNetworking with a difference! \nBuilding Community!
URL:https://strategicbusinesshub.com/event/zoom-free-networking-26/
LOCATION:ZOOM Online
END:VEVENT
BEGIN:VEVENT
DTSTART;TZID=America/New_York:20250219T103000
DTEND;TZID=America/New_York:20250219T110000
DTSTAMP:20260424T195249
CREATED:20250117T210103Z
LAST-MODIFIED:20250117T210103Z
UID:942-1739961000-1739962800@strategicbusinesshub.com
SUMMARY:BOOK Club on TikTok Live
DESCRIPTION:Join Cheryl and Suzy as they go LIVE on TikTok to discuss the book of the month! \nFebruary 2025 \nWe are currently reading: \nThe Monk Who Sold His Ferrari:\nA Spiritual Fable about Fulfilling your dreams and reaching your destiny.\nBy: Robin Sharma \nCanadian Amazon: https://amzn.to/3NwCx7K \nU.S. Amazon Link: https://amzn.to/48lbPc3 \nFebruary we are meeting on Cheryl Clark Strategies Channel \nLIVE stream: https://www.tiktok.com/@clarkstrategies \nJoin us live.. grow your reach and exposure on TikTok with us!
URL:https://strategicbusinesshub.com/event/book-club-on-tiktok-live-23/
LOCATION:TIKTOK LIVE
END:VEVENT
END:VCALENDAR