BEGIN:VCALENDAR
VERSION:2.0
PRODID:-//Strategic Business Hub - ECPv6.15.20//NONSGML v1.0//EN
CALSCALE:GREGORIAN
METHOD:PUBLISH
X-ORIGINAL-URL:https://strategicbusinesshub.com
X-WR-CALDESC:Events for Strategic Business Hub
REFRESH-INTERVAL;VALUE=DURATION:PT1H
X-Robots-Tag:noindex
X-PUBLISHED-TTL:PT1H
BEGIN:VTIMEZONE
TZID:America/New_York
BEGIN:DAYLIGHT
TZOFFSETFROM:-0500
TZOFFSETTO:-0400
TZNAME:EDT
DTSTART:20240310T070000
END:DAYLIGHT
BEGIN:STANDARD
TZOFFSETFROM:-0400
TZOFFSETTO:-0500
TZNAME:EST
DTSTART:20241103T060000
END:STANDARD
BEGIN:DAYLIGHT
TZOFFSETFROM:-0500
TZOFFSETTO:-0400
TZNAME:EDT
DTSTART:20250309T070000
END:DAYLIGHT
BEGIN:STANDARD
TZOFFSETFROM:-0400
TZOFFSETTO:-0500
TZNAME:EST
DTSTART:20251102T060000
END:STANDARD
BEGIN:DAYLIGHT
TZOFFSETFROM:-0500
TZOFFSETTO:-0400
TZNAME:EDT
DTSTART:20260308T070000
END:DAYLIGHT
BEGIN:STANDARD
TZOFFSETFROM:-0400
TZOFFSETTO:-0500
TZNAME:EST
DTSTART:20261101T060000
END:STANDARD
END:VTIMEZONE
BEGIN:VEVENT
DTSTART;TZID=America/New_York:20250205T090000
DTEND;TZID=America/New_York:20250205T103000
DTSTAMP:20260424T195402
CREATED:20250117T211543Z
LAST-MODIFIED:20250117T211543Z
UID:948-1738746000-1738751400@strategicbusinesshub.com
SUMMARY:ZOOM FREE Networking
DESCRIPTION:Topic this week:\nAsking questions!\nWhat questions should we ask others to engage?\nWhat questions can we ask to qualify leads?\nWhat questions show interest and build connection?\nWhat questions help us grow? \nFebruary Challenge:\nShare one aspect of being a business owner/entrepreneur that you LOVE! \nNetworking and Growth! \nEvery week a different topic of Discussion!\nRound Table Mastermind and sharing! \nOur February Sponsor is:\nSuzy Rawlins of Roots & Boots Intentional Living! \nConnect with Suzy here:\nhttps://www.facebook.com/RBIntentionalLiving \nCompany.\nFollow her page: https://www.facebook.com/RootsAndBootsIntentionalLiving \nZoom Link:\n9 a.m. Eastern\nZoom: https://us02web.zoom.us/j/9055151512\nPasscode: 111111 \nNo Membership EVER!\nFREE! \nNot Exclusive – but Inclusive – EVERYONE is invited!\nNetworking with a difference! \nBuilding Community!
URL:https://strategicbusinesshub.com/event/zoom-free-networking-24/
LOCATION:ZOOM Online
END:VEVENT
BEGIN:VEVENT
DTSTART;TZID=America/New_York:20250205T103000
DTEND;TZID=America/New_York:20250205T110000
DTSTAMP:20260424T195402
CREATED:20250117T205205Z
LAST-MODIFIED:20250117T205205Z
UID:936-1738751400-1738753200@strategicbusinesshub.com
SUMMARY:BOOK Club on TikTok Live
DESCRIPTION:Join Cheryl and Suzy as they go LIVE on TikTok to discuss the book of the month! \nFebruary 2025 \nWe are currently reading: \nThe Monk Who Sold His Ferrari:\nA Spiritual Fable about Fulfilling your dreams and reaching your destiny.\nBy: Robin Sharma \nCanadian Amazon: https://amzn.to/3NwCx7K \nU.S. Amazon Link: https://amzn.to/48lbPc3 \nFebruary we are meeting on Cheryl Clark Strategies Channel \nLIVE stream: https://www.tiktok.com/@clarkstrategies \nJoin us live.. grow your reach and exposure on TikTok with us!
URL:https://strategicbusinesshub.com/event/book-club-on-tiktok-live-22/
LOCATION:TIKTOK LIVE
END:VEVENT
BEGIN:VEVENT
DTSTART;TZID=America/New_York:20250205T120000
DTEND;TZID=America/New_York:20250205T130000
DTSTAMP:20260424T195402
CREATED:20250117T204522Z
LAST-MODIFIED:20250117T205351Z
UID:932-1738756800-1738760400@strategicbusinesshub.com
SUMMARY:February 60 Minute Class - REELS!  Why you need to be incorporating this into your business approach and how!
DESCRIPTION:February 2025\nClass #2 \nREELS! Why you need to be incorporating this into your business approach and how! \nThis class will be taught by: Sandy Latour\nhttps://www.facebook.com/sandylatour \nShe has been in Direct sales for a very long time and her team now does over to 2 million dollars a year in sales. Read that again! \nSandy is also very VERY active in ensuring her own sales are on point! \nHer use of TikTok *video and reels has absolutely BOOSTED HER BUSINESS! \nAn introvert – with:\n60K followers on TikTok channels\n58k on Facebook\n12k on Instagram \n3 Takeaways:\n* An overview of what reels are and WHY you should be incorporating them into your BUSINESS Approach\n* How to get started!\n* What to expect! \nThese classes are MEANT TO BE Affordable\, and accessible to you no matter where you are at in your entrepreneurial journey!\nGet ready for a powerful 2025! \nRegister with Cheryl – team@clarkstrategies.ca $15.00 ONLY
URL:https://strategicbusinesshub.com/event/february-60-minute-class-reels-why-you-need-to-be-incorporating-this-into-your-business-approach-and-how/
LOCATION:ZOOM Online
END:VEVENT
END:VCALENDAR