BEGIN:VCALENDAR
VERSION:2.0
PRODID:-//Strategic Business Hub - ECPv6.15.20//NONSGML v1.0//EN
CALSCALE:GREGORIAN
METHOD:PUBLISH
X-ORIGINAL-URL:https://strategicbusinesshub.com
X-WR-CALDESC:Events for Strategic Business Hub
REFRESH-INTERVAL;VALUE=DURATION:PT1H
X-Robots-Tag:noindex
X-PUBLISHED-TTL:PT1H
BEGIN:VTIMEZONE
TZID:America/New_York
BEGIN:DAYLIGHT
TZOFFSETFROM:-0500
TZOFFSETTO:-0400
TZNAME:EDT
DTSTART:20240310T070000
END:DAYLIGHT
BEGIN:STANDARD
TZOFFSETFROM:-0400
TZOFFSETTO:-0500
TZNAME:EST
DTSTART:20241103T060000
END:STANDARD
BEGIN:DAYLIGHT
TZOFFSETFROM:-0500
TZOFFSETTO:-0400
TZNAME:EDT
DTSTART:20250309T070000
END:DAYLIGHT
BEGIN:STANDARD
TZOFFSETFROM:-0400
TZOFFSETTO:-0500
TZNAME:EST
DTSTART:20251102T060000
END:STANDARD
BEGIN:DAYLIGHT
TZOFFSETFROM:-0500
TZOFFSETTO:-0400
TZNAME:EDT
DTSTART:20260308T070000
END:DAYLIGHT
BEGIN:STANDARD
TZOFFSETFROM:-0400
TZOFFSETTO:-0500
TZNAME:EST
DTSTART:20261101T060000
END:STANDARD
END:VTIMEZONE
BEGIN:VEVENT
DTSTART;TZID=America/New_York:20250108T090000
DTEND;TZID=America/New_York:20250108T103000
DTSTAMP:20260424T213243
CREATED:20241215T220639Z
LAST-MODIFIED:20241215T220848Z
UID:862-1736326800-1736332200@strategicbusinesshub.com
SUMMARY:ZOOM FREE Networking
DESCRIPTION:Topic this week:Strategic Planning!What is it?What are the steps?Is it important?\n\nJanuary Challenge:Share a quote! Share why you picked that quote or what it means to you!\n\nNetworking and Growth!Every week a different topic of Discussion!\n\nRound Table Mastermind and sharing!\n\nOur January Sponsor is:Angela Woppman owner of Afterburn Workouts!\nConnect with Angela here:https://www.facebook.com/awoppman\n\nCompany.Follow her page: https://www.facebook.com/aftrburnworkouts\n\nZoom Link:\n9 a.m. EasternZoom: https://us02web.zoom.us/j/9055151512Passcode: 111111\n\nNo Membership EVER!FREE!\nNot Exclusive – but Inclusive – EVERYONE is invited!Networking with a difference!\n\nBuilding Community!
URL:https://strategicbusinesshub.com/event/zoom-free-networking-21/
LOCATION:ZOOM Online
END:VEVENT
BEGIN:VEVENT
DTSTART;TZID=America/New_York:20250108T103000
DTEND;TZID=America/New_York:20250108T110000
DTSTAMP:20260424T213243
CREATED:20241215T223958Z
LAST-MODIFIED:20241215T223958Z
UID:871-1736332200-1736334000@strategicbusinesshub.com
SUMMARY:BOOK Club on TikTok Live
DESCRIPTION:Join Cheryl and Suzy as they go LIVE on TikTok to discuss the book of the month! \nJanuary 2025 \nWe are currently reading: \nTraction – Get a grip on your business.\nBy: Gino Wickman \nCanadian Amazon: https://amzn.to/3Ag68zf \nU.S. Amazon Link: https://amzn.to/4he2lmP \nJanuary we are meeting on Suzy’s Roots & Boots Channel \nLIVE stream: https://www.tiktok.com/@rootsandbootssuzyrawlins \nJoin us live.. grow your reach and exposure on TikTok with us!
URL:https://strategicbusinesshub.com/event/book-club-on-tiktok-live-18/
LOCATION:TIKTOK LIVE
END:VEVENT
BEGIN:VEVENT
DTSTART;TZID=America/New_York:20250108T120000
DTEND;TZID=America/New_York:20250108T130000
DTSTAMP:20260424T213243
CREATED:20241215T225348Z
LAST-MODIFIED:20241215T225348Z
UID:881-1736337600-1736341200@strategicbusinesshub.com
SUMMARY:January 60 Minute Class - A.I. How to use AI in your business as a Neurodivergent Entrepreneur
DESCRIPTION:January 2025\nClass #1\nA.I. Using A.I. for more than just word flow! \nHow to Use AI in Your Business as a Neurodivergent Entrepreneur \nThis class will be taught by: Eden Rookstool\nhttps://www.facebook.com/edenrookstool \nEden is an AI Consultant for ADHD/autistic biz owners!\nHer class will be worth the hour time investment! \n3 Takeaways:\n** Simplify and Streamline Your Business Processes: Learn how to use AI as an accessibility tool to automate repetitive tasks\, reduce overwhelm\, and free up mental space\, enabling neurodivergent entrepreneurs to focus on their creativity and strategic growth. \n**Boost Productivity While Honoring Your Unique Needs: Discover AI tools that align with your work style\, helping you stay consistent and productive without the burnout often experienced by neurodivergent entrepreneurs. \n**Leverage AI for Personalized Support: Explore how AI can act as a virtual assistant\, helping neurodivergent entrepreneurs stay organized\, meet deadlines\, and manage their businesses with greater ease. \nThese classes are MEANT TO BE Affordable\, and accessible to you no matter where you are at in your entrepreneurial journey!\nGet ready for a powerful 2025! \nRegister with Cheryl – team@clarkstrategies.ca $15.00 ONLY
URL:https://strategicbusinesshub.com/event/january-60-minute-class-a-i-how-to-use-ai-in-your-business-as-a-neurodivergent-entrepreneur/
LOCATION:ZOOM Online
END:VEVENT
END:VCALENDAR