BEGIN:VCALENDAR
VERSION:2.0
PRODID:-//Strategic Business Hub - ECPv6.15.20//NONSGML v1.0//EN
CALSCALE:GREGORIAN
METHOD:PUBLISH
X-WR-CALNAME:Strategic Business Hub
X-ORIGINAL-URL:https://strategicbusinesshub.com
X-WR-CALDESC:Events for Strategic Business Hub
REFRESH-INTERVAL;VALUE=DURATION:PT1H
X-Robots-Tag:noindex
X-PUBLISHED-TTL:PT1H
BEGIN:VTIMEZONE
TZID:America/New_York
BEGIN:DAYLIGHT
TZOFFSETFROM:-0500
TZOFFSETTO:-0400
TZNAME:EDT
DTSTART:20230312T070000
END:DAYLIGHT
BEGIN:STANDARD
TZOFFSETFROM:-0400
TZOFFSETTO:-0500
TZNAME:EST
DTSTART:20231105T060000
END:STANDARD
BEGIN:DAYLIGHT
TZOFFSETFROM:-0500
TZOFFSETTO:-0400
TZNAME:EDT
DTSTART:20240310T070000
END:DAYLIGHT
BEGIN:STANDARD
TZOFFSETFROM:-0400
TZOFFSETTO:-0500
TZNAME:EST
DTSTART:20241103T060000
END:STANDARD
BEGIN:DAYLIGHT
TZOFFSETFROM:-0500
TZOFFSETTO:-0400
TZNAME:EDT
DTSTART:20250309T070000
END:DAYLIGHT
BEGIN:STANDARD
TZOFFSETFROM:-0400
TZOFFSETTO:-0500
TZNAME:EST
DTSTART:20251102T060000
END:STANDARD
END:VTIMEZONE
BEGIN:VEVENT
DTSTART;TZID=America/New_York:20240904T120000
DTEND;TZID=America/New_York:20240904T130000
DTSTAMP:20260425T040538
CREATED:20240707T220652Z
LAST-MODIFIED:20240707T220652Z
UID:132-1725451200-1725454800@strategicbusinesshub.com
SUMMARY:Class - Smarter Marketing and Marketing Audits
DESCRIPTION:9th Class for 2024!!\n\nAndre de Almeida from London England will be facilitating the class!(In partnership with Amazingly Virtual).\nhttps://www.facebook.com/amazinglyvirtual\n\nYOUR 3 Takeaways:\nGet a Clear Picture of Your MarketingSpot Hidden Growth PotentialMake Smarter Marketing Decisions\n\nGet a Clear Picture of Your Marketing: A marketing review and audit can help a small business understand what’s working well in your marketing efforts and where you might be missing opportunities. This allows you to make the most of your marketing budget and resources.\nSpot Hidden Growth Potential: It can help uncover new customer segments\, identify underperforming marketing channels\, and refine your messaging to resonate better with your target audience.\nMake Smarter Marketing Decisions: Data is king\, especially for small businesses. It helps you gather and analyze data on your marketing performance.\n\nWorkshop September 4th\, 2024 – 12:00pm ET60 minute class.\n\n$15.00 to attend live or have full access to the recording!!!\nPlease Email:  admin@strategicbusinesshub.com
URL:https://strategicbusinesshub.com/event/class-smarter-marketing-and-marketing-audits/
END:VEVENT
END:VCALENDAR